Workbook
Name ISO3language: [1]Key!$T:$U
Name ISO3language: [1]Key!$T:$U
Name ISO3language: Key!$T:$U
Name myrangeH0: 'Hygiene Data'!$B$1:$K$2
Name myrangeH1: 'Hygiene Data'!$L$1:$U$2
Name myrangeH10: 'Hygiene Data'!$CX$1:$DG$2
Name myrangeH2: 'Hygiene Data'!$V$1:$AE$2
Name myrangeH3: 'Hygiene Data'!$AF$1:$AO$2
Name myrangeH4: 'Hygiene Data'!$AP$1:$AY$2
Name myrangeH5: 'Hygiene Data'!$AZ$1:$BI$2
Name myrangeH6: 'Hygiene Data'!$BJ$1:$BS$2
Name myrangeH7: 'Hygiene Data'!$BT$1:$CC$2
Name myrangeH8: 'Hygiene Data'!$CD$1:$CM$2
Name myrangeH9: 'Hygiene Data'!$CN$1:$CW$2
Name myrangeS0: 'Sanitation Data'!$B$1:$K$2
Name myrangeS1: 'Sanitation Data'!$L$1:$U$2
Name myrangeS10: 'Sanitation Data'!$CX$1:$DG$2
Name myrangeS2: 'Sanitation Data'!$V$1:$AE$2
Name myrangeS3: 'Sanitation Data'!$AF$1:$AO$2
Name myrangeS4: 'Sanitation Data'!$AP$1:$AY$2
Name myrangeS5: 'Sanitation Data'!$AZ$1:$BI$2
Name myrangeS6: 'Sanitation Data'!$BJ$1:$BS$2
Name myrangeS7: 'Sanitation Data'!$BT$1:$CC$2
Name myrangeS8: 'Sanitation Data'!$CD$1:$CM$2
Name myrangeS9: 'Sanitation Data'!$CN$1:$CW$2
Name myrangeW0: 'Water Data'!$B$1:$K$2
Name myrangeW1: 'Water Data'!$L$1:$U$2
Name myrangeW10: 'Water Data'!$CX$1:$DG$2
Name myrangeW2: 'Water Data'!$V$1:$AE$2
Name myrangeW3: 'Water Data'!$AF$1:$AO$2
Name myrangeW4: 'Water Data'!$AP$1:$AY$2
Name myrangeW5: 'Water Data'!$AZ$1:$BI$2
Name myrangeW6: 'Water Data'!$BJ$1:$BS$2
Name myrangeW7: 'Water Data'!$BT$1:$CC$2
Name myrangeW8: 'Water Data'!$CD$1:$CM$2
Name myrangeW9: 'Water Data'!$CN$1:$CW$2
Name nametranslations: [1]Key!$A:$G
Name nametranslations: [1]Key!$A:$G
Name nametranslations: Key!$A:$G
Name RURAL_SANITATION: #REF!
Name RURAL_SANITATION: #REF!
Name RURAL_SANITATION: #REF!
Name RURAL_WATER: #REF!
Name RURAL_WATER: #REF!
Name translationcountries: [1]Key!$M:$U
Name translationcountries: [1]Key!$M:$U
Name translationcountries: Key!$M:$U

Sheet Key
A1: English | B1: Spanish | C1: French | D1: Russian | E1: Arabic | F1: Other | I1: Language | L1: ISO3 | M1: name | N1: name_FR | O1: name_ES | P1: name_RU | Q1: name_AR | R1: name_CH | S1: name_other | T1: ISO3 | U1: Language
A2: Introduction tab glossary | I2: English | L2: ABW | M2: Aruba | N2: Aruba | O2: Aruba | P2: Аруба | Q2: أروبا | T2: ABW | U2: English
A3: Joint Monitoring Programme for Water Supply, Sanitation and Hygiene | B3: Programa Conjunto OMS/UNICEF de Monitoreo del Abastecimiento del Agua, el Saneamiento y la Higiene | C3: Programme commun OMS/UNICEF de suivi de l’approvisionnement en eau, de l’assainissement et de l’hygiène | D3: Совместная программа по мониторингу водоснабжения, санитарии и гигиены (СПМ) | E3: برنامج الرصد المشترك بين منظمة الصحة العالمية واليونيسف إلمدادات المياه والمرافق الصحي | I3: Spanish | L3: AFG | M3: Afghanistan | N3: Afghanistan | O3: Afganistán | P3: Афганистан | Q3: أفغانستان | T3: AFG | U3: English | W3: Introduction!G4 | X3: VLOOKUP(Introduction!$G$8,ISO3language,2,FALSE)
A4: Estimates on water, sanitation, hygiene in schools | B4: Estimaciones sobre servicios de agua, saneamiento, higiene en las escuelas | C4: Estimations sur l'eau, l'assainissement, l'hygiène en milieu scolaire | D4: Расчётные оценки услуг водоснабжения, санитарии, обеспечения средствами гигиены в школах | E4: التقديرات لتقدم في خدمات مياه الشرب والصرف الصحي والنظافة الصحية في المدارس | I4: French | L4: AGO | M4: Angola | N4: Angola | O4: Angola | P4: Ангола | Q4: أنغولا | T4: AGO | U4: French
A5: =+Introduction!C7 -> Timor-Leste | B5: =VLOOKUP($A$5,translationcountries,3,FALSE) -> Timor-Leste | C5: =VLOOKUP($A$5,translationcountries,2,FALSE) -> Timor-Leste | D5: =VLOOKUP($A$5,translationcountries,4,FALSE) -> Тимор-Лешти | E5: =VLOOKUP($A$5,translationcountries,5,FALSE) -> تيمور - ليشتي | F5: =VLOOKUP($A$5,translationcountries,6,FALSE) -> 0 | I5: Russian | L5: AIA | M5: Anguilla | N5: Anguilla | O5: Anguila | P5: Ангилья | Q5: أنغويلا | T5: AIA | U5: English
A6: Updated September 2026 | B6: Actualizado en septiembre de 2026 | C6: Mis à jour en septembre 2026 | D6: Обновлено в сентябре 2026 года | E6: تم التحديث في سبتمبر 2026 | I6: Arabic | L6: ALA | M6: Åland Islands | N6: Îles d’Åland | O6: Islas Åland | P6: Аландских островов | Q6: جزر ألاند | T6: ALA | U6: English
A7: Follow the links below to find the following information: | B7: Siga los enlaces a continuación para encontrar la siguiente información: | C7: Suivez les liens ci-dessous pour trouver les informations suivantes : | D7: Для нахождения следующей информации используйте указанные ниже ссылки: | E7: اتبع الروابط أدناه للعثور على المعلومات التالية: | I7: Other | L7: ALB | M7: Albania | N7: Albanie | O7: Albania | P7: Албания | Q7: ألبانيا | T7: ALB | U7: English | X7: {=CELL("filename")} -> C:\Users\johnstonr\WHOUNICEF Dropbox\WHOUNICEF Team Folder\Schools\2026 Report\Country files\Country files multilingual\Country files v09\[JMP_2026_WinS_TLS_Timor_Leste.xlsx]Introduction
A8: JMP Estimates: | B8: Estimaciones de JMP: | C8: Estimations JMP : | D8: Расчётные оценки СПМ: | E8: تقديرات JMP: | L8: AND | M8: Andorra | N8: Andorre | O8: Andorra | P8: Андорра | Q8: أندورا | T8: AND | U8: French | X8: =IFERROR(MID(X7,FIND(CHAR(1),SUBSTITUTE(X7,"\",CHAR(1),LEN(X7)-LEN(SUBSTITUTE(X7,"\",""))))+1,FIND(CHAR(1),SUBSTITUTE(X7,".",CHAR(1),LEN(X7)-LEN(SUBSTITUTE(X7,".",""))))-FIND(CHAR(1),SUBSTITUTE(X7,"\",CHAR(1),LEN(X7)-LEN(SUBSTITUTE(X7,"\",""))))-1),"") -> [JMP_2026_WinS_TLS_Timor_Leste
A9: WASH ladders for schools | B9: Escaleras WASH para las escuelas | C9: Échelles WASH en milieu scolaire | D9: Иерархические лестницы услуг WASH для школ | E9: سلالم المياه والصرف الصحي للمدارس | L9: ARE | M9: United Arab Emirates | N9: Émirats arabes unis | O9: Emiratos Árabes Unidos | P9: Объединенные Арабские Эмираты | Q9: الإمارات العربية المتحدة | T9: ARE | U9: Arabic | X9: Template
A10: Trends in basic WASH in schools | B10: Tendencias en WASH básico en las escuelas | C10: Tendances : services de base WASH en milieu scolaire | D10: Тенденции в базовых уровнях WASH в школах | E10: الاتجاهات الأساسية في مجال المياه والصرف الصحي والنظافة الصحية في المدارس | I10: Buttons | L10: ARG | M10: Argentina | N10: Argentine | O10: Argentina | P10: Аргентина | Q10: الأرجنتين | T10: ARG | U10: Spanish | W10: countryname | X10: IF($G$4="English",VLOOKUP($G$8,Key!$L$2:$S$247,2,FALSE),IF($G$4="Spanish",VLOOKUP($G$8,Key!$L$2:$S$247,4,FALSE),IF($G$4="French",VLOOKUP($G$8,Key!$L$2:$S$247,3,FALSE),IF($G$4="Russian",VLOOKUP($G$8,Key!$L$2:$S$247,5,FALSE),IF($G$4="Arabic",VLOOKUP($G$8,Key!$L$2:$S$247,5,FALSE),IF($G$4="Chinese",VLOOKUP($G$8,Key!$L$2:$S$247,6,FALSE),IF($G$4="Other",VLOOKUP($G$8,Key!$L$2:$S$247,7,FALSE))))))))
A11: Estimates (2000-2025) for schools | B11: Estimaciones (2000-2025) para las escuelas | C11: Estimations (2000-2025) en milieu scolaire | D11: Расчётные оценки (2000-2025 гг.) для школ | E11: تقديرات (2000 - 2025) للمدارس | I11: =HLOOKUP(Introduction!$G$4,nametranslations,18,FALSE) -> Notes on how to read the country file | L11: ARM | M11: Armenia | N11: Arménie | O11: Armenia | P11: Армения | Q11: أرمينيا | T11: ARM | U11: English
A12: Data inputs: | B12: Entradas de datos: | C12: Entrées de données : | D12: Наборы входных данных: | E12: مدخلات البيانات: | I12: =HLOOKUP(Introduction!$G$4,nametranslations,24,FALSE) -> Total | L12: ASM | M12: American Samoa | N12: Samoa américaines | O12: Samoa Americana | P12: Американское Самоа | Q12: ساموا الأمريكية | T12: ASM | U12: English | W12: iso3 | X12: MID(A2,A3+1,3) | Z12: where A2=cell("filename") | AC12: A3=FIND("~",SUBSTITUTE(A2,"_","~",3)) | AH12: {=MID(CELL("filename"),FIND("~",SUBSTITUTE(CELL("filename"),"_","~",3))+1,3)} -> TLS
A13: Data summary | B13: Resumen de datos | C13: Résumé des données | D13: Перечень данных | E13: ملخص البيانات | I13: =HLOOKUP(Introduction!$G$4,nametranslations,25,FALSE) -> Rural | L13: ATF | M13: French Southern Territories | N13: Terres australes françaises | O13: Territorio de las Tierras Australes Francesas | P13: Южные земли (французская заморская территория) | Q13: الأراضي الفرنسية الجنوبية الجنوبية | T13: ATF | U13: French
A14: Water Data | B14: Datos de agua | C14: Données sur l'eau | D14: Данные о водоснабжении | E14: بيانات المياه | I14: =HLOOKUP(Introduction!$G$4,nametranslations,26,FALSE) -> Urban | L14: ATG | M14: Antigua and Barbuda | N14: Antigua-et-Barbuda | O14: Antigua y Barbuda | P14: Антигуа и Барбуда | Q14: أنتيغوا وبربودا | T14: ATG | U14: English
A15: Sanitation Data | B15: Datos de saneamiento | C15: Données sur l'assainissement | D15: Данные о санитарии | E15: بيانات الصرف الصحي | I15: =HLOOKUP(Introduction!$G$4,nametranslations,27,FALSE) -> Pre-primary | L15: AUS | M15: Australia | N15: Australie | O15: Australia | P15: Австралия | Q15: أستراليا | T15: AUS | U15: English
A16: Hygiene Data | B16: Datos de higiene | C16: Données sur l'hygiène | D16: Данные о средствах гигиены | E16: بيانات النظافة | I16: =HLOOKUP(Introduction!$G$4,nametranslations,28,FALSE) -> Primary | L16: AUT | M16: Austria | N16: Autriche | O16: Austria | P16: Австрия | Q16: النمسا | T16: AUT | U16: English
A17: Population Data | B17: Datos de población | C17: Données démographiques | D17: Данные о численности населения | E17: بيانات السكان | I17: =HLOOKUP(Introduction!$G$4,nametranslations,29,FALSE) -> Secondary | L17: AZE | M17: Azerbaijan | N17: Azerbaïdjan | O17: Azerbaiyán | P17: Азербайджан | Q17: أذربيجان | T17: AZE | U17: English
A18: Notes on how to read the country file | B18: Notas sobre cómo leer el archivo de país | C18: Notes sur la façon de lire le fichier pays | D18: Заметки о том, как читать страновой файл | E18: ملاحظات حول كيفية قراءة ملف الدولة | L18: BDI | M18: Burundi | N18: Burundi | O18: Burundi | P18: Бурунди | Q18: بوروندي | T18: BDI | U18: French
A19: Ladders tab glossary (if not already translated above) | L19: BEL | M19: Belgium | N19: Belgique | O19: Bélgica | P19: Бельгия | Q19: بلجيكا | T19: BEL | U19: French
A20: Water, sanitation and hygiene ladders for schools | B20: Escaleras de agua, saneamiento e higiene para las escuelas | C20: Echelles d'eau, d'assainissement et d'hygiène en milieu scolaire | D20: Иерархические лестницы услуг водоснабжения и санитарии и обеспеченности средствами гигиены для школ | E20: سلالم المياه والصرف الصحي والنظافة للمدارس | L20: BEN | M20: Benin | N20: Bénin | O20: Benin | P20: Бенин | Q20: بنن | T20: BEN | U20: French
A21: Water | B21: Agua | C21: Eau | D21: Водоснабжение | E21: ماء | L21: BES | M21: Bonaire, Sint Eustatius and Saba | N21: Bonaire, Saint-Eustache et Saba | O21: Bonaire, San Eustaquio y Saba | P21: Бонайре, Синт-Эстатиус и Саба | Q21: بونير وسانت يوستاشيوس وسابا | T21: BES | U21: English
A22: Sanitation | B22: Saneamiento | C22: Assainissement | D22: Санитария | E22: الصرف الصحي | L22: BFA | M22: Burkina Faso | N22: Burkina Faso | O22: Burkina Faso | P22: Буркина-Фасо | Q22: بوركينا فاسو | T22: BFA | U22: French
A23: Hygiene | B23: Higiene | C23: Hygiène | D23: Гигиена | E23: صحة | L23: BGD | M23: Bangladesh | N23: Bangladesh | O23: Bangladesh | P23: Бангладеш | Q23: بنغلاديش | T23: BGD | U23: English
A24: Total | B24: Total | C24: Total | D24: Во всей стране | E24: المجموع | I24: Chart titles/ladders | L24: BGR | M24: Bulgaria | N24: Bulgarie | O24: Bulgaria | P24: Болгария | Q24: بلغاريا | T24: BGR | U24: English
A25: Rural | B25: Rural | C25: Rural | D25: Сельские | E25: ريفي | I25: =HLOOKUP(Introduction!$G$4,nametranslations,36,FALSE) -> Proportion of Schools (%) | L25: BHR | M25: Bahrain | N25: Bahreïn | O25: Bahrein | P25: Бахрейн | Q25: البحرين | T25: BHR | U25: Arabic
A26: Urban | B26: Urbano | C26: Urbain | D26: Городские | E26: الحضاري | I26: Total | L26: BHS | M26: Bahamas | N26: Bahamas | O26: Bahamas | P26: Багамские Острова | Q26: جزر البهاما | T26: BHS | U26: English
A27: Pre-primary | B27: Preprimaria | C27: Pré-primaire | D27: Дошкольные учреждения | E27: المرحلة الابتدائية | I27: =HLOOKUP(Introduction!$G$4,nametranslations,25,FALSE) -> Rural | L27: BIH | M27: Bosnia and Herzegovina | N27: Bosnie-Herzégovine | O27: Bosnia y Herzegovina | P27: Босния и Герцеговина | Q27: البوسنة والهرسك | T27: BIH | U27: English
A28: Primary | B28: Primaria | C28: Primaire | D28: Начальные | E28: خبرات | I28: =HLOOKUP(Introduction!$G$4,nametranslations,26,FALSE) -> Urban | L28: BLM | M28: Saint Barthélemy | N28: Saint-Barthélemy | O28: San Barthélemy | P28: Сен-Бартелеми | Q28: سان بارتليمي | T28: BLM | U28: French
A29: Secondary | B29: Secundaria | C29: Secondaire | D29: Средние | E29: ثانوي | I29: =HLOOKUP(Introduction!$G$4,nametranslations,27,FALSE) -> Pre-primary | L29: BLR | M29: Belarus | N29: Bélarus | O29: Belarús | P29: Беларусь | Q29: بيلاروس | T29: BLR | U29: English
A30: Basic service | B30: Servicio básico | C30: Service de base | D30: Базовый уровень услуг | E30: الخدمة الأساسية | I30: =HLOOKUP(Introduction!$G$4,nametranslations,28,FALSE) -> Primary | L30: BLZ | M30: Belize | N30: Belize | O30: Belice | P30: Белиз | Q30: بليز | T30: BLZ | U30: English
A31: Limited service | B31: Servicio limitado | C31: Service limité | D31: Ограниченный уровень | E31: خدمة محدودة | I31: =HLOOKUP(Introduction!$G$4,nametranslations,29,FALSE) -> Secondary | L31: BMU | M31: Bermuda | N31: Bermudes | O31: Bermuda | P31: Бермудские острова | Q31: برمودا | T31: BMU | U31: English
A32: No service | B32: Sin servicio | C32: Pas de service | D32: Отсутствие услуг | E32: لاتوجد خدمة | L32: BOL | M32: Bolivia (Plurinational State of) | N32: Bolivie (État plurinational de) | O32: Bolivia (Estado Plurinacional de) | P32: Боливия (Многонациональное Государство) | Q32: بوليفيا (دولة - المتعددة القوميات) | T32: BOL | U32: Spanish
A33: Insufficient data | B33: Datos insuficientes | C33: Données insuffisantes | D33: Недостаточно данных | E33: البيانات غير كافية | L33: BRA | M33: Brazil | N33: Brésil | O33: Brasil | P33: Бразилия | Q33: البرازيل | T33: BRA | U33: English
A34: Source: WHO/UNICEF JMP (2026) | B34: Fuente: OMS/UNICEF JMP (2026) | C34: Source : OMS/UNICEF JMP (2026) | D34: Источник: СПМ ВОЗ/ЮНИСЕФ (2026 г.) | E34: المصدر: WHO/UNICEF JMP (2024) | L34: BRB | M34: Barbados | N34: Barbade | O34: Barbados | P34: Барбадос | Q34: بربادوس | T34: BRB | U34: English
A35: No basic service estimate available | B35: No hay estimaciones de servicio básico disponible | C35: Aucune estimation de service de base disponible | D35: Оценок базового уровня услуг нет | E35: لا يتوفر تقدير الخدمة الأساسية | L35: BRN | M35: Brunei Darussalam | N35: Brunéi Darussalam | O35: Brunei Darussalam | P35: Бруней-Даруссалам | Q35: بروني دار السلام | T35: BRN | U35: English
A36: Proportion of Schools (%) | B36: Proporción de escuelas (%) | C36: Proportion des écoles (%) | D36: Доля школ (%) | E36: نسبة المدارس (٪) | L36: BTN | M36: Bhutan | N36: Bhoutan | O36: Bhután | P36: Бутан | Q36: بوتان | T36: BTN | U36: English
A37: Charts tab glossary (if not already translated above) | L37: BWA | M37: Botswana | N37: Botswana | O37: Botswana | P37: Ботсвана | Q37: بوتسوانا | T37: BWA | U37: English
A38: Water, sanitation and hygiene services in schools | B38: Servicios de agua, saneamiento e higiene en las escuelas | C38: Services d'eau, d'assainissement et d'hygiène en milieu scolaire | D38: Услуги водоснабжения и санитарии и обеспеченность средствами гигиены в школах | E38: خدمات المياه والصرف الصحي والنظافة في المدارس | L38: CAF | M38: Central African Republic | N38: République centrafricaine | O38: República Centroafricana | P38: Центральноафриканская Республика | Q38: جمهورية أفريقيا الوسطى | T38: CAF | U38: French
A39: Water: total | B39: Agua: total | C39: Eau : total | D39: Вода: всего | E39: الماء: المجموع | L39: CAN | M39: Canada | N39: Canada | O39: Canadá | P39: Канада | Q39: كندا | T39: CAN | U39: English
A40: Water: urban | B40: Agua: urbano | C40: Eau : urbain | D40: Водоснабжение: городские | E40: المياه: حضرية | L40: CCK | M40: Cocos (Keeling) Islands | N40: Îles des Cocos (Keeling) | O40: Islas Cocos (Keeling) | P40: Кокосовых (Килинг) островов | Q40: جزر كوكس (كيلينغ) | T40: CCK | U40: English
A41: Water: rural | B41: Agua: rural | C41: Eau : rural | D41: Водоснабжение: сельские | E41: المياه: ريفية | L41: CHE | M41: Switzerland | N41: Suisse | O41: Suiza | P41: Швейцария | Q41: سويسرا | T41: CHE | U41: French
A42: Water: pre-primary | B42: Agua: preprimaria | C42: Eau : pré-primaire | D42: Водоснабжение: дошкольные учреждения | E42: الماء: المرحلة الابتدائية | L42: CHI | M42: Channel Islands | N42: Islas del Canal | O42: Îles anglo-normandes | P42: Нормандские острова | Q42: جزر القناة | T42: CHI | U42: English
A43: Water: primary | B43: Agua: primaria | C43: Eau : primaire | D43: Водоснабжение: начальные | E43: الماء: أساسي | L43: CHL | M43: Chile | N43: Chili | O43: Chile | P43: Чили | Q43: شيلي | T43: CHL | U43: Spanish
A44: Water: secondary | B44: Agua: secundaria | C44: Eau : secondaire | D44: Водоснабжение: средние | E44: الماء: ثانوي | L44: CHN | M44: China | N44: Chine | O44: China | P44: Китай | Q44: الصين | T44: CHN | U44: English
A45: Sanitation: total | B45: Saneamiento: total | C45: Assainissement : total | D45: Санитария: всего | E45: الصرف الصحي: الإجمالي | I45: Chart legenda | L45: CIV | M45: Côte d’Ivoire | N45: Côte d’Ivoire | O45: Côte d’Ivoire | P45: Кот-д'Ивуар | Q45: كوت ديفوار | T45: CIV | U45: French
A46: Sanitation: urban | B46: Saneamiento: urbano | C46: Assainissement : urbain | D46: Санитария: городские | E46: الصرف الصحي: حضري | I46: =HLOOKUP(Introduction!$G$4,nametranslations,30,FALSE) -> Basic service | L46: CMR | M46: Cameroon | N46: Cameroun | O46: Camerún | P46: Камерун | Q46: الكاميرون | T46: CMR | U46: French
A47: Sanitation: rural | B47: Saneamiento: rural | C47: Assainissement : rural | D47: Санитария: сельские | E47: الصرف الصحي: ريفي | I47: =HLOOKUP(Introduction!$G$4,nametranslations,31,FALSE) -> Limited service | L47: COD | M47: Democratic Republic of the Congo | N47: République démocratique du Congo | O47: República Democrática del Congo | P47: Демократическая Республика Конго | Q47: جمهورية الكونغو الديمقراطية | T47: COD | U47: French
A48: Sanitation: pre-primary | B48: Saneamiento: preprimaria | C48: Assainissement : pré-primaire | D48: Санитария: дошкольные учреждения | E48: الصرف الصحي: المرحلة الابتدائية | I48: =HLOOKUP(Introduction!$G$4,nametranslations,32,FALSE) -> No service | L48: COG | M48: Congo | N48: Congo | O48: Congo | P48: Конго | Q48: الكونغو | T48: COG | U48: French
A49: Sanitation: primary | B49: Saneamiento: primaria | C49: Assainissement : primaire | D49: Санитария: начальные | E49: الصرف الصحي: أساسي | I49: =HLOOKUP(Introduction!$G$4,nametranslations,33,FALSE) -> Insufficient data | L49: COK | M49: Cook Islands | N49: Îles Cook | O49: Islas Cook | P49: Острова Кука | Q49: جزر كوك | T49: COK | U49: English
A50: Sanitation: secondary | B50: Saneamiento: secundaria | C50: Assainissement : secondaire | D50: Санитария: средние | E50: الصرف الصحي: ثانوي | I50: =HLOOKUP(Introduction!$G$4,nametranslations,59,FALSE) -> Improved estimates | L50: COL | M50: Colombia | N50: Colombie | O50: Colombia | P50: Колумбия | Q50: كولومبيا | T50: COL | U50: Spanish
A51: Hygiene: total | B51: Higiene: total | C51: Hygiène : total | D51: Гигиена: общая | E51: النظافة: المجموع | I51: =HLOOKUP(Introduction!$G$4,nametranslations,60,FALSE) -> Improved datapoints | L51: COM | M51: Comoros | N51: Comores | O51: Comoras | P51: Коморские Острова | Q51: جزر القمر | T51: COM | U51: French
A52: Hygiene: urban | B52: Higiene: urbano | C52: Hygiène : urbain | D52: Средства гигиены: городские | E52: النظافة: حضري | I52: =HLOOKUP(Introduction!$G$4,nametranslations,61,FALSE) -> Basic estimates | L52: CPV | M52: Cabo Verde | N52: Cabo Verde | O52: Cabo Verde | P52: Кабо-Верде | Q52: كابو فيردي | T52: CPV | U52: French
A53: Hygiene: rural | B53: Higiene: rural | C53: Hygiène : rural | D53: Средства гигиены: сельские | E53: النظافة: ريفية | I53: =HLOOKUP(Introduction!$G$4,nametranslations,62,FALSE) -> Basic datapoints | L53: CRI | M53: Costa Rica | N53: Costa Rica | O53: Costa Rica | P53: Коста-Рика | Q53: كوستاريكا | T53: CRI | U53: Spanish
A54: Hygiene: pre-primary | B54: Higiene: preprimaria | C54: Hygiène : pré-primaire | D54: Средства гигиены: дошкольные учреждения | E54: النظافة: ما قبل الابتدائي | I54: =HLOOKUP(Introduction!$G$4,nametranslations,63,FALSE) -> With water estimates | L54: CUB | M54: Cuba | N54: Cuba | O54: Cuba | P54: Куба | Q54: كوبا | T54: CUB | U54: Spanish
A55: Hygiene: primary | B55: Higiene: primaria | C55: Hygiène : primaire | D55: Средства гигиены: начальные | E55: النظافة: أولية | I55: =HLOOKUP(Introduction!$G$4,nametranslations,64,FALSE) -> With water datapoints | L55: CUW | M55: Curaçao | N55: Curaçao | O55: Curazao | P55: Кюрасао | Q55: كوراساو | T55: CUW | U55: English
A56: Hygiene: secondary | B56: Higiene: secundaria | C56: Hygiène : secondaire | D56: Средства гигиены: средние | E56: النظافة: ثانوية | I56: =HLOOKUP(Introduction!$G$4,nametranslations,57,FALSE) -> Facility estimates | L56: CXR | M56: Christmas Island | N56: Île Christmas | O56: Isla Christmas | P56: остров Рождества | Q56: جزيرة عيد الميلاد | T56: CXR | U56: English
A57: Facility estimates | B57: Estimaciones: instalaciónes | C57: Estimations : installations | D57: Оценки приспособлений | E57: تقديرات المنشأة | I57: =HLOOKUP(Introduction!$G$4,nametranslations,58,FALSE) -> Facility datapoints | L57: CZE | M57: Czechia | N57: Tchéquie | O57: Chequia | P57: Чехия | Q57: تشيكيا | T57: CZE | U57: English
A58: Facility datapoints | B58: Puntos de datos: instalaciónes | C58: Points de données : installations | D58: Точки данных о приспособлениях | E58: نقاط بيانات المنشأة | I58: =HLOOKUP(Introduction!$G$4,nametranslations,59,FALSE) -> Improved estimates | L58: DEU | M58: Germany | N58: Allemagne | O58: Alemania | P58: Германия | Q58: ألمانيا | T58: DEU | U58: English
A59: Improved estimates | B59: Estimaciones: mejoradas | C59: Estimations : améliorée | D59: Оценки наличия улучшенных | E59: تقديرات محسنة | I59: =HLOOKUP(Introduction!$G$4,nametranslations,60,FALSE) -> Improved datapoints | L59: DJI | M59: Djibouti | N59: Djibouti | O59: Djibouti | P59: Джибути | Q59: جيبوتي | T59: DJI | U59: Arabic
A60: Improved datapoints | B60: Puntos de datos: mejorados | C60: Points de données : améliorées | D60: Точки данных о наличии улучшенных | E60: تحسين نقاط البيانات | I60: =HLOOKUP(Introduction!$G$4,nametranslations,61,FALSE) -> Basic estimates | L60: DMA | M60: Dominica | N60: Dominique | O60: Dominica | P60: Доминика | Q60: دومينيكا | T60: DMA | U60: English
A61: Basic estimates | B61: Estimaciones: básicas | C61: Estimations : de base | D61: Оценки базового уровня | E61: التقديرات الأساسية | I61: =HLOOKUP(Introduction!$G$4,nametranslations,62,FALSE) -> Basic datapoints | L61: DNK | M61: Denmark | N61: Danemark | O61: Dinamarca | P61: Дания | Q61: الدانمرك | T61: DNK | U61: English
A62: Basic datapoints | B62: Puntos de datos: básicos | C62: Points de données : services de base | D62: Точки данных о базовом уровне | E62: نقاط البيانات الأساسية | L62: DOM | M62: Dominican Republic | N62: République dominicaine | O62: República Dominicana | P62: Доминиканская Республика | Q62: الجمهورية الدومينيكية | T62: DOM | U62: Spanish
A63: With water estimates | B63: Estimaciones con agua | C63: Estimations : avec de l'eau | D63: С оценками водоснабжения | E63: مع تقديرات المياه | L63: DZA | M63: Algeria | N63: Algérie | O63: Argelia | P63: Алжир | Q63: الجزائر | T63: DZA | U63: Arabic
A64: With water datapoints | B64: Puntos de datos con agua | C64: Points de données : avec de l'eau | D64: С точками данных о водоснабжении | E64: مع نقاط بيانات المياه | L64: ECU | M64: Ecuador | N64: Équateur | O64: Ecuador | P64: Эквадор | Q64: إكوادور | T64: ECU | U64: Spanish
A65: Estimates tab glossary (if not already translated above) | L65: EGY | M65: Egypt | N65: Égypte | O65: Egipto | P65: Египет | Q65: مصر | T65: EGY | U65: Arabic
A66: Estimates | B66: Estimaciones | C66: Estimations | D66: Оценки | E66: تقديرات | L66: ERI | M66: Eritrea | N66: Érythrée | O66: Eritrea | P66: Эритрея | Q66: إريتريا | T66: ERI | U66: English
A67: School Age Population Source: United Nations Population Division & UNESCO | B67: Población en edad escolar Fuente: División de Población de las Naciones Unidas y UNESCO | C67: Population d'âge scolaire Source : Division de la population des Nations Unies et UNESCO | D67: Численность детей школьного возраста Источник: отдел народонаселения ООН и ЮНЕСКО | E67: السكان في سن المدرسة المصدر: قسم السكان بالأمم المتحدة واليونسكو | L67: ESH | M67: Western Sahara | N67: Sahara occidental | O67: Sáhara Occidental | P67: Западная Сахара | Q67: الصحراء الغربية | T67: ESH | U67: English
A68: Drinking Water (%) | B68: Agua para consumo (%) | C68: Eau de boisson (%) | D68: Питьевое водоснабжение (%) | E68: مياه الشرب (٪) | L68: ESP | M68: Spain | N68: Espagne | O68: España | P68: Испания | Q68: إسبانيا | T68: ESP | U68: Spanish
A69: Sanitation (%) | B69: Saneamiento (%) | C69: Assainissement (%) | D69: Санитария (%) | E69: الصرف الصحي (٪) | L69: EST | M69: Estonia | N69: Estonie | O69: Estonia | P69: Эстония | Q69: إستونيا | T69: EST | U69: English
A70: Hygiene (%) | B70: Higiene (%) | C70: Hygiène (%) | D70: Гигиена (%) | E70: صحة (٪) | L70: ETH | M70: Ethiopia | N70: Éthiopie | O70: Etiopía | P70: Эфиопия | Q70: إثيوبيا | T70: ETH | U70: English
A71: Country | B71: País | C71: Pays | D71: Страна | E71: بلد | I71: Chart titles/ladders | L71: FIN | M71: Finland | N71: Finlande | O71: Finlandia | P71: Финляндия | Q71: فنلندا | T71: FIN | U71: English
A72: Year | B72: Año | C72: Année | D72: Год | E72: عام | H72: 39 | I72: =HLOOKUP(Introduction!$G$4,nametranslations,H72,FALSE) -> Water: total | L72: FJI | M72: Fiji | N72: Fidji | O72: Fiji | P72: Фиджи | Q72: فيجي | T72: FJI | U72: English
A73: Setting | B73: Entorno | C73: Milieu | D73: Тип учреждения | E73: جلسة | H73: 40 | I73: =HLOOKUP(Introduction!$G$4,nametranslations,H73,FALSE) -> Water: urban | L73: FLK | M73: Falkland Islands (Malvinas) | N73: Îles Falkland (Malvinas) | O73: Islas Malvinas (Falkland) | P73: Фолклендские (Мальвинские) острова | Q73: جزر فوكلاند (مالفيناس) | T73: FLK | U73: English
A74: Facility | B74: Instalaciónes | C74: Installation | D74: Приспособление | E74: امكانية | H74: 41 | I74: =HLOOKUP(Introduction!$G$4,nametranslations,H74,FALSE) -> Water: rural | L74: FRA | M74: France | N74: France | O74: Francia | P74: Франция | Q74: فرنسا | T74: FRA | U74: French
A75: Improved | B75: Mejorado | C75: Ameliorée | D75: Улучшенные | E75: محسّن | H75: 42 | I75: =HLOOKUP(Introduction!$G$4,nametranslations,H75,FALSE) -> Water: pre-primary | L75: FRO | M75: Faroe Islands | N75: Îles Féroé | O75: Islas Feroe | P75: Фарерские острова | Q75: جزر فايرو | T75: FRO | U75: English
A76: Basic (improved & available) | B76: Basico (mejorado y disponible) | C76: De base (ameliorée et disponible) | D76: Базовый уровень (улучшенные, имеется в наличии вода) | E76: أساسي (محسن ومتوفر) | H76: 43 | I76: =HLOOKUP(Introduction!$G$4,nametranslations,H76,FALSE) -> Water: primary | L76: FSM | M76: Micronesia (Federated States of) | N76: Micronésie (États fédérés de) | O76: Micronesia (Estados Federados de) | P76: Микронезия (Федеративные Штаты) | Q76: ميكرونيزيا (ولايات - الموحدة) | T76: FSM | U76: English
A77: Limited | B77: Limitado | C77: Limité | D77: Ограниченный уровень | E77: محدود | H77: 44 | I77: =HLOOKUP(Introduction!$G$4,nametranslations,H77,FALSE) -> Water: secondary | L77: GAB | M77: Gabon | N77: Gabon | O77: Gabón | P77: Габон | Q77: غابون | T77: GAB | U77: French
A78: No service | B78: Sin servicio | C78: Pas de service | D78: Отсутствие услуг | E78: لاتوجد خدمة | H78: 45 | I78: =HLOOKUP(Introduction!$G$4,nametranslations,H78,FALSE) -> Sanitation: total | L78: GBR | M78: United Kingdom of Great Britain and Northern Ireland | N78: Royaume-Uni de Grande-Bretagne et d’Irlande du Nord | O78: Reino Unido de Gran Bretaña e Irlanda del Norte | P78: Соединенное Королевство Великобритании и Северной Ирландии | Q78: المملكة المتحدة لبريطانيا العظمى وآيرلندا الشمالية | T78: GBR | U78: English
A79: Basic (improved, usable & single-sex) | B79: Básico (mejorado, utilizable y de un solo sexo) | C79: De base (améliorée, utilisable et non mixte) | D79: Базовый уровень (улучшенные, пригодные для пользования и раздельные для девочек и для мальчиков) | E79: أساسي (محسّن ، صالح للاستخدام ، أحادي الجنس) | H79: 46 | I79: =HLOOKUP(Introduction!$G$4,nametranslations,H79,FALSE) -> Sanitation: urban | L79: GEO | M79: Georgia | N79: Géorgie | O79: Georgia | P79: Грузия | Q79: جورجيا | T79: GEO | U79: English
A80: Facility with water | B80: Instalaciónes con agua | C80: Installation avec de l'eau | D80: Приспособление с водой | E80: مرفق بالماء | H80: 47 | I80: =HLOOKUP(Introduction!$G$4,nametranslations,H80,FALSE) -> Sanitation: rural | L80: GGY | M80: Guernsey | N80: Guernesey | O80: Guernsey | P80: Гернси | Q80: غيرنسي | T80: GGY | U80: English
A81: Basic (facility with water & soap) | B81: Básico (instalación con agua y jabón) | C81: De base (installation avec de l'eau et du savon) | D81: Базовый уровень (приспособление с водой и мылом) | E81: أساسي (مرفق بالماء والصابون) | H81: 48 | I81: =HLOOKUP(Introduction!$G$4,nametranslations,H81,FALSE) -> Sanitation: pre-primary | L81: GHA | M81: Ghana | N81: Ghana | O81: Ghana | P81: Гана | Q81: غانا | T81: GHA | U81: English
A82: Data summary tab glossary (if not already translated above) | H82: 49 | I82: =HLOOKUP(Introduction!$G$4,nametranslations,H82,FALSE) -> Sanitation: primary | L82: GIB | M82: Gibraltar | N82: Gibraltar | O82: Gibraltar | P82: Гибралтар | Q82: جبل طارق | T82: GIB | U82: English
A83: Summary of data from national surveys and censuses | B83: Resumen de datos de encuestas y censos nacionales | C83: Synthèse des données des enquêtes et recensements nationaux | D83: Перечень данных из национальных обследований и переписей населения | E83: ملخص البيانات من المسوحات والتعدادات الوطنية | H83: 50 | I83: =HLOOKUP(Introduction!$G$4,nametranslations,H83,FALSE) -> Sanitation: secondary | L83: GIN | M83: Guinea | N83: Guinée | O83: Guinea | P83: Гвинея | Q83: غينيا | T83: GIN | U83: French
A84: [values in square brackets not used] | B84: [los valores entre corchetes no se utilizan] | C84: [valeurs entre crochets non utilisées] | D84: [величины в квадратных скобках не использовались] | E84: [القيم الموضوعة بين قوسين معقوفين غير مستخدمة] | H84: 51 | I84: =HLOOKUP(Introduction!$G$4,nametranslations,H84,FALSE) -> Hygiene: total | L84: GLP | M84: Guadeloupe | N84: Guadeloupe | O84: Guadalupe | P84: Гваделупа | Q84: غوادلوب | T84: GLP | U84: French
A85: Drinking Water | B85: Agua para consumo | C85: Eau de boisson | D85: Питьевое водоснабжение | E85: مياه الشرب (٪) | H85: 52 | I85: =HLOOKUP(Introduction!$G$4,nametranslations,H85,FALSE) -> Hygiene: urban | L85: GMB | M85: Gambia | N85: Gambie | O85: Gambia | P85: Гамбия | Q85: غامبيا | T85: GMB | U85: English
A86: Sanitation | B86: Saneamiento | C86: Assainissement | D86: Санитария | E86: الصرف الصحي | H86: 53 | I86: =HLOOKUP(Introduction!$G$4,nametranslations,H86,FALSE) -> Hygiene: rural | L86: GNB | M86: Guinea-Bissau | N86: Guinée-Bissau | O86: Guinea-Bissau | P86: Гвинея-Бисау | Q86: غينيا - بيساو | T86: GNB | U86: French
A87: Hygiene | B87: Higiene | C87: Hygiène | D87: Гигиена | E87: صحة | H87: 54 | I87: =HLOOKUP(Introduction!$G$4,nametranslations,H87,FALSE) -> Hygiene: pre-primary | L87: GNQ | M87: Equatorial Guinea | N87: Guinée équatoriale | O87: Guinea Ecuatorial | P87: Экваториальная Гвинея | Q87: غينيا الاستوائية | T87: GNQ | U87: French
A88: Type | B88: Tipo de fuente | C88: Type de source de données | D88: Тип | E88: نوع | H88: 55 | I88: =HLOOKUP(Introduction!$G$4,nametranslations,H88,FALSE) -> Hygiene: primary | L88: GRC | M88: Greece | N88: Grèce | O88: Grecia | P88: Греция | Q88: اليونان | T88: GRC | U88: French
A89: Source | B89: Fuente | C89: Source de données | D89: Источник | E89: مصدر | H89: 56 | I89: =HLOOKUP(Introduction!$G$4,nametranslations,H89,FALSE) -> Hygiene: secondary | L89: GRD | M89: Grenada | N89: Grenade | O89: Granada | P89: Гренада | Q89: غرينادا | T89: GRD | U89: English
A90: Improved & usable | B90: Mejorado y utilizable | C90: Améliorée et utilisable | D90: Улучшенные и пригодные для пользования | E90: محسن وقابل للاستخدام | L90: GRL | M90: Greenland | N90: Groenland | O90: Groenlandia | P90: Гренландия | Q90: غرينلند | T90: GRL | U90: English
A91: Improved & single-sex | B91: Mejorado y de un solo sexo | C91: Améliorée et non mixte | D91: Улучшенные и раздельные для девочек и для мальчиков | E91: محسّن ومخصص للجنس الواحد | L91: GTM | M91: Guatemala | N91: Guatemala | O91: Guatemala | P91: Гватемала | Q91: غواتيمالا | T91: GTM | U91: Spanish
A92: Handwashing facility | B92: Instalación para lavarse las manos | C92: Installation destinée au lavage des mains | D92: Приспособление для мытья рук | E92: مرفق غسيل اليدين | L92: GUF | M92: French Guiana | N92: Guyane française | O92: Guayana Francesa | P92: Французская Гвиана | Q92: غيانا الفرنسية | T92: GUF | U92: French
A93: Handwashing facility with water | B93: Instalación para lavarse las manos con agua | C93: Installation destinée au lavage des mains, avec de l'eau | D93: Приспособление для мытья рук с водой | E93: مرفق غسيل اليدين بالماء | L93: GUM | M93: Guam | N93: Guam | O93: Guam | P93: Гуам | Q93: غوام | T93: GUM | U93: English
A94: EMIS | B94: EMIS | C94: EMIS | D94: ИСУО | E94: EMIS | L94: GUY | M94: Guyana | N94: Guyana | O94: Guyana | P94: Гайана | Q94: غيانا | T94: GUY | U94: English
A95: Survey | B95: Encuesta | C95: Enquête | D95: Обследование | E95: الدراسة الاستقصائية | L95: HKG | M95: China, Hong Kong Special Administrative Region | N95: Chine, région administrative spéciale de Hong Kong | O95: China, región administrativa especial de Hong Kong | P95: Китай, Специальный административный район Гонконг | Q95: الصين، منطقة هونغ كونغ الإدارية الخاصة | T95: HKG | U95: English
A96: Census | B96: Censo | C96: Recensement | D96: Перепись населения | E96: التعداد | L96: HMD | M96: Heard Island and McDonald Islands | N96: Île Heard-et-Îles MacDonald | O96: Islas Heard y McDonald | P96: Остров Херд и острова Макдональд | Q96: جزيرة هيرد وجزر ماكدونالد | T96: HMD | U96: English
A97: Other | B97: Otro | C97: Autre | D97: Другое | E97: آخر | L97: HND | M97: Honduras | N97: Honduras | O97: Honduras | P97: Гондурас | Q97: هندوراس | T97: HND | U97: Spanish
A98: Survey with microdata | B98: Encuesta con microdatos | C98: Enquête avec microdonnées | D98: Обследование с микроданными | E98: المسح باستخدام البيانات الجزئية | L98: HRV | M98: Croatia | N98: Croatie | O98: Croacia | P98: Хорватия | Q98: كرواتيا | T98: HRV | U98: English
A99: Admin | B99: Admin | C99: Admin | D99: Административная отчётность | E99: إداري | L99: HTI | M99: Haiti | N99: Haïti | O99: Haití | P99: Гаити | Q99: هايتي | T99: HTI | U99: French
A100: Input tabs glossary (if not already translated above) | L100: HUN | M100: Hungary | N100: Hongrie | O100: Hungría | P100: Венгрия | Q100: هنغاريا | T100: HUN | U100: English
...

Sheet Introduction
G3: Choose language
C4: =HLOOKUP(Introduction!$G$4,Key!A:G,3,FALSE) -> Joint Monitoring Programme for Water Supply, Sanitation and Hygiene | G4: =+VLOOKUP(Introduction!$G$8,ISO3language,2,FALSE) -> English
C6: =HLOOKUP(Introduction!$G$4,Key!A:G,4,FALSE) -> Estimates on water, sanitation, hygiene in schools
C7: =IF($G$4="English",VLOOKUP($G$8,Key!$L$2:$S$247,2,FALSE),IF($G$4="Spanish",VLOOKUP($G$8,Key!$L$2:$S$247,4,FALSE),IF($G$4="French",VLOOKUP($G$8,Key!$L$2:$S$247,3,FALSE),IF($G$4="Russian",VLOOKUP($G$8,Key!$L$2:$S$247,5,FALSE),IF($G$4="Arabic",VLOOKUP($G$8,Key!$L$2:$S$247,6,FALSE),IF($G$4="Other",VLOOKUP($G$8,Key!$L$2:$S$247,7,FALSE))))))) -> Timor-Leste | G7: ISO3 CODE
G8: TLS
C9: =HLOOKUP(Introduction!$G$4,Key!A:G,6,FALSE) -> Updated September 2026
C11: =HLOOKUP(Introduction!$G$4,Key!A:G,7,FALSE) -> Follow the links below to find the following information:
C13: =HLOOKUP(Introduction!$G$4,Key!A:G,8,FALSE) -> JMP Estimates:
C14: =HLOOKUP(Introduction!$G$4,Key!A:G,9,FALSE) -> WASH ladders for schools
C15: =HLOOKUP(Introduction!$G$4,Key!A:G,10,FALSE) -> Trends in basic WASH in schools
C16: =HLOOKUP(Introduction!$G$4,Key!A:G,11,FALSE) -> Estimates (2000-2025) for schools
C18: =HLOOKUP(Introduction!$G$4,Key!A:G,12,FALSE) -> Data inputs:
C19: =HLOOKUP(Introduction!$G$4,Key!A:G,13,FALSE) -> Data summary
C20: =HLOOKUP(Introduction!$G$4,Key!A:G,14,FALSE) -> Water Data
C21: =HLOOKUP(Introduction!$G$4,Key!A:G,15,FALSE) -> Sanitation Data
C22: =HLOOKUP(Introduction!$G$4,Key!A:G,16,FALSE) -> Hygiene Data
C23: =HLOOKUP(Introduction!$G$4,Key!A:G,17,FALSE) -> Population Data
L46: =+IF(ISNUMBER(M39), "", "Insufficient data to estimate safely managed sanitation services at national level") -> Insufficient data to estimate safely managed sanitation services at national level

Sheet Regressions
A1: Ladders
A2: Drinking water | J2: Sanitation | S2: Hygiene
B3: Year | C3: National | D3: Rural | E3: Urban | F3: Pre-Primary | G3: Primary | H3: Secondary | K3: Year | L3: National | M3: Rural | N3: Urban | O3: Pre-Primary | P3: Primary | Q3: Secondary | T3: Year | U3: National | V3: Rural | W3: Urban | X3: Pre-Primary | Y3: Primary | Z3: Secondary
A4: Basic service | B4: 2025 | C4: 92.892453 | G4: 93.692617 | H4: 91.255098 | J4: Basic service | K4: 2019 | L4: 37.924875 | P4: 37.288365 | Q4: 42.577551 | S4: Basic service | T4: 2025 | U4: 85.954763 | Y4: 100 | Z4: 60.243171
A5: Limited service | B5: 2025 | J5: Limited service | K5: 2019 | L5: 28.261097 | P5: 28.825786 | Q5: 35.236735 | S5: Limited service | T5: 2025
A6: No service | B6: 2025 | J6: No service | K6: 2019 | L6: 33.814027 | P6: 33.885849 | Q6: 22.185714 | S6: No service | T6: 2025
A7: Insufficient data | B7: 2025 | C7: 7.1075474 | D7: 100 | E7: 100 | F7: 100 | G7: 6.3073829 | H7: 8.7449023 | J7: Insufficient data | K7: 2019 | L7: 0 | M7: 100 | N7: 100 | O7: 100 | P7: 0 | Q7: 0 | S7: Insufficient data | T7: 2025 | U7: 14.045237 | V7: 100 | W7: 100 | X7: 100 | Y7: 0 | Z7: 39.756829
T8: 2023 | U8: 1 | V8: 2 | W8: 3 | X8: 4 | Y8: 5 | Z8: 6
A12: Estimates (based on data summary tab)
A13: country | B13: year | C13: setting | D13: pop_ | E13: wat_fac_ | F13: wat_imp_ | G13: wat_bas_ | H13: wat_lim_ | I13: wat_none_ | J13: wat_nd_ | K13: san_fac_ | L13: san_imp_ | M13: san_bas_ | N13: san_lim_ | O13: san_none_ | P13: san_nd_ | Q13: hyg_fac_ | R13: hyg_wat_ | S13: hyg_bas_ | T13: hyg_lim_ | U13: hyg_none_ | V13: hyg_nd_
A14: Timor-Leste | B14: 2000 | C14: National | J14: 100 | P14: 100 | V14: 100
A15: Timor-Leste | B15: 2001 | C15: National | J15: 100 | P15: 100 | V15: 100
A16: Timor-Leste | B16: 2002 | C16: National | D16: 300980 | J16: 100 | P16: 100 | V16: 100
A17: Timor-Leste | B17: 2003 | C17: National | D17: 321723 | J17: 100 | P17: 100 | V17: 100
A18: Timor-Leste | B18: 2004 | C18: National | D18: 326117 | E18: 62.826101 | F18: 52.922092 | I18: 47.077908 | J18: 52.922092 | P18: 100 | V18: 100
A19: Timor-Leste | B19: 2005 | C19: National | D19: 329481 | E19: 62.826101 | F19: 52.922092 | I19: 47.077908 | J19: 52.922092 | P19: 100 | V19: 100
A20: Timor-Leste | B20: 2006 | C20: National | D20: 341362 | E20: 62.826101 | F20: 52.922092 | G20: 50.657063 | H20: 2.2650297 | I20: 47.077908 | J20: 0 | K20: 93.644162 | L20: 66.185973 | M20: 37.924875 | N20: 28.261097 | O20: 33.814027 | P20: 0 | V20: 100
A21: Timor-Leste | B21: 2007 | C21: National | D21: 353859 | E21: 62.826101 | F21: 52.922092 | G21: 50.657063 | H21: 2.2650297 | I21: 47.077908 | J21: 0 | K21: 93.644162 | L21: 66.185973 | M21: 37.924875 | N21: 28.261097 | O21: 33.814027 | P21: 0 | V21: 100
A22: Timor-Leste | B22: 2008 | C22: National | D22: 366743 | E22: 62.826101 | F22: 52.922092 | G22: 50.657063 | H22: 2.2650297 | I22: 47.077908 | J22: 0 | K22: 93.644162 | L22: 66.185973 | M22: 37.924875 | N22: 28.261097 | O22: 33.814027 | P22: 0 | V22: 100
A23: Timor-Leste | B23: 2009 | C23: National | D23: 379926 | E23: 64.878262 | F23: 55.453101 | G23: 50.657063 | H23: 4.7960387 | I23: 44.546899 | J23: 0 | K23: 93.644162 | L23: 66.185973 | M23: 37.924875 | N23: 28.261097 | O23: 33.814027 | P23: 0 | V23: 100
A24: Timor-Leste | B24: 2010 | C24: National | D24: 392915 | E24: 66.930422 | F24: 57.98411 | G24: 50.657063 | H24: 7.3270477 | I24: 42.01589 | J24: 0 | K24: 93.644162 | L24: 66.185973 | M24: 37.924875 | N24: 28.261097 | O24: 33.814027 | P24: 0 | V24: 100
A25: Timor-Leste | B25: 2011 | C25: National | D25: 403456 | E25: 68.982583 | F25: 60.515119 | G25: 53.472755 | H25: 7.042364 | I25: 39.484881 | J25: 0 | K25: 91.262001 | L25: 66.185973 | M25: 37.924875 | N25: 28.261097 | O25: 33.814027 | P25: 0 | V25: 100
A26: Timor-Leste | B26: 2012 | C26: National | D26: 441932 | E26: 71.034743 | F26: 63.046128 | G26: 56.288448 | H26: 6.7576804 | I26: 36.953872 | J26: 0 | K26: 88.87984 | L26: 66.185973 | M26: 37.924875 | N26: 28.261097 | O26: 33.814027 | P26: 0 | V26: 100
A27: Timor-Leste | B27: 2013 | C27: National | D27: 448892 | E27: 73.086904 | F27: 65.577137 | G27: 59.104141 | H27: 6.4729967 | I27: 34.422863 | J27: 0 | K27: 86.49768 | L27: 66.185973 | M27: 37.924875 | N27: 28.261097 | O27: 33.814027 | P27: 0 | S27: 58.97831 | V27: 41.02169
A28: Timor-Leste | B28: 2014 | C28: National | D28: 456268 | E28: 75.139065 | F28: 68.108146 | G28: 61.919833 | H28: 6.188313 | I28: 31.891854 | J28: 0 | K28: 84.115519 | L28: 66.185973 | M28: 37.924875 | N28: 28.261097 | O28: 33.814027 | P28: 0 | S28: 58.97831 | V28: 41.02169
A29: Timor-Leste | B29: 2015 | C29: National | D29: 462436 | E29: 77.191225 | F29: 70.639155 | G29: 64.735526 | H29: 5.9036294 | I29: 29.360845 | J29: 0 | K29: 81.733358 | L29: 66.185973 | M29: 37.924875 | N29: 28.261097 | O29: 33.814027 | P29: 0 | S29: 58.97831 | V29: 41.02169
A30: Timor-Leste | B30: 2016 | C30: National | D30: 465475 | E30: 79.243386 | F30: 73.170164 | G30: 67.551219 | H30: 5.6189457 | I30: 26.829836 | J30: 0 | K30: 79.351197 | L30: 66.185973 | M30: 37.924875 | N30: 28.261097 | O30: 33.814027 | P30: 0 | S30: 58.97831 | V30: 41.02169
A31: Timor-Leste | B31: 2017 | C31: National | D31: 466029 | E31: 81.295546 | F31: 73.170164 | G31: 70.366911 | H31: 2.8032531 | I31: 26.829836 | J31: 0 | K31: 76.969037 | L31: 66.185973 | M31: 37.924875 | N31: 28.261097 | O31: 33.814027 | P31: 0 | S31: 58.97831 | V31: 41.02169
A32: Timor-Leste | B32: 2018 | C32: National | D32: 467314 | E32: 83.347707 | F32: 73.170164 | G32: 73.170164 | H32: 0 | I32: 26.829836 | J32: 0 | K32: 74.586876 | L32: 66.185973 | M32: 37.924875 | N32: 28.261097 | O32: 33.814027 | P32: 0 | S32: 62.350366 | V32: 37.649634
A33: Timor-Leste | B33: 2019 | C33: National | D33: 469596 | E33: 85.399868 | F33: 73.170164 | G33: 73.170164 | H33: 0 | I33: 26.829836 | J33: 0 | K33: 72.204715 | L33: 66.185973 | M33: 37.924875 | N33: 28.261097 | O33: 33.814027 | P33: 0 | S33: 65.722423 | V33: 34.277577
A34: Timor-Leste | B34: 2020 | C34: National | D34: 472124 | E34: 87.452028 | F34: 73.170164 | G34: 73.170164 | H34: 0 | I34: 26.829836 | J34: 0 | K34: 69.822554 | P34: 100 | S34: 69.094479 | V34: 30.905521
A35: Timor-Leste | B35: 2021 | C35: National | D35: 475330 | E35: 89.504189 | G35: 81.629682 | J35: 18.370318 | K35: 67.440394 | P35: 100 | S35: 72.466536 | V35: 27.533464
A36: Timor-Leste | B36: 2022 | C36: National | D36: 478959 | E36: 91.556349 | G36: 84.445375 | J36: 15.554625 | K36: 65.058233 | P36: 100 | S36: 75.838593 | V36: 24.161407
A37: Timor-Leste | B37: 2023 | C37: National | D37: 479049 | E37: 93.60851 | G37: 87.261067 | J37: 12.738933 | K37: 62.676072 | P37: 100 | S37: 79.210649 | V37: 20.789351
A38: Timor-Leste | B38: 2024 | C38: National | D38: 477688 | E38: 93.60851 | G38: 90.07676 | J38: 9.9232401 | K38: 62.676072 | P38: 100 | S38: 82.582706 | V38: 17.417294
A39: Timor-Leste | B39: 2025 | C39: National | D39: 527866 | E39: 93.60851 | G39: 92.892453 | J39: 7.1075474 | K39: 62.676072 | P39: 100 | S39: 85.954763 | V39: 14.045237
A40: Timor-Leste | B40: 2026 | C40: National | E40: 93.60851 | G40: 92.892453 | J40: 7.1075474 | K40: 62.676072 | P40: 100 | S40: 85.954763 | V40: 14.045237
A41: Timor-Leste | B41: 2027 | C41: National | E41: 93.60851 | G41: 92.892453 | J41: 7.1075474 | K41: 62.676072 | P41: 100 | S41: 85.954763 | V41: 14.045237
A42: Timor-Leste | B42: 2028 | C42: National | G42: 92.892453 | J42: 7.1075474 | P42: 100 | S42: 85.954763 | V42: 14.045237
A43: Timor-Leste | B43: 2029 | C43: National | G43: 92.892453 | J43: 7.1075474 | P43: 100 | S43: 85.954763 | V43: 14.045237
A44: Timor-Leste | B44: 2030 | C44: National | J44: 100 | P44: 100 | V44: 100
A45: Timor-Leste | B45: 2000 | C45: Urban | J45: 100 | P45: 100 | V45: 100
A46: Timor-Leste | B46: 2001 | C46: Urban | J46: 100 | P46: 100 | V46: 100
A47: Timor-Leste | B47: 2002 | C47: Urban | D47: 75181.794 | J47: 100 | P47: 100 | V47: 100
A48: Timor-Leste | B48: 2003 | C48: Urban | D48: 81534.261 | J48: 100 | P48: 100 | V48: 100
A49: Timor-Leste | B49: 2004 | C49: Urban | D49: 83844.678 | J49: 100 | P49: 100 | V49: 100
A50: Timor-Leste | B50: 2005 | C50: Urban | D50: 85800.148 | J50: 100 | P50: 100 | V50: 100
A51: Timor-Leste | B51: 2006 | C51: Urban | D51: 90030.816 | J51: 100 | P51: 100 | V51: 100
A52: Timor-Leste | B52: 2007 | C52: Urban | D52: 94512.199 | J52: 100 | P52: 100 | V52: 100
A53: Timor-Leste | B53: 2008 | C53: Urban | D53: 99196.648 | J53: 100 | P53: 100 | V53: 100
A54: Timor-Leste | B54: 2009 | C54: Urban | D54: 104057.92 | J54: 100 | P54: 100 | V54: 100
A55: Timor-Leste | B55: 2010 | C55: Urban | D55: 108963.19 | J55: 100 | P55: 100 | V55: 100
A56: Timor-Leste | B56: 2011 | C56: Urban | D56: 113286.41 | J56: 100 | P56: 100 | V56: 100
A57: Timor-Leste | B57: 2012 | C57: Urban | D57: 125632.43 | J57: 100 | P57: 100 | V57: 100
A58: Timor-Leste | B58: 2013 | C58: Urban | D58: 129186.63 | J58: 100 | P58: 100 | V58: 100
... A70: Timor-Leste | B70: 2025 | C70: Urban | D70: 175409.87 | J70: 100 | P70: 100 | V70: 100
A71: Timor-Leste | B71: 2026 | C71: Urban | J71: 100 | P71: 100 | V71: 100
A72: Timor-Leste | B72: 2027 | C72: Urban | J72: 100 | P72: 100 | V72: 100
A73: Timor-Leste | B73: 2028 | C73: Urban | J73: 100 | P73: 100 | V73: 100
A74: Timor-Leste | B74: 2029 | C74: Urban | J74: 100 | P74: 100 | V74: 100
A75: Timor-Leste | B75: 2030 | C75: Urban | J75: 100 | P75: 100 | V75: 100
A76: Timor-Leste | B76: 2000 | C76: Rural | J76: 100 | P76: 100 | V76: 100
A77: Timor-Leste | B77: 2001 | C77: Rural | J77: 100 | P77: 100 | V77: 100
A78: Timor-Leste | B78: 2002 | C78: Rural | D78: 225798.21 | J78: 100 | P78: 100 | V78: 100
A79: Timor-Leste | B79: 2003 | C79: Rural | D79: 240188.74 | J79: 100 | P79: 100 | V79: 100
A80: Timor-Leste | B80: 2004 | C80: Rural | D80: 242272.32 | J80: 100 | P80: 100 | V80: 100
A81: Timor-Leste | B81: 2005 | C81: Rural | D81: 243680.85 | J81: 100 | P81: 100 | V81: 100
A82: Timor-Leste | B82: 2006 | C82: Rural | D82: 251331.18 | J82: 100 | P82: 100 | V82: 100
A83: Timor-Leste | B83: 2007 | C83: Rural | D83: 259346.8 | J83: 100 | P83: 100 | V83: 100
A84: Timor-Leste | B84: 2008 | C84: Rural | D84: 267546.35 | J84: 100 | P84: 100 | V84: 100
A85: Timor-Leste | B85: 2009 | C85: Rural | D85: 275868.08 | J85: 100 | P85: 100 | V85: 100
A86: Timor-Leste | B86: 2010 | C86: Rural | D86: 283951.81 | J86: 100 | P86: 100 | V86: 100
A87: Timor-Leste | B87: 2011 | C87: Rural | D87: 290169.59 | J87: 100 | P87: 100 | V87: 100
A88: Timor-Leste | B88: 2012 | C88: Rural | D88: 316299.57 | J88: 100 | P88: 100 | V88: 100
A89: Timor-Leste | B89: 2013 | C89: Rural | D89: 319705.37 | J89: 100 | P89: 100 | V89: 100
... A101: Timor-Leste | B101: 2025 | C101: Rural | D101: 352456.13 | J101: 100 | P101: 100 | V101: 100
A102: Timor-Leste | B102: 2026 | C102: Rural | J102: 100 | P102: 100 | V102: 100
A103: Timor-Leste | B103: 2027 | C103: Rural | J103: 100 | P103: 100 | V103: 100
A104: Timor-Leste | B104: 2028 | C104: Rural | J104: 100 | P104: 100 | V104: 100
A105: Timor-Leste | B105: 2029 | C105: Rural | J105: 100 | P105: 100 | V105: 100
A106: Timor-Leste | B106: 2030 | C106: Rural | J106: 100 | P106: 100 | V106: 100
A107: Timor-Leste | B107: 2000 | C107: Pre-primary | J107: 100 | P107: 100 | V107: 100
A108: Timor-Leste | B108: 2001 | C108: Pre-primary | J108: 100 | P108: 100 | V108: 100
A109: Timor-Leste | B109: 2002 | C109: Pre-primary | D109: 50167 | J109: 100 | P109: 100 | V109: 100
A110: Timor-Leste | B110: 2003 | C110: Pre-primary | D110: 53877 | J110: 100 | P110: 100 | V110: 100
A111: Timor-Leste | B111: 2004 | C111: Pre-primary | D111: 55458 | J111: 100 | P111: 100 | V111: 100
A112: Timor-Leste | B112: 2005 | C112: Pre-primary | D112: 57055 | J112: 100 | P112: 100 | V112: 100
A113: Timor-Leste | B113: 2006 | C113: Pre-primary | D113: 59267 | J113: 100 | P113: 100 | V113: 100
A114: Timor-Leste | B114: 2007 | C114: Pre-primary | D114: 60980 | E114: 70.053763 | J114: 100 | K114: 85.26264 | P114: 100 | V114: 100
A115: Timor-Leste | B115: 2008 | C115: Pre-primary | D115: 62261 | E115: 70.053763 | J115: 100 | K115: 85.26264 | P115: 100 | V115: 100
A116: Timor-Leste | B116: 2009 | C116: Pre-primary | D116: 63350 | E116: 70.053763 | F116: 67.204301 | G116: 62.365591 | H116: 4.8387097 | I116: 32.795699 | J116: 0 | K116: 85.26264 | L116: 52.564103 | M116: 38.461538 | N116: 14.102564 | O116: 47.435897 | P116: 0 | V116: 100
A117: Timor-Leste | B117: 2010 | C117: Pre-primary | D117: 64589 | E117: 70.053763 | F117: 67.204301 | G117: 62.365591 | H117: 4.8387097 | I117: 32.795699 | J117: 0 | K117: 85.26264 | L117: 52.564103 | M117: 38.461538 | N117: 14.102564 | O117: 47.435897 | P117: 0 | V117: 100
A118: Timor-Leste | B118: 2011 | C118: Pre-primary | D118: 64815 | E118: 70.053763 | F118: 67.204301 | G118: 62.365591 | H118: 4.8387097 | I118: 32.795699 | J118: 0 | K118: 85.26264 | L118: 52.564103 | M118: 38.461538 | N118: 14.102564 | O118: 47.435897 | P118: 0 | V118: 100
A119: Timor-Leste | B119: 2012 | C119: Pre-primary | D119: 94299 | E119: 71.048387 | F119: 67.204301 | G119: 62.365591 | H119: 4.8387097 | I119: 32.795699 | J119: 0 | K119: 80.78132 | L119: 52.564103 | M119: 38.461538 | N119: 14.102564 | O119: 47.435897 | P119: 0 | V119: 100
A120: Timor-Leste | B120: 2013 | C120: Pre-primary | D120: 92777 | E120: 72.043011 | F120: 67.204301 | G120: 62.365591 | H120: 4.8387097 | I120: 32.795699 | J120: 0 | K120: 76.3 | L120: 52.564103 | M120: 38.461538 | N120: 14.102564 | O120: 47.435897 | P120: 0 | V120: 100
A121: Timor-Leste | B121: 2014 | C121: Pre-primary | D121: 92752 | E121: 73.037634 | F121: 67.204301 | G121: 62.365591 | H121: 4.8387097 | I121: 32.795699 | J121: 0 | K121: 71.81868 | L121: 52.564103 | M121: 38.461538 | N121: 14.102564 | O121: 47.435897 | P121: 0 | V121: 100
A122: Timor-Leste | B122: 2015 | C122: Pre-primary | D122: 92971 | E122: 74.032258 | F122: 67.204301 | G122: 62.365591 | H122: 4.8387097 | I122: 32.795699 | J122: 0 | K122: 67.33736 | L122: 52.564103 | M122: 38.461538 | N122: 14.102564 | O122: 47.435897 | P122: 0 | V122: 100
A123: Timor-Leste | B123: 2016 | C123: Pre-primary | D123: 92445 | E123: 75.026882 | F123: 67.204301 | G123: 62.365591 | H123: 4.8387097 | I123: 32.795699 | J123: 0 | K123: 62.856039 | L123: 52.564103 | M123: 38.461538 | N123: 14.102564 | O123: 47.435897 | P123: 0 | V123: 100
A124: Timor-Leste | B124: 2017 | C124: Pre-primary | D124: 91799 | E124: 76.021505 | F124: 67.204301 | G124: 62.365591 | H124: 4.8387097 | I124: 32.795699 | J124: 0 | K124: 58.374719 | L124: 52.564103 | M124: 38.461538 | N124: 14.102564 | O124: 47.435897 | P124: 0 | V124: 100
A125: Timor-Leste | B125: 2018 | C125: Pre-primary | D125: 92442 | E125: 77.016129 | J125: 100 | K125: 53.893399 | P125: 100 | V125: 100
...

Sheet Ladders
A1: =HLOOKUP(Introduction!$G$4,nametranslations,20,FALSE) -> Water, sanitation and hygiene ladders for schools | B1: =HLOOKUP([1]Introduction!$G$4,nametranslations,5,FALSE) -> Timor-Leste | C1: =HLOOKUP([1]Introduction!$G$4,nametranslations,5,FALSE) -> Timor-Leste | D1: =HLOOKUP([1]Introduction!$G$4,nametranslations,5,FALSE) -> Timor-Leste | E1: =HLOOKUP([1]Introduction!$G$4,nametranslations,5,FALSE) -> Timor-Leste | F1: =HLOOKUP([1]Introduction!$G$4,nametranslations,5,FALSE) -> Timor-Leste | G1: =HLOOKUP([1]Introduction!$G$4,nametranslations,5,FALSE) -> Timor-Leste | H1: =HLOOKUP([1]Introduction!$G$4,nametranslations,5,FALSE) -> Timor-Leste | I1: =HLOOKUP([1]Introduction!$G$4,nametranslations,5,FALSE) -> Timor-Leste | ... V1: =HLOOKUP([1]Introduction!$G$4,nametranslations,5,FALSE) -> Timor-Leste
A2: =HLOOKUP([1]Introduction!$G$4,nametranslations,5,FALSE) -> Timor-Leste | B2: =HLOOKUP([1]Introduction!$G$4,nametranslations,5,FALSE) -> Timor-Leste | C2: =HLOOKUP([1]Introduction!$G$4,nametranslations,5,FALSE) -> Timor-Leste | D2: =HLOOKUP([1]Introduction!$G$4,nametranslations,5,FALSE) -> Timor-Leste | E2: =HLOOKUP([1]Introduction!$G$4,nametranslations,5,FALSE) -> Timor-Leste | F2: =HLOOKUP([1]Introduction!$G$4,nametranslations,5,FALSE) -> Timor-Leste | G2: =HLOOKUP([1]Introduction!$G$4,nametranslations,5,FALSE) -> Timor-Leste | H2: =HLOOKUP([1]Introduction!$G$4,nametranslations,5,FALSE) -> Timor-Leste | ... V2: =HLOOKUP([1]Introduction!$G$4,nametranslations,5,FALSE) -> Timor-Leste
B4: =HLOOKUP(Introduction!$G$4,nametranslations,85,FALSE) -> Drinking Water | I4: =HLOOKUP(Introduction!$G$4,nametranslations,22,FALSE) -> Sanitation | P4: =HLOOKUP(Introduction!$G$4,nametranslations,23,FALSE) -> Hygiene
C25: =+IF(OR((C28=Key!$I$26&"*"),(D28=Key!$I$28&"*"),(E28=Key!$I$27&"*"),(F28=Key!$I$29&"*"),(G28=Key!$I$30&"*"),(H28=Key!$I$31&"*"),(C28=Key!$I$26&"*^"),(D28=Key!$I$28&"*^"),(E28=Key!$I$27&"*^"),(F28="*^"),(G28=Key!$I$30&"*^"),(H28=Key!$I$31&"*^")),"*"&HLOOKUP(Introduction!$G$4,nametranslations,35,FALSE),"") -> *No basic service estimate available | J25: =+IF(OR((J28=Key!$I$26&"*"),(K28=Key!$I$28&"*"),(L28=Key!$I$27&"*"),(M28=Key!$I$29&"*"),(N28=Key!$I$30&"*"),(O28=Key!$I$31&"*"),(J28=Key!$I$26&"*^"),(K28=Key!$I$28&"*^"),(L28=Key!$I$27&"*^"),(M28="*^"),(N28=Key!$I$30&"*^"),(O28=Key!$I$31&"*^")),"*"&HLOOKUP(Introduction!$G$4,nametranslations,35,FALSE),"") -> *No basic service estimate available | Q25: =+IF(OR((Q28=Key!$I$26&"*"),(R28=Key!$I$28&"*"),(S28=Key!$I$27&"*"),(T28=Key!$I$29&"*"),(U28=Key!$I$30&"*"),(V28=Key!$I$31&"*"),(Q28=Key!$I$26&"*^"),(R28=Key!$I$28&"*^"),(S28=Key!$I$27&"*^"),(T28="*^"),(U28=Key!$I$30&"*^"),(V28=Key!$I$31&"*^")),"*"&HLOOKUP(Introduction!$G$4,nametranslations,35,FALSE),"") -> *No basic service estimate available
C26: =+IF(OR((C28=Key!$I$26&"*^"),(D28=Key!$I$28&"*^"),(E28=Key!$I$27&"*^"),(F28=Key!$I$29&"*^"),(G28=Key!$I$30&"*^"),(H28=Key!$I$31&"^")),HLOOKUP(Introduction!$G$4,nametranslations,155,FALSE),"") | J26: =+IF(OR((J28=Key!$I$26&"*^"),(K28=Key!$I$28&"*^"),(L28=Key!$I$27&"*^"),(M28=Key!$I$29&"*^"),(N28=Key!$I$30&"*^"),(O28=Key!$I$31&"^")),HLOOKUP(Introduction!$G$4,nametranslations,155,FALSE),"") | Q26: =+IF(OR((Q28=Key!$I$26&"*^"),(R28=Key!$I$28&"*^"),(S28=Key!$I$27&"*^"),(T28=Key!$I$29&"*^"),(U28=Key!$I$30&"*^"),(V28=Key!$I$31&"^")),HLOOKUP(Introduction!$G$4,nametranslations,156,FALSE),"")
B27: =+Introduction!C7 -> Timor-Leste | C27: =HLOOKUP(Introduction!$G$4,nametranslations,21,FALSE) -> Water | D27: =HLOOKUP([1]Introduction!$G$4,nametranslations,21,FALSE) -> Water | E27: =HLOOKUP([1]Introduction!$G$4,nametranslations,21,FALSE) -> Water | F27: =HLOOKUP([1]Introduction!$G$4,nametranslations,21,FALSE) -> Water | G27: =HLOOKUP([1]Introduction!$G$4,nametranslations,21,FALSE) -> Water | H27: =HLOOKUP([1]Introduction!$G$4,nametranslations,21,FALSE) -> Water | I27: =+B27 -> Timor-Leste | J27: =HLOOKUP(Introduction!$G$4,nametranslations,22,FALSE) -> Sanitation | K27: =HLOOKUP([1]Introduction!$G$4,nametranslations,21,FALSE) -> Water | L27: =HLOOKUP([1]Introduction!$G$4,nametranslations,21,FALSE) -> Water | M27: =HLOOKUP([1]Introduction!$G$4,nametranslations,21,FALSE) -> Water | N27: =HLOOKUP([1]Introduction!$G$4,nametranslations,21,FALSE) -> Water | O27: =HLOOKUP([1]Introduction!$G$4,nametranslations,21,FALSE) -> Water | P27: =+B27 -> Timor-Leste | Q27: =HLOOKUP(Introduction!$G$4,nametranslations,23,FALSE) -> Hygiene | R27: =HLOOKUP([1]Introduction!$G$4,nametranslations,21,FALSE) -> Water | S27: =HLOOKUP([1]Introduction!$G$4,nametranslations,21,FALSE) -> Water | T27: =HLOOKUP([1]Introduction!$G$4,nametranslations,21,FALSE) -> Water | U27: =HLOOKUP([1]Introduction!$G$4,nametranslations,21,FALSE) -> Water | V27: =HLOOKUP([1]Introduction!$G$4,nametranslations,21,FALSE) -> Water
C28: =IF(AND(C30=0.0000000001,C31=0.0000000001,C32=0.0000000001), Key!$I$26&"*",IF(AND(C30=0.0000000001,ISNUMBER(C32)),Key!I26&"*", Key!$I$26)) -> Total | D28: =IF(AND(D30=0.0000000001,D31=0.0000000001,D32=0.0000000001), Key!$I$28&"*",IF(AND(D30=0.0000000001,ISNUMBER(D32)),Key!$I$28&"*", Key!$I$28)) -> Urban* | E28: =IF(AND(E30=0.0000000001,E31=0.0000000001,E32=0.0000000001), Key!$I$27&"*",IF(AND(E30=0.0000000001,ISNUMBER(E32)),Key!$I$27&"*", Key!$I$27)) -> Rural* | F28: =IF(AND(F30=0.0000000001,F31=0.0000000001,F32=0.0000000001), Key!$I$29&"*",IF(AND(F30=0.0000000001,ISNUMBER(F32)),Key!$I$29&"*", Key!$I$29)) -> Pre-primary* | G28: =IF(AND(G30=0.0000000001,G31=0.0000000001,G32=0.0000000001), Key!$I$30&"*",IF(AND(G30=0.0000000001,ISNUMBER(G32)),Key!$I$30&"*", Key!$I$30)) -> Primary | H28: =IF(AND(H30=0.0000000001,H31=0.0000000001,H32=0.0000000001), Key!$I$31&"*",IF(AND(H30=0.0000000001,ISNUMBER(H32)),Key!$I$31&"*", Key!$I$31)) -> Secondary | J28: =IF(AND(J30=0.0000000001,J31=0.0000000001,J32=0.0000000001), Key!$I$26&"*",IF(AND(J30=0.0000000001,ISNUMBER(J32)),Key!I26&"*", Key!$I$26)) -> Total | K28: =IF(AND(K30=0.0000000001,K31=0.0000000001,K32=0.0000000001), Key!$I$28&"*",IF(AND(K30=0.0000000001,ISNUMBER(K32)),Key!$I$28&"*", Key!$I$28)) -> Urban* | L28: =IF(AND(L30=0.0000000001,L31=0.0000000001,L32=0.0000000001), Key!$I$27&"*",IF(AND(L30=0.0000000001,ISNUMBER(L32)),Key!$I$27&"*", Key!$I$27)) -> Rural* | M28: =IF(AND(M30=0.0000000001,M31=0.0000000001,M32=0.0000000001), Key!$I$29&"*",IF(AND(M30=0.0000000001,ISNUMBER(M32)),Key!$I$29&"*", Key!$I$29)) -> Pre-primary* | N28: =IF(AND(N30=0.0000000001,N31=0.0000000001,N32=0.0000000001), Key!$I$30&"*",IF(AND(N30=0.0000000001,ISNUMBER(N32)),Key!$I$30&"*", Key!$I$30)) -> Primary | O28: =IF(AND(O30=0.0000000001,O31=0.0000000001,O32=0.0000000001), Key!$I$31&"*",IF(AND(O30=0.0000000001,ISNUMBER(O32)),Key!$I$31&"*", Key!$I$31)) -> Secondary | Q28: =IF(AND(Q30=0.0000000001,Q31=0.0000000001,Q32=0.0000000001), Key!$I$26&"*",IF(AND(Q30=0.0000000001,ISNUMBER(Q32)),Key!I26&"*", Key!$I$26)) -> Total | R28: =IF(AND(R30=0.0000000001,R31=0.0000000001,R32=0.0000000001), Key!$I$28&"*",IF(AND(R30=0.0000000001,ISNUMBER(R32)),Key!$I$28&"*", Key!$I$28)) -> Urban* | S28: =IF(AND(S30=0.0000000001,S31=0.0000000001,S32=0.0000000001), Key!$I$27&"*",IF(AND(S30=0.0000000001,ISNUMBER(S32)),Key!$I$27&"*", Key!$I$27)) -> Rural* | T28: =IF(AND(T30=0.0000000001,T31=0.0000000001,T32=0.0000000001), Key!$I$29&"*",IF(AND(T30=0.0000000001,ISNUMBER(T32)),Key!$I$29&"*", Key!$I$29)) -> Pre-primary* | U28: =IF(AND(U30=0.0000000001,U31=0.0000000001,U32=0.0000000001), Key!$I$30&"*",IF(AND(U30=0.0000000001,ISNUMBER(U32)),Key!$I$30&"*", Key!$I$30)) -> Primary | V28: =IF(AND(V30=0.0000000001,V31=0.0000000001,V32=0.0000000001), Key!$I$31&"*",IF(AND(V30=0.0000000001,ISNUMBER(V32)),Key!$I$31&"*", Key!$I$31)) -> Secondary
C29: =IF(ISNUMBER(Regressions!B4), Regressions!B4, "-") -> 2025 | D29: =C29 -> 2025 | E29: =D29 -> 2025 | F29: =E29 -> 2025 | G29: =F29 -> 2025 | H29: =F29 -> 2025 | J29: =IF(ISNUMBER(Regressions!K4), Regressions!K4, "-") -> 2019 | K29: =J29 -> 2019 | L29: =K29 -> 2019 | M29: =L29 -> 2019 | N29: =M29 -> 2019 | O29: =M29 -> 2019 | Q29: =IF(ISNUMBER(Regressions!T4), Regressions!T4, "-") -> 2025 | R29: =Q29 -> 2025 | S29: =R29 -> 2025 | T29: =S29 -> 2025 | U29: =T29 -> 2025 | V29: =T29 -> 2025
A30: =+Key!I46 -> Basic service | B30: Basic Service | C30: =IF(ISNUMBER(Regressions!C4), Regressions!C4, 0.0000000001) -> 92.892453 | D30: =IF(ISNUMBER(Regressions!D4), Regressions!D4, 0.0000000001) -> 1e-10 | E30: =IF(ISNUMBER(Regressions!E4), Regressions!E4, 0.0000000001) -> 1e-10 | F30: =IF(ISNUMBER(Regressions!F4), Regressions!F4, 0.0000000001) -> 1e-10 | G30: =IF(ISNUMBER(Regressions!G4), Regressions!G4, 0.0000000001) -> 93.692617 | H30: =IF(ISNUMBER(Regressions!H4), Regressions!H4, 0.0000000001) -> 91.255098 | I30: Basic Service | J30: =IF(ISNUMBER(Regressions!L4), Regressions!L4,0.0000000001) -> 37.924875 | K30: =IF(ISNUMBER(Regressions!M4), Regressions!M4,0.0000000001) -> 1e-10 | L30: =IF(ISNUMBER(Regressions!N4), Regressions!N4,0.0000000001) -> 1e-10 | M30: =IF(ISNUMBER(Regressions!O4), Regressions!O4,0.0000000001) -> 1e-10 | N30: =IF(ISNUMBER(Regressions!P4), Regressions!P4,0.0000000001) -> 37.288365 | O30: =IF(ISNUMBER(Regressions!Q4), Regressions!Q4,0.0000000001) -> 42.577551 | P30: Basic Service | Q30: =IF(ISNUMBER(Regressions!U4), Regressions!U4,0.0000000001) -> 85.954763 | R30: =IF(ISNUMBER(Regressions!V4), Regressions!V4,0.0000000001) -> 1e-10 | S30: =IF(ISNUMBER(Regressions!W4), Regressions!W4,0.0000000001) -> 1e-10 | T30: =IF(ISNUMBER(Regressions!X4), Regressions!X4,0.0000000001) -> 1e-10 | U30: =IF(ISNUMBER(Regressions!Y4), Regressions!Y4,0.0000000001) -> 100 | V30: =IF(ISNUMBER(Regressions!Z4), Regressions!Z4,0.0000000001) -> 60.243171
A31: =+Key!I47 -> Limited service | B31: Limited Service | C31: =IF(ISNUMBER(Regressions!C5), Regressions!C5, 0.0000000001) -> 1e-10 | D31: =IF(ISNUMBER(Regressions!D5), Regressions!D5, 0.0000000001) -> 1e-10 | E31: =IF(ISNUMBER(Regressions!E5), Regressions!E5, 0.0000000001) -> 1e-10 | F31: =IF(ISNUMBER(Regressions!F5), Regressions!F5, 0.0000000001) -> 1e-10 | G31: =IF(ISNUMBER(Regressions!G5), Regressions!G5, 0.0000000001) -> 1e-10 | H31: =IF(ISNUMBER(Regressions!H5), Regressions!H5, 0.0000000001) -> 1e-10 | I31: Limited Service | J31: =IF(ISNUMBER(Regressions!L5), Regressions!L5,0.0000000001) -> 28.261097 | K31: =IF(ISNUMBER(Regressions!M5), Regressions!M5,0.0000000001) -> 1e-10 | L31: =IF(ISNUMBER(Regressions!N5), Regressions!N5,0.0000000001) -> 1e-10 | M31: =IF(ISNUMBER(Regressions!O5), Regressions!O5,0.0000000001) -> 1e-10 | N31: =IF(ISNUMBER(Regressions!P5), Regressions!P5,0.0000000001) -> 28.825786 | O31: =IF(ISNUMBER(Regressions!Q5), Regressions!Q5,0.0000000001) -> 35.236735 | P31: Limited Service | Q31: =IF(ISNUMBER(Regressions!U5), Regressions!U5,0.0000000001) -> 1e-10 | R31: =IF(ISNUMBER(Regressions!V5), Regressions!V5,0.0000000001) -> 1e-10 | S31: =IF(ISNUMBER(Regressions!W5), Regressions!W5,0.0000000001) -> 1e-10 | T31: =IF(ISNUMBER(Regressions!X5), Regressions!X5,0.0000000001) -> 1e-10 | U31: =IF(ISNUMBER(Regressions!Y5), Regressions!Y5,0.0000000001) -> 1e-10 | V31: =IF(ISNUMBER(Regressions!Z5), Regressions!Z5,0.0000000001) -> 1e-10
A32: =+Key!I48 -> No service | B32: No Service | C32: =IF(ISNUMBER(Regressions!C6), Regressions!C6, 0.0000000001) -> 1e-10 | D32: =IF(ISNUMBER(Regressions!D6), Regressions!D6, 0.0000000001) -> 1e-10 | E32: =IF(ISNUMBER(Regressions!E6), Regressions!E6, 0.0000000001) -> 1e-10 | F32: =IF(ISNUMBER(Regressions!F6), Regressions!F6, 0.0000000001) -> 1e-10 | G32: =IF(ISNUMBER(Regressions!G6), Regressions!G6, 0.0000000001) -> 1e-10 | H32: =IF(ISNUMBER(Regressions!H6), Regressions!H6, 0.0000000001) -> 1e-10 | I32: No Service | J32: =IF(ISNUMBER(Regressions!L6), Regressions!L6,0.0000000001) -> 33.814027 | K32: =IF(ISNUMBER(Regressions!M6), Regressions!M6,0.0000000001) -> 1e-10 | L32: =IF(ISNUMBER(Regressions!N6), Regressions!N6,0.0000000001) -> 1e-10 | M32: =IF(ISNUMBER(Regressions!O6), Regressions!O6,0.0000000001) -> 1e-10 | N32: =IF(ISNUMBER(Regressions!P6), Regressions!P6,0.0000000001) -> 33.885849 | O32: =IF(ISNUMBER(Regressions!Q6), Regressions!Q6,0.0000000001) -> 22.185714 | P32: No Service | Q32: =IF(ISNUMBER(Regressions!U6), Regressions!U6,0.0000000001) -> 1e-10 | R32: =IF(ISNUMBER(Regressions!V6), Regressions!V6,0.0000000001) -> 1e-10 | S32: =IF(ISNUMBER(Regressions!W6), Regressions!W6,0.0000000001) -> 1e-10 | T32: =IF(ISNUMBER(Regressions!X6), Regressions!X6,0.0000000001) -> 1e-10 | U32: =IF(ISNUMBER(Regressions!Y6), Regressions!Y6,0.0000000001) -> 1e-10 | V32: =IF(ISNUMBER(Regressions!Z6), Regressions!Z6,0.0000000001) -> 1e-10
A33: =+Key!I49 -> Insufficient data | B33: Insufficient Data | C33: =IF(ISNUMBER(Regressions!C7), Regressions!C7, 0.0000000001) -> 7.1075474 | D33: =IF(ISNUMBER(Regressions!D7), Regressions!D7, 0.0000000001) -> 100 | E33: =IF(ISNUMBER(Regressions!E7), Regressions!E7, 0.0000000001) -> 100 | F33: =IF(ISNUMBER(Regressions!F7), Regressions!F7, 0.0000000001) -> 100 | G33: =IF(ISNUMBER(Regressions!G7), Regressions!G7, 0.0000000001) -> 6.3073829 | H33: =IF(ISNUMBER(Regressions!H7), Regressions!H7, 0.0000000001) -> 8.7449023 | I33: Insufficient Data | J33: =IF(ISNUMBER(Regressions!L7), Regressions!L7,0.0000000001) -> 0 | K33: =IF(ISNUMBER(Regressions!M7), Regressions!M7,0.0000000001) -> 100 | L33: =IF(ISNUMBER(Regressions!N7), Regressions!N7,0.0000000001) -> 100 | M33: =IF(ISNUMBER(Regressions!O7), Regressions!O7,0.0000000001) -> 100 | N33: =IF(ISNUMBER(Regressions!P7), Regressions!P7,0.0000000001) -> 0 | O33: =IF(ISNUMBER(Regressions!Q7), Regressions!Q7,0.0000000001) -> 0 | P33: Insufficient Data | Q33: =IF(ISNUMBER(Regressions!U7), Regressions!U7,0.0000000001) -> 14.045237 | R33: =IF(ISNUMBER(Regressions!V7), Regressions!V7,0.0000000001) -> 100 | S33: =IF(ISNUMBER(Regressions!W7), Regressions!W7,0.0000000001) -> 100 | T33: =IF(ISNUMBER(Regressions!X7), Regressions!X7,0.0000000001) -> 100 | U33: =IF(ISNUMBER(Regressions!Y7), Regressions!Y7,0.0000000001) -> 0 | V33: =IF(ISNUMBER(Regressions!Z7), Regressions!Z7,0.0000000001) -> 39.756829
B34: =HLOOKUP(Introduction!$G$4,nametranslations,34,FALSE) -> Source: WHO/UNICEF JMP (2026)
B36: =+Key!I46 -> Basic service | C36: =+HLOOKUP(Introduction!$G$4,Key!A:G,158,FALSE) -> Drinking water from an improved source and water is available at the school at the time of the survey | I36: =+Key!I46 -> Basic service | J36: =+HLOOKUP(Introduction!$G$4,Key!A:G,162,FALSE) -> Improved sanitation facilities at the school that are single-sex and usable (available, functional and private) at the time of the survey | P36: =+Key!I46 -> Basic service | Q36: =+HLOOKUP(Introduction!$G$4,Key!A:G,165,FALSE) -> Handwashing facilities with water and soap available at the school at the time of the survey
B37: =+Key!I47 -> Limited service | C37: =+HLOOKUP(Introduction!$G$4,Key!A:G,159,FALSE) -> Drinking water from an improved source but water is unavailable at the school at the time of the survey | I37: =+Key!I47 -> Limited service | J37: =+HLOOKUP(Introduction!$G$4,Key!A:G,163,FALSE) -> Improved sanitation facilities at the school that are either not single-sex or not usable at the time of the survey | P37: =+Key!I47 -> Limited service | Q37: =+HLOOKUP(Introduction!$G$4,Key!A:G,166,FALSE) -> Handwashing facilities with water but no soap available at the school at the time of the survey
B38: =+Key!I48 -> No service | C38: =+HLOOKUP(Introduction!$G$4,Key!A:G,160,FALSE) -> Drinking water from an unimproved source or no water source at the school | I38: =+Key!I48 -> No service | J38: =+HLOOKUP(Introduction!$G$4,Key!A:G,164,FALSE) -> Unimproved sanitation facilities or no sanitation facilities at the school | P38: =+Key!I48 -> No service | Q38: =+HLOOKUP(Introduction!$G$4,Key!A:G,167,FALSE) -> No handwashing facilities or no water available at the school
B39: =+Key!I49 -> Insufficient data | C39: =+HLOOKUP(Introduction!$G$4,Key!A:G,161,FALSE) -> Insufficient data available to generate estimates for a given reference year | I39: =+Key!I49 -> Insufficient data | J39: =+HLOOKUP(Introduction!$G$4,Key!A:G,161,FALSE) -> Insufficient data available to generate estimates for a given reference year | P39: =+Key!I49 -> Insufficient data | Q39: =+HLOOKUP(Introduction!$G$4,Key!A:G,161,FALSE) -> Insufficient data available to generate estimates for a given reference year

Sheet Charts
A2: =HLOOKUP(Introduction!$G$4,nametranslations,38,FALSE) -> Water, sanitation and hygiene services in schools
A23: =+HLOOKUP(Introduction!$G$4,nametranslations,34,FALSE) -> Source: WHO/UNICEF JMP (2026)
A44: =+HLOOKUP(Introduction!$G$4,nametranslations,34,FALSE) -> Source: WHO/UNICEF JMP (2026)
A65: =+HLOOKUP(Introduction!$G$4,nametranslations,34,FALSE) -> Source: WHO/UNICEF JMP (2026)

Sheet Chart Data
A1: =HLOOKUP(Introduction!$G$4,nametranslations,83,FALSE) -> Summary of data from national surveys and censuses
D2: =HLOOKUP(Introduction!$G$4,nametranslations,85,FALSE) -> Drinking Water | V2: =HLOOKUP(Introduction!$G$4,nametranslations,86,FALSE) -> Sanitation | AZ2: =HLOOKUP(Introduction!$G$4,nametranslations,87,FALSE) -> Hygiene
D3: =+Key!$A$24 -> Total | G3: =+Key!$A$26 -> Urban | J3: =+Key!$A$25 -> Rural | M3: =+Key!$A$27 -> Pre-primary | P3: =+Key!$A$28 -> Primary | S3: =+Key!$A$29 -> Secondary | V3: =+Key!$A$24 -> Total | Y3: =+Key!$A$26 -> Urban | AB3: =+Key!$A$25 -> Rural | AE3: =+Key!$A$27 -> Pre-primary | AH3: =+Key!$A$28 -> Primary | AK3: =+Key!$A$29 -> Secondary | AP3: Primary | AU3: Secondary | AZ3: =+Key!$A$24 -> Total | BC3: =+Key!$A$26 -> Urban | BF3: =+Key!$A$25 -> Rural | BI3: =+Key!$A$27 -> Pre-primary | BL3: =+Key!$A$28 -> Primary | BO3: =+Key!$A$29 -> Secondary
A4: Source | B4: =HLOOKUP(Introduction!$G$4,nametranslations,88,FALSE) -> Type | C4: Year | D4: Facility | E4: Improved | F4: Basic (Improved & available) | G4: Facility | H4: Improved | I4: Basic (Improved & available) | J4: Facility | K4: Improved | L4: Basic (Improved & available) | M4: Facility | N4: Improved | O4: Basic (Improved & available) | P4: Facility | Q4: Improved | R4: Basic (Improved & available) | S4: Facility | T4: Improved | U4: Basic (Improved & available) | V4: Facility | W4: Improved | X4: Improved & usable | Y4: Improved & single-sex | Z4: Basic (Improved, usable & single-sex) | AA4: Facility | AB4: Improved | AC4: Improved & usable | AD4: Improved & single-sex | AE4: Basic (Improved, usable & single-sex) | AF4: Facility | AG4: Improved | AH4: Improved & usable | AI4: Improved & single-sex | AJ4: Basic (Improved, usable & single-sex) | AK4: Facility | AL4: Improved | AM4: Improved & usable | AN4: Improved & single-sex | AO4: Basic (Improved, usable & single-sex) | AP4: Facility | AQ4: Improved | AR4: Improved & usable | AS4: Improved & single-sex | AT4: Basic (Improved, usable & single-sex) | AU4: Facility | AV4: Improved | AW4: Improved & usable | AX4: Improved & single-sex | AY4: Basic (Improved, usable & single-sex) | AZ4: Facility | BA4: Facility with water | BB4: Facility with water & soap | BC4: Facility | BD4: Facility with water | BE4: Facility with water & soap | BF4: Facility | BG4: Facility with water | BH4: Facility with water & soap | BI4: Facility | BJ4: Facility with water | BK4: Facility with water & soap | BL4: Facility | BM4: Facility with water | BN4: Facility with water & soap | BO4: Facility | BP4: Facility with water | BQ4: Facility with water & soap
A5: source | B5: type | C5: year | D5: w_fac_n | E5: w_imp_n | F5: w_bas_n | G5: w_fac_u | H5: w_imp_u | I5: w_bas_u | J5: w_fac_r | K5: w_imp_r | L5: w_bas_r | M5: w_fac_pp | N5: w_imp_pp | O5: w_bas_pp | P5: w_fac_p | Q5: w_imp_p | R5: w_bas_p | S5: w_fac_s | T5: w_imp_s | U5: w_bas_s | V5: s_fac_n | W5: s_imp_n | X5: s_ss_n | Y5: s_us_n | Z5: s_bas_n | AA5: s_fac_u | AB5: s_imp_u | AC5: s_ss_u | AD5: s_us_u | AE5: s_bas_u | AF5: s_fac_r | AG5: s_imp_r | AH5: s_ss_r | AI5: s_us_r | AJ5: s_bas_r | AK5: s_fac_pp | AL5: s_imp_pp | AM5: s_ss_pp | AN5: s_us_pp | AO5: s_bas_pp | AP5: s_fac_p | AQ5: s_imp_p | AR5: s_ss_p | AS5: s_us_p | AT5: s_bas_p | AU5: s_fac_s | AV5: s_imp_s | AW5: s_ss_s | AX5: s_us_s | AY5: s_bas_s | AZ5: h_fac_n | BA5: h_wat_n | BB5: h_bas_n | BC5: h_fac_u | BD5: h_wat_u | BE5: h_bas_u | BF5: h_fac_r | BG5: h_wat_r | BH5: h_bas_r | BI5: h_fac_pp | BJ5: h_wat_pp | BK5: h_bas_pp | BL5: h_fac_p | BM5: h_wat_p | BN5: h_bas_p | BO5: h_fac_s | BP5: h_wat_s | BQ5: h_bas_s
A6: =+RIGHT('Data Summary'!A6,LEN('Data Summary'!A6)-9) -> EMIS | B6: =+IF(ISTEXT('Data Summary'!B6),'Data Summary'!B6,"") -> EMIS | C6: =+VALUE('Data Summary'!C6) -> 2010 | D6: =+IF(AND(ISNUMBER('Water Data'!D4),'Data Summary'!BS6="Yes"),100-'Water Data'!D4,NA()) -> 66.89 | E6: =+IF(AND(ISNUMBER('Water Data'!D6),'Data Summary'!BT6="Yes"),'Water Data'!D6,NA()) -> 56.674041 | F6: =+IF(AND(ISNUMBER('Water Data'!D9),'Data Summary'!BU6="Yes"),'Water Data'!D9,NA()) -> #N/A | G6: =+IF(AND(ISNUMBER('Water Data'!E4),'Data Summary'!BV6="Yes"),100-'Water Data'!E4,NA()) -> #N/A | H6: =+IF(AND(ISNUMBER('Water Data'!E6),'Data Summary'!BW6="Yes"),'Water Data'!E6,NA()) -> #N/A | I6: =+IF(AND(ISNUMBER('Water Data'!E9),'Data Summary'!BX6="Yes"),'Water Data'!E9,NA()) -> #N/A | J6: =+IF(AND(ISNUMBER('Water Data'!F4),'Data Summary'!BY6="Yes"),100-'Water Data'!F4,NA()) -> #N/A | K6: =+IF(AND(ISNUMBER('Water Data'!F6),'Data Summary'!BZ6="Yes"),'Water Data'!F6,NA()) -> #N/A | L6: =+IF(AND(ISNUMBER('Water Data'!F9),'Data Summary'!CA6="Yes"),'Water Data'!F9,NA()) -> #N/A | M6: =+IF(AND(ISNUMBER('Water Data'!G4),'Data Summary'!CB6="Yes"),100-'Water Data'!G4,NA()) -> #N/A | N6: =+IF(AND(ISNUMBER('Water Data'!G6),'Data Summary'!CC6="Yes"),'Water Data'!G6,NA()) -> #N/A | O6: =+IF(AND(ISNUMBER('Water Data'!G9),'Data Summary'!CD6="Yes"),'Water Data'!G9,NA()) -> #N/A | P6: =+IF(AND(ISNUMBER('Water Data'!H4),'Data Summary'!CE6="Yes"),100-'Water Data'!H4,NA()) -> 66.88 | Q6: =+IF(AND(ISNUMBER('Water Data'!H6),'Data Summary'!CF6="Yes"),'Water Data'!H6,NA()) -> 56.956522 | R6: =+IF(AND(ISNUMBER('Water Data'!H9),'Data Summary'!CG6="Yes"),'Water Data'!H9,NA()) -> #N/A | S6: =+IF(AND(ISNUMBER('Water Data'!I4),'Data Summary'!CH6="Yes"),100-'Water Data'!I4,NA()) -> 67.03 | T6: =+IF(AND(ISNUMBER('Water Data'!I6),'Data Summary'!CI6="Yes"),'Water Data'!I6,NA()) -> 52.747253 | U6: =+IF(AND(ISNUMBER('Water Data'!I9),'Data Summary'!CJ6="Yes"),'Water Data'!I9,NA()) -> #N/A | V6: =+IF(AND(ISNUMBER('Sanitation Data'!D4),'Data Summary'!CK6="Yes"),100-'Sanitation Data'!D4,NA()) -> #N/A | W6: =+IF(AND(ISNUMBER('Sanitation Data'!D6),'Data Summary'!CL6="Yes"),'Sanitation Data'!D6,NA()) -> #N/A | X6: =+IF(AND(ISNUMBER('Sanitation Data'!D10),'Data Summary'!CM6="Yes"),'Sanitation Data'!D10,NA()) -> #N/A | Y6: =+IF(AND(ISNUMBER('Sanitation Data'!D11),'Data Summary'!CN6="Yes"),'Sanitation Data'!D11,NA()) -> #N/A | Z6: =+IF(AND(ISNUMBER('Sanitation Data'!D12),'Data Summary'!CO6="Yes"),'Sanitation Data'!D12,NA()) -> #N/A | AA6: =+IF(AND(ISNUMBER('Sanitation Data'!E4),'Data Summary'!CP6="Yes"),100-'Sanitation Data'!E4,NA()) -> #N/A | AB6: =+IF(AND(ISNUMBER('Sanitation Data'!E6),'Data Summary'!CQ6="Yes"),'Sanitation Data'!E6,NA()) -> #N/A | AC6: =+IF(AND(ISNUMBER('Sanitation Data'!E10),'Data Summary'!CR6="Yes"),'Sanitation Data'!E10,NA()) -> #N/A | AD6: =+IF(AND(ISNUMBER('Sanitation Data'!E11),'Data Summary'!CS6="Yes"),'Sanitation Data'!E11,NA()) -> #N/A | AE6: =+IF(AND(ISNUMBER('Sanitation Data'!E12),'Data Summary'!CT6="Yes"),'Sanitation Data'!E12,NA()) -> #N/A | AF6: =+IF(AND(ISNUMBER('Sanitation Data'!F4),'Data Summary'!CU6="Yes"),100-'Sanitation Data'!F4,NA()) -> #N/A | AG6: =+IF(AND(ISNUMBER('Sanitation Data'!F6),'Data Summary'!CV6="Yes"),'Sanitation Data'!F6,NA()) -> #N/A | AH6: =+IF(AND(ISNUMBER('Sanitation Data'!F10),'Data Summary'!CW6="Yes"),'Sanitation Data'!F10,NA()) -> #N/A | AI6: =+IF(AND(ISNUMBER('Sanitation Data'!F11),'Data Summary'!CX6="Yes"),'Sanitation Data'!F11,NA()) -> #N/A | AJ6: =+IF(AND(ISNUMBER('Sanitation Data'!F12),'Data Summary'!CY6="Yes"),'Sanitation Data'!F12,NA()) -> #N/A | AK6: =+IF(AND(ISNUMBER('Sanitation Data'!G4),'Data Summary'!CZ6="Yes"),100-'Sanitation Data'!G4,NA()) -> #N/A | AL6: =+IF(AND(ISNUMBER('Sanitation Data'!G6),'Data Summary'!DA6="Yes"),'Sanitation Data'!G6,NA()) -> #N/A | AM6: =+IF(AND(ISNUMBER('Sanitation Data'!G10),'Data Summary'!DB6="Yes"),'Sanitation Data'!G10,NA()) -> #N/A | AN6: =+IF(AND(ISNUMBER('Sanitation Data'!G11),'Data Summary'!DC6="Yes"),'Sanitation Data'!G11,NA()) -> #N/A | AO6: =+IF(AND(ISNUMBER('Sanitation Data'!G12),'Data Summary'!DD6="Yes"),'Sanitation Data'!G12,NA()) -> #N/A | AP6: =+IF(AND(ISNUMBER('Sanitation Data'!H4),'Data Summary'!DE6="Yes"),100-'Sanitation Data'!H4,NA()) -> #N/A | AQ6: =+IF(AND(ISNUMBER('Sanitation Data'!H6),'Data Summary'!DF6="Yes"),'Sanitation Data'!H6,NA()) -> #N/A | AR6: =+IF(AND(ISNUMBER('Sanitation Data'!H10),'Data Summary'!DG6="Yes"),'Sanitation Data'!H10,NA()) -> #N/A | AS6: =+IF(AND(ISNUMBER('Sanitation Data'!H11),'Data Summary'!DH6="Yes"),'Sanitation Data'!H11,NA()) -> #N/A | AT6: =+IF(AND(ISNUMBER('Sanitation Data'!H12),'Data Summary'!DI6="Yes"),'Sanitation Data'!H12,NA()) -> #N/A | AU6: =+IF(AND(ISNUMBER('Sanitation Data'!I4),'Data Summary'!DJ6="Yes"),100-'Sanitation Data'!I4,NA()) -> #N/A | AV6: =+IF(AND(ISNUMBER('Sanitation Data'!I6),'Data Summary'!DK6="Yes"),'Sanitation Data'!I6,NA()) -> #N/A | AW6: =+IF(AND(ISNUMBER('Sanitation Data'!I10),'Data Summary'!DL6="Yes"),'Sanitation Data'!I10,NA()) -> #N/A | AX6: =+IF(AND(ISNUMBER('Sanitation Data'!I11),'Data Summary'!DM6="Yes"),'Sanitation Data'!I11,NA()) -> #N/A | AY6: =+IF(AND(ISNUMBER('Sanitation Data'!I12),'Data Summary'!DN6="Yes"),'Sanitation Data'!I12,NA()) -> #N/A | AZ6: =+IF(AND(ISNUMBER('Hygiene Data'!D5),'Data Summary'!DO6="Yes"),'Hygiene Data'!D5,NA()) -> #N/A | BA6: =+IF(AND(ISNUMBER('Hygiene Data'!D7),'Data Summary'!DP6="Yes"),'Hygiene Data'!D7,NA()) -> #N/A | BB6: =+IF(AND(ISNUMBER('Hygiene Data'!D9),'Data Summary'!DQ6="Yes"),'Hygiene Data'!D9,NA()) -> #N/A | BC6: =+IF(AND(ISNUMBER('Hygiene Data'!E5),'Data Summary'!DR6="Yes"),'Hygiene Data'!E5,NA()) -> #N/A | BD6: =+IF(AND(ISNUMBER('Hygiene Data'!E7),'Data Summary'!DS6="Yes"),'Hygiene Data'!E7,NA()) -> #N/A | BE6: =+IF(AND(ISNUMBER('Hygiene Data'!E9),'Data Summary'!DT6="Yes"),'Hygiene Data'!E9,NA()) -> #N/A | BF6: =+IF(AND(ISNUMBER('Hygiene Data'!F5),'Data Summary'!DU6="Yes"),'Hygiene Data'!F5,NA()) -> #N/A | BG6: =+IF(AND(ISNUMBER('Hygiene Data'!F7),'Data Summary'!DV6="Yes"),'Hygiene Data'!F7,NA()) -> #N/A | BH6: =+IF(AND(ISNUMBER('Hygiene Data'!F9),'Data Summary'!DW6="Yes"),'Hygiene Data'!F9,NA()) -> #N/A | BI6: =+IF(AND(ISNUMBER('Hygiene Data'!G5),'Data Summary'!DX6="Yes"),'Hygiene Data'!G5,NA()) -> #N/A | BJ6: =+IF(AND(ISNUMBER('Hygiene Data'!G7),'Data Summary'!DY6="Yes"),'Hygiene Data'!G7,NA()) -> #N/A | BK6: =+IF(AND(ISNUMBER('Hygiene Data'!G9),'Data Summary'!DZ6="Yes"),'Hygiene Data'!G9,NA()) -> #N/A | BL6: =+IF(AND(ISNUMBER('Hygiene Data'!H5),'Data Summary'!EA6="Yes"),'Hygiene Data'!H5,NA()) -> #N/A | BM6: =+IF(AND(ISNUMBER('Hygiene Data'!H7),'Data Summary'!EB6="Yes"),'Hygiene Data'!H7,NA()) -> #N/A | BN6: =+IF(AND(ISNUMBER('Hygiene Data'!H9),'Data Summary'!EC6="Yes"),'Hygiene Data'!H9,NA()) -> #N/A | BO6: =+IF(AND(ISNUMBER('Hygiene Data'!I5),'Data Summary'!ED6="Yes"),'Hygiene Data'!I5,NA()) -> #N/A | BP6: =+IF(AND(ISNUMBER('Hygiene Data'!I7),'Data Summary'!EE6="Yes"),'Hygiene Data'!I7,NA()) -> #N/A | BQ6: =+IF(AND(ISNUMBER('Hygiene Data'!I9),'Data Summary'!EF6="Yes"),'Hygiene Data'!I9,NA()) -> #N/A
A7: =+RIGHT('Data Summary'!A7,LEN('Data Summary'!A7)-9) -> EMIS | B7: =+IF(ISTEXT('Data Summary'!B7),'Data Summary'!B7,"") -> EMIS | C7: =+VALUE('Data Summary'!C7) -> 2011 | D7: =+IF(AND(ISNUMBER(OFFSET('Water Data'!$D$4,0,10*ROW('Water Data'!D1))),'Data Summary'!BS7="Yes"),100-OFFSET('Water Data'!$D$4,0,10*ROW('Water Data'!D1)),NA()) -> 76.58 | E7: =+IF(AND(ISNUMBER(OFFSET('Water Data'!$D$6,0,10*ROW('Water Data'!D1))),'Data Summary'!BT7="Yes"),OFFSET('Water Data'!$D$6,0,10*ROW('Water Data'!D1)),NA()) -> 63.325991 | F7: =+IF(AND(ISNUMBER(OFFSET('Water Data'!$D$9,0,10*ROW('Water Data'!D1))),'Data Summary'!BU7="Yes"),OFFSET('Water Data'!$D$9,0,10*ROW('Water Data'!D1)),NA()) -> #N/A | G7: =+IF(AND(ISNUMBER(OFFSET('Water Data'!$E$4,0,10*ROW('Water Data'!E1))),'Data Summary'!BV7="Yes"),100-OFFSET('Water Data'!$E$4,0,10*ROW('Water Data'!E1)),NA()) -> #N/A | H7: =+IF(AND(ISNUMBER(OFFSET('Water Data'!$E$6,0,10*ROW('Water Data'!E1))),'Data Summary'!BW7="Yes"),OFFSET('Water Data'!$E$6,0,10*ROW('Water Data'!E1)),NA()) -> #N/A | I7: =+IF(AND(ISNUMBER(OFFSET('Water Data'!$E$9,0,10*ROW('Water Data'!E1))),'Data Summary'!BX7="Yes"),OFFSET('Water Data'!$E$9,0,10*ROW('Water Data'!E1)),NA()) -> #N/A | J7: =+IF(AND(ISNUMBER(OFFSET('Water Data'!$F$4,0,10*ROW('Water Data'!F1))),'Data Summary'!BY7="Yes"),100-OFFSET('Water Data'!$F$4,0,10*ROW('Water Data'!F1)),NA()) -> #N/A | K7: =+IF(AND(ISNUMBER(OFFSET('Water Data'!$F$6,0,10*ROW('Water Data'!F1))),'Data Summary'!BZ7="Yes"),OFFSET('Water Data'!$F$6,0,10*ROW('Water Data'!F1)),NA()) -> #N/A | L7: =+IF(AND(ISNUMBER(OFFSET('Water Data'!$F$9,0,10*ROW('Water Data'!F1))),'Data Summary'!CA7="Yes"),OFFSET('Water Data'!$F$9,0,10*ROW('Water Data'!F1)),NA()) -> #N/A | M7: =+IF(AND(ISNUMBER(OFFSET('Water Data'!$G$4,0,10*ROW('Water Data'!G1))),'Data Summary'!CB7="Yes"),100-OFFSET('Water Data'!$G$4,0,10*ROW('Water Data'!G1)),NA()) -> #N/A | N7: =+IF(AND(ISNUMBER(OFFSET('Water Data'!$G$6,0,10*ROW('Water Data'!G1))),'Data Summary'!CC7="Yes"),OFFSET('Water Data'!$G$6,0,10*ROW('Water Data'!G1)),NA()) -> #N/A | O7: =+IF(AND(ISNUMBER(OFFSET('Water Data'!$G$9,0,10*ROW('Water Data'!G1))),'Data Summary'!CD7="Yes"),OFFSET('Water Data'!$G$9,0,10*ROW('Water Data'!G1)),NA()) -> #N/A | P7: =+IF(AND(ISNUMBER(OFFSET('Water Data'!$H$4,0,10*ROW('Water Data'!H1))),'Data Summary'!CE7="Yes"),100-OFFSET('Water Data'!$H$4,0,10*ROW('Water Data'!H1)),NA()) -> 76.929134 | Q7: =+IF(AND(ISNUMBER(OFFSET('Water Data'!$H$6,0,10*ROW('Water Data'!H1))),'Data Summary'!CF7="Yes"),OFFSET('Water Data'!$H$6,0,10*ROW('Water Data'!H1)),NA()) -> 63.897638 | R7: =+IF(AND(ISNUMBER(OFFSET('Water Data'!$H$9,0,10*ROW('Water Data'!H1))),'Data Summary'!CG7="Yes"),OFFSET('Water Data'!$H$9,0,10*ROW('Water Data'!H1)),NA()) -> #N/A | S7: =+IF(AND(ISNUMBER(OFFSET('Water Data'!$I$4,0,10*ROW('Water Data'!I1))),'Data Summary'!CH7="Yes"),100-OFFSET('Water Data'!$I$4,0,10*ROW('Water Data'!I1)),NA()) -> 71.73913 | T7: =+IF(AND(ISNUMBER(OFFSET('Water Data'!$I$6,0,10*ROW('Water Data'!I1))),'Data Summary'!CI7="Yes"),OFFSET('Water Data'!$I$6,0,10*ROW('Water Data'!I1)),NA()) -> 55.434783 | U7: =+IF(AND(ISNUMBER(OFFSET('Water Data'!$I$9,0,10*ROW('Water Data'!I1))),'Data Summary'!CJ7="Yes"),OFFSET('Water Data'!$I$9,0,10*ROW('Water Data'!I1)),NA()) -> #N/A | V7: =+IF(AND(ISNUMBER(OFFSET('Sanitation Data'!$D$4,0,10*ROW('Sanitation Data'!D1))),'Data Summary'!CK7="Yes"),100-OFFSET('Sanitation Data'!$D$4,0,10*ROW('Sanitation Data'!D1)),NA()) -> #N/A | W7: =+IF(AND(ISNUMBER(OFFSET('Sanitation Data'!$D$6,0,10*ROW('Sanitation Data'!D1))),'Data Summary'!CL7="Yes"),OFFSET('Sanitation Data'!$D$6,0,10*ROW('Sanitation Data'!D1)),NA()) -> #N/A | X7: =+IF(AND(ISNUMBER(OFFSET('Sanitation Data'!$D$10,0,10*ROW('Sanitation Data'!D1))),'Data Summary'!CM7="Yes"),OFFSET('Sanitation Data'!$D$10,0,10*ROW('Sanitation Data'!D1)),NA()) -> #N/A | Y7: =+IF(AND(ISNUMBER(OFFSET('Sanitation Data'!$D$11,0,10*ROW('Sanitation Data'!D1))),'Data Summary'!CN7="Yes"),OFFSET('Sanitation Data'!$D$11,0,10*ROW('Sanitation Data'!D1)),NA()) -> #N/A | Z7: =+IF(AND(ISNUMBER(OFFSET('Sanitation Data'!$D$12,0,10*ROW('Sanitation Data'!D1))),'Data Summary'!CO7="Yes"),OFFSET('Sanitation Data'!$D$12,0,10*ROW('Sanitation Data'!D1)),NA()) -> #N/A | AA7: =+IF(AND(ISNUMBER(OFFSET('Sanitation Data'!$E$4,0,10*ROW('Sanitation Data'!E1))),'Data Summary'!CP7="Yes"),100-OFFSET('Sanitation Data'!$E$4,0,10*ROW('Sanitation Data'!E1)),NA()) -> #N/A | AB7: =+IF(AND(ISNUMBER(OFFSET('Sanitation Data'!$E$6,0,10*ROW('Sanitation Data'!E1))),'Data Summary'!CQ7="Yes"),OFFSET('Sanitation Data'!$E$6,0,10*ROW('Sanitation Data'!E1)),NA()) -> #N/A | AC7: =+IF(AND(ISNUMBER(OFFSET('Sanitation Data'!$E$10,0,10*ROW('Sanitation Data'!E1))),'Data Summary'!CR7="Yes"),OFFSET('Sanitation Data'!$E$10,0,10*ROW('Sanitation Data'!E1)),NA()) -> #N/A | AD7: =+IF(AND(ISNUMBER(OFFSET('Sanitation Data'!$E$11,0,10*ROW('Sanitation Data'!E1))),'Data Summary'!CS7="Yes"),OFFSET('Sanitation Data'!$E$11,0,10*ROW('Sanitation Data'!E1)),NA()) -> #N/A | AE7: =+IF(AND(ISNUMBER(OFFSET('Sanitation Data'!$E$12,0,10*ROW('Sanitation Data'!E1))),'Data Summary'!CT7="Yes"),OFFSET('Sanitation Data'!$E$12,0,10*ROW('Sanitation Data'!E1)),NA()) -> #N/A | AF7: =+IF(AND(ISNUMBER(OFFSET('Sanitation Data'!$F$4,0,10*ROW('Sanitation Data'!F1))),'Data Summary'!CU7="Yes"),100-OFFSET('Sanitation Data'!$F$4,0,10*ROW('Sanitation Data'!F1)),NA()) -> #N/A | AG7: =+IF(AND(ISNUMBER(OFFSET('Sanitation Data'!$F$6,0,10*ROW('Sanitation Data'!F1))),'Data Summary'!CV7="Yes"),OFFSET('Sanitation Data'!$F$6,0,10*ROW('Sanitation Data'!F1)),NA()) -> #N/A | AH7: =+IF(AND(ISNUMBER(OFFSET('Sanitation Data'!$F$10,0,10*ROW('Sanitation Data'!F1))),'Data Summary'!CW7="Yes"),OFFSET('Sanitation Data'!$F$10,0,10*ROW('Sanitation Data'!F1)),NA()) -> #N/A | AI7: =+IF(AND(ISNUMBER(OFFSET('Sanitation Data'!$F$11,0,10*ROW('Sanitation Data'!F1))),'Data Summary'!CX7="Yes"),OFFSET('Sanitation Data'!$F$11,0,10*ROW('Sanitation Data'!F1)),NA()) -> #N/A | AJ7: =+IF(AND(ISNUMBER(OFFSET('Sanitation Data'!$F$12,0,10*ROW('Sanitation Data'!F1))),'Data Summary'!CY7="Yes"),OFFSET('Sanitation Data'!$F$12,0,10*ROW('Sanitation Data'!F1)),NA()) -> #N/A | AK7: =+IF(AND(ISNUMBER(OFFSET('Sanitation Data'!$G$4,0,10*ROW('Sanitation Data'!G1))),'Data Summary'!CZ7="Yes"),100-OFFSET('Sanitation Data'!$G$4,0,10*ROW('Sanitation Data'!G1)),NA()) -> #N/A | AL7: =+IF(AND(ISNUMBER(OFFSET('Sanitation Data'!$G$6,0,10*ROW('Sanitation Data'!G1))),'Data Summary'!DA7="Yes"),OFFSET('Sanitation Data'!$G$6,0,10*ROW('Sanitation Data'!G1)),NA()) -> #N/A | AM7: =+IF(AND(ISNUMBER(OFFSET('Sanitation Data'!$G$10,0,10*ROW('Sanitation Data'!G1))),'Data Summary'!DB7="Yes"),OFFSET('Sanitation Data'!$G$10,0,10*ROW('Sanitation Data'!G1)),NA()) -> #N/A | AN7: =+IF(AND(ISNUMBER(OFFSET('Sanitation Data'!$G$11,0,10*ROW('Sanitation Data'!G1))),'Data Summary'!DC7="Yes"),OFFSET('Sanitation Data'!$G$11,0,10*ROW('Sanitation Data'!G1)),NA()) -> #N/A | AO7: =+IF(AND(ISNUMBER(OFFSET('Sanitation Data'!$G$12,0,10*ROW('Sanitation Data'!G1))),'Data Summary'!DD7="Yes"),OFFSET('Sanitation Data'!$G$12,0,10*ROW('Sanitation Data'!G1)),NA()) -> #N/A | AP7: =+IF(AND(ISNUMBER(OFFSET('Sanitation Data'!$H$4,0,10*ROW('Sanitation Data'!H1))),'Data Summary'!DE7="Yes"),100-OFFSET('Sanitation Data'!$H$4,0,10*ROW('Sanitation Data'!H1)),NA()) -> #N/A | AQ7: =+IF(AND(ISNUMBER(OFFSET('Sanitation Data'!$H$6,0,10*ROW('Sanitation Data'!H1))),'Data Summary'!DF7="Yes"),OFFSET('Sanitation Data'!$H$6,0,10*ROW('Sanitation Data'!H1)),NA()) -> #N/A | AR7: =+IF(AND(ISNUMBER(OFFSET('Sanitation Data'!$H$10,0,10*ROW('Sanitation Data'!H1))),'Data Summary'!DG7="Yes"),OFFSET('Sanitation Data'!$H$10,0,10*ROW('Sanitation Data'!H1)),NA()) -> #N/A | AS7: =+IF(AND(ISNUMBER(OFFSET('Sanitation Data'!$H$11,0,10*ROW('Sanitation Data'!H1))),'Data Summary'!DH7="Yes"),OFFSET('Sanitation Data'!$H$11,0,10*ROW('Sanitation Data'!H1)),NA()) -> #N/A | AT7: =+IF(AND(ISNUMBER(OFFSET('Sanitation Data'!$H$12,0,10*ROW('Sanitation Data'!H1))),'Data Summary'!DI7="Yes"),OFFSET('Sanitation Data'!$H$12,0,10*ROW('Sanitation Data'!H1)),NA()) -> #N/A | AU7: =+IF(AND(ISNUMBER(OFFSET('Sanitation Data'!$I$4,0,10*ROW('Sanitation Data'!I1))),'Data Summary'!DJ7="Yes"),100-OFFSET('Sanitation Data'!$I$4,0,10*ROW('Sanitation Data'!I1)),NA()) -> #N/A | AV7: =+IF(AND(ISNUMBER(OFFSET('Sanitation Data'!$I$6,0,10*ROW('Sanitation Data'!I1))),'Data Summary'!DK7="Yes"),OFFSET('Sanitation Data'!$I$6,0,10*ROW('Sanitation Data'!I1)),NA()) -> #N/A | AW7: =+IF(AND(ISNUMBER(OFFSET('Sanitation Data'!$I$10,0,10*ROW('Sanitation Data'!I1))),'Data Summary'!DL7="Yes"),OFFSET('Sanitation Data'!$I$10,0,10*ROW('Sanitation Data'!I1)),NA()) -> #N/A | AX7: =+IF(AND(ISNUMBER(OFFSET('Sanitation Data'!$I$11,0,10*ROW('Sanitation Data'!I1))),'Data Summary'!DM7="Yes"),OFFSET('Sanitation Data'!$I$11,0,10*ROW('Sanitation Data'!I1)),NA()) -> #N/A | AY7: =+IF(AND(ISNUMBER(OFFSET('Sanitation Data'!$I$12,0,10*ROW('Sanitation Data'!I1))),'Data Summary'!DN7="Yes"),OFFSET('Sanitation Data'!$I$12,0,10*ROW('Sanitation Data'!I1)),NA()) -> #N/A | AZ7: =+IF(AND(ISNUMBER(OFFSET('Hygiene Data'!$D$5,0,10*ROW('Hygiene Data'!D1))),'Data Summary'!DO7="Yes"),OFFSET('Hygiene Data'!$D$5,0,10*ROW('Hygiene Data'!D1)),NA()) -> #N/A | BA7: =+IF(AND(ISNUMBER(OFFSET('Hygiene Data'!$D$7,0,10*ROW('Hygiene Data'!D1))),'Data Summary'!DP7="Yes"),OFFSET('Hygiene Data'!$D$7,0,10*ROW('Hygiene Data'!D1)),NA()) -> #N/A | BB7: =+IF(AND(ISNUMBER(OFFSET('Hygiene Data'!$D$9,0,10*ROW('Hygiene Data'!D1))),'Data Summary'!DQ7="Yes"),OFFSET('Hygiene Data'!$D$9,0,10*ROW('Hygiene Data'!D1)),NA()) -> #N/A | BC7: =+IF(AND(ISNUMBER(OFFSET('Hygiene Data'!$E$5,0,10*ROW('Hygiene Data'!E1))),'Data Summary'!DR7="Yes"),OFFSET('Hygiene Data'!$E$5,0,10*ROW('Hygiene Data'!E1)),NA()) -> #N/A | BD7: =+IF(AND(ISNUMBER(OFFSET('Hygiene Data'!$E$7,0,10*ROW('Hygiene Data'!E1))),'Data Summary'!DS7="Yes"),OFFSET('Hygiene Data'!$E$7,0,10*ROW('Hygiene Data'!E1)),NA()) -> #N/A | BE7: =+IF(AND(ISNUMBER(OFFSET('Hygiene Data'!$E$9,0,10*ROW('Hygiene Data'!E1))),'Data Summary'!DT7="Yes"),OFFSET('Hygiene Data'!$E$9,0,10*ROW('Hygiene Data'!E1)),NA()) -> #N/A | BF7: =+IF(AND(ISNUMBER(OFFSET('Hygiene Data'!$F$5,0,10*ROW('Hygiene Data'!F1))),'Data Summary'!DU7="Yes"),OFFSET('Hygiene Data'!$F$5,0,10*ROW('Hygiene Data'!F1)),NA()) -> #N/A | BG7: =+IF(AND(ISNUMBER(OFFSET('Hygiene Data'!$F$7,0,10*ROW('Hygiene Data'!F1))),'Data Summary'!DV7="Yes"),OFFSET('Hygiene Data'!$F$7,0,10*ROW('Hygiene Data'!F1)),NA()) -> #N/A | BH7: =+IF(AND(ISNUMBER(OFFSET('Hygiene Data'!$F$9,0,10*ROW('Hygiene Data'!F1))),'Data Summary'!DW7="Yes"),OFFSET('Hygiene Data'!$F$9,0,10*ROW('Hygiene Data'!F1)),NA()) -> #N/A | BI7: =+IF(AND(ISNUMBER(OFFSET('Hygiene Data'!$G$5,0,10*ROW('Hygiene Data'!G1))),'Data Summary'!DX7="Yes"),OFFSET('Hygiene Data'!$G$5,0,10*ROW('Hygiene Data'!G1)),NA()) -> #N/A | BJ7: =+IF(AND(ISNUMBER(OFFSET('Hygiene Data'!$G$7,0,10*ROW('Hygiene Data'!G1))),'Data Summary'!DY7="Yes"),OFFSET('Hygiene Data'!$G$7,0,10*ROW('Hygiene Data'!G1)),NA()) -> #N/A | BK7: =+IF(AND(ISNUMBER(OFFSET('Hygiene Data'!$G$9,0,10*ROW('Hygiene Data'!G1))),'Data Summary'!DZ7="Yes"),OFFSET('Hygiene Data'!$G$9,0,10*ROW('Hygiene Data'!G1)),NA()) -> #N/A | BL7: =+IF(AND(ISNUMBER(OFFSET('Hygiene Data'!$H$5,0,10*ROW('Hygiene Data'!H1))),'Data Summary'!EA7="Yes"),OFFSET('Hygiene Data'!$H$5,0,10*ROW('Hygiene Data'!H1)),NA()) -> #N/A | BM7: =+IF(AND(ISNUMBER(OFFSET('Hygiene Data'!$H$7,0,10*ROW('Hygiene Data'!H1))),'Data Summary'!EB7="Yes"),OFFSET('Hygiene Data'!$H$7,0,10*ROW('Hygiene Data'!H1)),NA()) -> #N/A | BN7: =+IF(AND(ISNUMBER(OFFSET('Hygiene Data'!$H$9,0,10*ROW('Hygiene Data'!H1))),'Data Summary'!EC7="Yes"),OFFSET('Hygiene Data'!$H$9,0,10*ROW('Hygiene Data'!H1)),NA()) -> #N/A | BO7: =+IF(AND(ISNUMBER(OFFSET('Hygiene Data'!$I$5,0,10*ROW('Hygiene Data'!I1))),'Data Summary'!ED7="Yes"),OFFSET('Hygiene Data'!$I$5,0,10*ROW('Hygiene Data'!I1)),NA()) -> #N/A | BP7: =+IF(AND(ISNUMBER(OFFSET('Hygiene Data'!$I$7,0,10*ROW('Hygiene Data'!I1))),'Data Summary'!EE7="Yes"),OFFSET('Hygiene Data'!$I$7,0,10*ROW('Hygiene Data'!I1)),NA()) -> #N/A | BQ7: =+IF(AND(ISNUMBER(OFFSET('Hygiene Data'!$I$9,0,10*ROW('Hygiene Data'!I1))),'Data Summary'!EF7="Yes"),OFFSET('Hygiene Data'!$I$9,0,10*ROW('Hygiene Data'!I1)),NA()) -> #N/A
A8: =+RIGHT('Data Summary'!A8,LEN('Data Summary'!A8)-9) -> EMIS | B8: =+IF(ISTEXT('Data Summary'!B8),'Data Summary'!B8,"") -> EMIS | C8: =+VALUE('Data Summary'!C8) -> 2012 | D8: =+IF(AND(ISNUMBER(OFFSET('Water Data'!$D$4,0,10*ROW('Water Data'!D2))),'Data Summary'!BS8="Yes"),100-OFFSET('Water Data'!$D$4,0,10*ROW('Water Data'!D2)),NA()) -> 66.52 | E8: =+IF(AND(ISNUMBER(OFFSET('Water Data'!$D$6,0,10*ROW('Water Data'!D2))),'Data Summary'!BT8="Yes"),OFFSET('Water Data'!$D$6,0,10*ROW('Water Data'!D2)),NA()) -> 63.035 | F8: =+IF(AND(ISNUMBER(OFFSET('Water Data'!$D$9,0,10*ROW('Water Data'!D2))),'Data Summary'!BU8="Yes"),OFFSET('Water Data'!$D$9,0,10*ROW('Water Data'!D2)),NA()) -> 60.28 | G8: =+IF(AND(ISNUMBER(OFFSET('Water Data'!$E$4,0,10*ROW('Water Data'!E2))),'Data Summary'!BV8="Yes"),100-OFFSET('Water Data'!$E$4,0,10*ROW('Water Data'!E2)),NA()) -> #N/A | H8: =+IF(AND(ISNUMBER(OFFSET('Water Data'!$E$6,0,10*ROW('Water Data'!E2))),'Data Summary'!BW8="Yes"),OFFSET('Water Data'!$E$6,0,10*ROW('Water Data'!E2)),NA()) -> #N/A | I8: =+IF(AND(ISNUMBER(OFFSET('Water Data'!$E$9,0,10*ROW('Water Data'!E2))),'Data Summary'!BX8="Yes"),OFFSET('Water Data'!$E$9,0,10*ROW('Water Data'!E2)),NA()) -> #N/A | J8: =+IF(AND(ISNUMBER(OFFSET('Water Data'!$F$4,0,10*ROW('Water Data'!F2))),'Data Summary'!BY8="Yes"),100-OFFSET('Water Data'!$F$4,0,10*ROW('Water Data'!F2)),NA()) -> #N/A | K8: =+IF(AND(ISNUMBER(OFFSET('Water Data'!$F$6,0,10*ROW('Water Data'!F2))),'Data Summary'!BZ8="Yes"),OFFSET('Water Data'!$F$6,0,10*ROW('Water Data'!F2)),NA()) -> #N/A | L8: =+IF(AND(ISNUMBER(OFFSET('Water Data'!$F$9,0,10*ROW('Water Data'!F2))),'Data Summary'!CA8="Yes"),OFFSET('Water Data'!$F$9,0,10*ROW('Water Data'!F2)),NA()) -> #N/A | M8: =+IF(AND(ISNUMBER(OFFSET('Water Data'!$G$4,0,10*ROW('Water Data'!G2))),'Data Summary'!CB8="Yes"),100-OFFSET('Water Data'!$G$4,0,10*ROW('Water Data'!G2)),NA()) -> #N/A | N8: =+IF(AND(ISNUMBER(OFFSET('Water Data'!$G$6,0,10*ROW('Water Data'!G2))),'Data Summary'!CC8="Yes"),OFFSET('Water Data'!$G$6,0,10*ROW('Water Data'!G2)),NA()) -> #N/A | O8: =+IF(AND(ISNUMBER(OFFSET('Water Data'!$G$9,0,10*ROW('Water Data'!G2))),'Data Summary'!CD8="Yes"),OFFSET('Water Data'!$G$9,0,10*ROW('Water Data'!G2)),NA()) -> #N/A | P8: =+IF(AND(ISNUMBER(OFFSET('Water Data'!$H$4,0,10*ROW('Water Data'!H2))),'Data Summary'!CE8="Yes"),100-OFFSET('Water Data'!$H$4,0,10*ROW('Water Data'!H2)),NA()) -> 65.82 | Q8: =+IF(AND(ISNUMBER(OFFSET('Water Data'!$H$6,0,10*ROW('Water Data'!H2))),'Data Summary'!CF8="Yes"),OFFSET('Water Data'!$H$6,0,10*ROW('Water Data'!H2)),NA()) -> 62.67 | R8: =+IF(AND(ISNUMBER(OFFSET('Water Data'!$H$9,0,10*ROW('Water Data'!H2))),'Data Summary'!CG8="Yes"),OFFSET('Water Data'!$H$9,0,10*ROW('Water Data'!H2)),NA()) -> 59.91 | S8: =+IF(AND(ISNUMBER(OFFSET('Water Data'!$I$4,0,10*ROW('Water Data'!I2))),'Data Summary'!CH8="Yes"),100-OFFSET('Water Data'!$I$4,0,10*ROW('Water Data'!I2)),NA()) -> 75.79 | T8: =+IF(AND(ISNUMBER(OFFSET('Water Data'!$I$6,0,10*ROW('Water Data'!I2))),'Data Summary'!CI8="Yes"),OFFSET('Water Data'!$I$6,0,10*ROW('Water Data'!I2)),NA()) -> 67.89 | U8: =+IF(AND(ISNUMBER(OFFSET('Water Data'!$I$9,0,10*ROW('Water Data'!I2))),'Data Summary'!CJ8="Yes"),OFFSET('Water Data'!$I$9,0,10*ROW('Water Data'!I2)),NA()) -> 65.26 | V8: =+IF(AND(ISNUMBER(OFFSET('Sanitation Data'!$D$4,0,10*ROW('Sanitation Data'!D2))),'Data Summary'!CK8="Yes"),100-OFFSET('Sanitation Data'!$D$4,0,10*ROW('Sanitation Data'!D2)),NA()) -> 85.5 | W8: =+IF(AND(ISNUMBER(OFFSET('Sanitation Data'!$D$6,0,10*ROW('Sanitation Data'!D2))),'Data Summary'!CL8="Yes"),OFFSET('Sanitation Data'!$D$6,0,10*ROW('Sanitation Data'!D2)),NA()) -> 71.15 | X8: =+IF(AND(ISNUMBER(OFFSET('Sanitation Data'!$D$10,0,10*ROW('Sanitation Data'!D2))),'Data Summary'!CM8="Yes"),OFFSET('Sanitation Data'!$D$10,0,10*ROW('Sanitation Data'!D2)),NA()) -> #N/A | Y8: =+IF(AND(ISNUMBER(OFFSET('Sanitation Data'!$D$11,0,10*ROW('Sanitation Data'!D2))),'Data Summary'!CN8="Yes"),OFFSET('Sanitation Data'!$D$11,0,10*ROW('Sanitation Data'!D2)),NA()) -> #N/A | Z8: =+IF(AND(ISNUMBER(OFFSET('Sanitation Data'!$D$12,0,10*ROW('Sanitation Data'!D2))),'Data Summary'!CO8="Yes"),OFFSET('Sanitation Data'!$D$12,0,10*ROW('Sanitation Data'!D2)),NA()) -> 40.75 | AA8: =+IF(AND(ISNUMBER(OFFSET('Sanitation Data'!$E$4,0,10*ROW('Sanitation Data'!E2))),'Data Summary'!CP8="Yes"),100-OFFSET('Sanitation Data'!$E$4,0,10*ROW('Sanitation Data'!E2)),NA()) -> #N/A | AB8: =+IF(AND(ISNUMBER(OFFSET('Sanitation Data'!$E$6,0,10*ROW('Sanitation Data'!E2))),'Data Summary'!CQ8="Yes"),OFFSET('Sanitation Data'!$E$6,0,10*ROW('Sanitation Data'!E2)),NA()) -> #N/A | AC8: =+IF(AND(ISNUMBER(OFFSET('Sanitation Data'!$E$10,0,10*ROW('Sanitation Data'!E2))),'Data Summary'!CR8="Yes"),OFFSET('Sanitation Data'!$E$10,0,10*ROW('Sanitation Data'!E2)),NA()) -> #N/A | AD8: =+IF(AND(ISNUMBER(OFFSET('Sanitation Data'!$E$11,0,10*ROW('Sanitation Data'!E2))),'Data Summary'!CS8="Yes"),OFFSET('Sanitation Data'!$E$11,0,10*ROW('Sanitation Data'!E2)),NA()) -> #N/A | AE8: =+IF(AND(ISNUMBER(OFFSET('Sanitation Data'!$E$12,0,10*ROW('Sanitation Data'!E2))),'Data Summary'!CT8="Yes"),OFFSET('Sanitation Data'!$E$12,0,10*ROW('Sanitation Data'!E2)),NA()) -> #N/A | AF8: =+IF(AND(ISNUMBER(OFFSET('Sanitation Data'!$F$4,0,10*ROW('Sanitation Data'!F2))),'Data Summary'!CU8="Yes"),100-OFFSET('Sanitation Data'!$F$4,0,10*ROW('Sanitation Data'!F2)),NA()) -> #N/A | AG8: =+IF(AND(ISNUMBER(OFFSET('Sanitation Data'!$F$6,0,10*ROW('Sanitation Data'!F2))),'Data Summary'!CV8="Yes"),OFFSET('Sanitation Data'!$F$6,0,10*ROW('Sanitation Data'!F2)),NA()) -> #N/A | AH8: =+IF(AND(ISNUMBER(OFFSET('Sanitation Data'!$F$10,0,10*ROW('Sanitation Data'!F2))),'Data Summary'!CW8="Yes"),OFFSET('Sanitation Data'!$F$10,0,10*ROW('Sanitation Data'!F2)),NA()) -> #N/A | AI8: =+IF(AND(ISNUMBER(OFFSET('Sanitation Data'!$F$11,0,10*ROW('Sanitation Data'!F2))),'Data Summary'!CX8="Yes"),OFFSET('Sanitation Data'!$F$11,0,10*ROW('Sanitation Data'!F2)),NA()) -> #N/A | AJ8: =+IF(AND(ISNUMBER(OFFSET('Sanitation Data'!$F$12,0,10*ROW('Sanitation Data'!F2))),'Data Summary'!CY8="Yes"),OFFSET('Sanitation Data'!$F$12,0,10*ROW('Sanitation Data'!F2)),NA()) -> #N/A | AK8: =+IF(AND(ISNUMBER(OFFSET('Sanitation Data'!$G$4,0,10*ROW('Sanitation Data'!G2))),'Data Summary'!CZ8="Yes"),100-OFFSET('Sanitation Data'!$G$4,0,10*ROW('Sanitation Data'!G2)),NA()) -> #N/A | AL8: =+IF(AND(ISNUMBER(OFFSET('Sanitation Data'!$G$6,0,10*ROW('Sanitation Data'!G2))),'Data Summary'!DA8="Yes"),OFFSET('Sanitation Data'!$G$6,0,10*ROW('Sanitation Data'!G2)),NA()) -> #N/A | AM8: =+IF(AND(ISNUMBER(OFFSET('Sanitation Data'!$G$10,0,10*ROW('Sanitation Data'!G2))),'Data Summary'!DB8="Yes"),OFFSET('Sanitation Data'!$G$10,0,10*ROW('Sanitation Data'!G2)),NA()) -> #N/A | AN8: =+IF(AND(ISNUMBER(OFFSET('Sanitation Data'!$G$11,0,10*ROW('Sanitation Data'!G2))),'Data Summary'!DC8="Yes"),OFFSET('Sanitation Data'!$G$11,0,10*ROW('Sanitation Data'!G2)),NA()) -> #N/A | AO8: =+IF(AND(ISNUMBER(OFFSET('Sanitation Data'!$G$12,0,10*ROW('Sanitation Data'!G2))),'Data Summary'!DD8="Yes"),OFFSET('Sanitation Data'!$G$12,0,10*ROW('Sanitation Data'!G2)),NA()) -> #N/A | AP8: =+IF(AND(ISNUMBER(OFFSET('Sanitation Data'!$H$4,0,10*ROW('Sanitation Data'!H2))),'Data Summary'!DE8="Yes"),100-OFFSET('Sanitation Data'!$H$4,0,10*ROW('Sanitation Data'!H2)),NA()) -> 85.1 | AQ8: =+IF(AND(ISNUMBER(OFFSET('Sanitation Data'!$H$6,0,10*ROW('Sanitation Data'!H2))),'Data Summary'!DF8="Yes"),OFFSET('Sanitation Data'!$H$6,0,10*ROW('Sanitation Data'!H2)),NA()) -> 70.2 | AR8: =+IF(AND(ISNUMBER(OFFSET('Sanitation Data'!$H$10,0,10*ROW('Sanitation Data'!H2))),'Data Summary'!DG8="Yes"),OFFSET('Sanitation Data'!$H$10,0,10*ROW('Sanitation Data'!H2)),NA()) -> #N/A | AS8: =+IF(AND(ISNUMBER(OFFSET('Sanitation Data'!$H$11,0,10*ROW('Sanitation Data'!H2))),'Data Summary'!DH8="Yes"),OFFSET('Sanitation Data'!$H$11,0,10*ROW('Sanitation Data'!H2)),NA()) -> #N/A | AT8: =+IF(AND(ISNUMBER(OFFSET('Sanitation Data'!$H$12,0,10*ROW('Sanitation Data'!H2))),'Data Summary'!DI8="Yes"),OFFSET('Sanitation Data'!$H$12,0,10*ROW('Sanitation Data'!H2)),NA()) -> 40.3 | AU8: =+IF(AND(ISNUMBER(OFFSET('Sanitation Data'!$I$4,0,10*ROW('Sanitation Data'!I2))),'Data Summary'!DJ8="Yes"),100-OFFSET('Sanitation Data'!$I$4,0,10*ROW('Sanitation Data'!I2)),NA()) -> 92.1 | AV8: =+IF(AND(ISNUMBER(OFFSET('Sanitation Data'!$I$6,0,10*ROW('Sanitation Data'!I2))),'Data Summary'!DK8="Yes"),OFFSET('Sanitation Data'!$I$6,0,10*ROW('Sanitation Data'!I2)),NA()) -> 84.2 | AW8: =+IF(AND(ISNUMBER(OFFSET('Sanitation Data'!$I$10,0,10*ROW('Sanitation Data'!I2))),'Data Summary'!DL8="Yes"),OFFSET('Sanitation Data'!$I$10,0,10*ROW('Sanitation Data'!I2)),NA()) -> #N/A | AX8: =+IF(AND(ISNUMBER(OFFSET('Sanitation Data'!$I$11,0,10*ROW('Sanitation Data'!I2))),'Data Summary'!DM8="Yes"),OFFSET('Sanitation Data'!$I$11,0,10*ROW('Sanitation Data'!I2)),NA()) -> #N/A | AY8: =+IF(AND(ISNUMBER(OFFSET('Sanitation Data'!$I$12,0,10*ROW('Sanitation Data'!I2))),'Data Summary'!DN8="Yes"),OFFSET('Sanitation Data'!$I$12,0,10*ROW('Sanitation Data'!I2)),NA()) -> 47.4 | AZ8: =+IF(AND(ISNUMBER(OFFSET('Hygiene Data'!$D$5,0,10*ROW('Hygiene Data'!D2))),'Data Summary'!DO8="Yes"),OFFSET('Hygiene Data'!$D$5,0,10*ROW('Hygiene Data'!D2)),NA()) -> #N/A | BA8: =+IF(AND(ISNUMBER(OFFSET('Hygiene Data'!$D$7,0,10*ROW('Hygiene Data'!D2))),'Data Summary'!DP8="Yes"),OFFSET('Hygiene Data'!$D$7,0,10*ROW('Hygiene Data'!D2)),NA()) -> #N/A | BB8: =+IF(AND(ISNUMBER(OFFSET('Hygiene Data'!$D$9,0,10*ROW('Hygiene Data'!D2))),'Data Summary'!DQ8="Yes"),OFFSET('Hygiene Data'!$D$9,0,10*ROW('Hygiene Data'!D2)),NA()) -> #N/A | BC8: =+IF(AND(ISNUMBER(OFFSET('Hygiene Data'!$E$5,0,10*ROW('Hygiene Data'!E2))),'Data Summary'!DR8="Yes"),OFFSET('Hygiene Data'!$E$5,0,10*ROW('Hygiene Data'!E2)),NA()) -> #N/A | BD8: =+IF(AND(ISNUMBER(OFFSET('Hygiene Data'!$E$7,0,10*ROW('Hygiene Data'!E2))),'Data Summary'!DS8="Yes"),OFFSET('Hygiene Data'!$E$7,0,10*ROW('Hygiene Data'!E2)),NA()) -> #N/A | BE8: =+IF(AND(ISNUMBER(OFFSET('Hygiene Data'!$E$9,0,10*ROW('Hygiene Data'!E2))),'Data Summary'!DT8="Yes"),OFFSET('Hygiene Data'!$E$9,0,10*ROW('Hygiene Data'!E2)),NA()) -> #N/A | BF8: =+IF(AND(ISNUMBER(OFFSET('Hygiene Data'!$F$5,0,10*ROW('Hygiene Data'!F2))),'Data Summary'!DU8="Yes"),OFFSET('Hygiene Data'!$F$5,0,10*ROW('Hygiene Data'!F2)),NA()) -> #N/A | BG8: =+IF(AND(ISNUMBER(OFFSET('Hygiene Data'!$F$7,0,10*ROW('Hygiene Data'!F2))),'Data Summary'!DV8="Yes"),OFFSET('Hygiene Data'!$F$7,0,10*ROW('Hygiene Data'!F2)),NA()) -> #N/A | BH8: =+IF(AND(ISNUMBER(OFFSET('Hygiene Data'!$F$9,0,10*ROW('Hygiene Data'!F2))),'Data Summary'!DW8="Yes"),OFFSET('Hygiene Data'!$F$9,0,10*ROW('Hygiene Data'!F2)),NA()) -> #N/A | BI8: =+IF(AND(ISNUMBER(OFFSET('Hygiene Data'!$G$5,0,10*ROW('Hygiene Data'!G2))),'Data Summary'!DX8="Yes"),OFFSET('Hygiene Data'!$G$5,0,10*ROW('Hygiene Data'!G2)),NA()) -> #N/A | BJ8: =+IF(AND(ISNUMBER(OFFSET('Hygiene Data'!$G$7,0,10*ROW('Hygiene Data'!G2))),'Data Summary'!DY8="Yes"),OFFSET('Hygiene Data'!$G$7,0,10*ROW('Hygiene Data'!G2)),NA()) -> #N/A | BK8: =+IF(AND(ISNUMBER(OFFSET('Hygiene Data'!$G$9,0,10*ROW('Hygiene Data'!G2))),'Data Summary'!DZ8="Yes"),OFFSET('Hygiene Data'!$G$9,0,10*ROW('Hygiene Data'!G2)),NA()) -> #N/A | BL8: =+IF(AND(ISNUMBER(OFFSET('Hygiene Data'!$H$5,0,10*ROW('Hygiene Data'!H2))),'Data Summary'!EA8="Yes"),OFFSET('Hygiene Data'!$H$5,0,10*ROW('Hygiene Data'!H2)),NA()) -> #N/A | BM8: =+IF(AND(ISNUMBER(OFFSET('Hygiene Data'!$H$7,0,10*ROW('Hygiene Data'!H2))),'Data Summary'!EB8="Yes"),OFFSET('Hygiene Data'!$H$7,0,10*ROW('Hygiene Data'!H2)),NA()) -> #N/A | BN8: =+IF(AND(ISNUMBER(OFFSET('Hygiene Data'!$H$9,0,10*ROW('Hygiene Data'!H2))),'Data Summary'!EC8="Yes"),OFFSET('Hygiene Data'!$H$9,0,10*ROW('Hygiene Data'!H2)),NA()) -> #N/A | BO8: =+IF(AND(ISNUMBER(OFFSET('Hygiene Data'!$I$5,0,10*ROW('Hygiene Data'!I2))),'Data Summary'!ED8="Yes"),OFFSET('Hygiene Data'!$I$5,0,10*ROW('Hygiene Data'!I2)),NA()) -> #N/A | BP8: =+IF(AND(ISNUMBER(OFFSET('Hygiene Data'!$I$7,0,10*ROW('Hygiene Data'!I2))),'Data Summary'!EE8="Yes"),OFFSET('Hygiene Data'!$I$7,0,10*ROW('Hygiene Data'!I2)),NA()) -> #N/A | BQ8: =+IF(AND(ISNUMBER(OFFSET('Hygiene Data'!$I$9,0,10*ROW('Hygiene Data'!I2))),'Data Summary'!EF8="Yes"),OFFSET('Hygiene Data'!$I$9,0,10*ROW('Hygiene Data'!I2)),NA()) -> #N/A
A9: =+RIGHT('Data Summary'!A9,LEN('Data Summary'!A9)-9) -> EMIS | B9: =+IF(ISTEXT('Data Summary'!B9),'Data Summary'!B9,"") -> EMIS | C9: =+VALUE('Data Summary'!C9) -> 2013 | D9: =+IF(AND(ISNUMBER(OFFSET('Water Data'!$D$4,0,10*ROW('Water Data'!D3))),'Data Summary'!BS9="Yes"),100-OFFSET('Water Data'!$D$4,0,10*ROW('Water Data'!D3)),NA()) -> 66.20203 | E9: =+IF(AND(ISNUMBER(OFFSET('Water Data'!$D$6,0,10*ROW('Water Data'!D3))),'Data Summary'!BT9="Yes"),OFFSET('Water Data'!$D$6,0,10*ROW('Water Data'!D3)),NA()) -> 62.407055 | F9: =+IF(AND(ISNUMBER(OFFSET('Water Data'!$D$9,0,10*ROW('Water Data'!D3))),'Data Summary'!BU9="Yes"),OFFSET('Water Data'!$D$9,0,10*ROW('Water Data'!D3)),NA()) -> 58.612079 | G9: =+IF(AND(ISNUMBER(OFFSET('Water Data'!$E$4,0,10*ROW('Water Data'!E3))),'Data Summary'!BV9="Yes"),100-OFFSET('Water Data'!$E$4,0,10*ROW('Water Data'!E3)),NA()) -> #N/A | H9: =+IF(AND(ISNUMBER(OFFSET('Water Data'!$E$6,0,10*ROW('Water Data'!E3))),'Data Summary'!BW9="Yes"),OFFSET('Water Data'!$E$6,0,10*ROW('Water Data'!E3)),NA()) -> #N/A | I9: =+IF(AND(ISNUMBER(OFFSET('Water Data'!$E$9,0,10*ROW('Water Data'!E3))),'Data Summary'!BX9="Yes"),OFFSET('Water Data'!$E$9,0,10*ROW('Water Data'!E3)),NA()) -> #N/A | J9: =+IF(AND(ISNUMBER(OFFSET('Water Data'!$F$4,0,10*ROW('Water Data'!F3))),'Data Summary'!BY9="Yes"),100-OFFSET('Water Data'!$F$4,0,10*ROW('Water Data'!F3)),NA()) -> #N/A | K9: =+IF(AND(ISNUMBER(OFFSET('Water Data'!$F$6,0,10*ROW('Water Data'!F3))),'Data Summary'!BZ9="Yes"),OFFSET('Water Data'!$F$6,0,10*ROW('Water Data'!F3)),NA()) -> #N/A | L9: =+IF(AND(ISNUMBER(OFFSET('Water Data'!$F$9,0,10*ROW('Water Data'!F3))),'Data Summary'!CA9="Yes"),OFFSET('Water Data'!$F$9,0,10*ROW('Water Data'!F3)),NA()) -> #N/A | M9: =+IF(AND(ISNUMBER(OFFSET('Water Data'!$G$4,0,10*ROW('Water Data'!G3))),'Data Summary'!CB9="Yes"),100-OFFSET('Water Data'!$G$4,0,10*ROW('Water Data'!G3)),NA()) -> 72.043011 | N9: =+IF(AND(ISNUMBER(OFFSET('Water Data'!$G$6,0,10*ROW('Water Data'!G3))),'Data Summary'!CC9="Yes"),OFFSET('Water Data'!$G$6,0,10*ROW('Water Data'!G3)),NA()) -> 67.204301 | O9: =+IF(AND(ISNUMBER(OFFSET('Water Data'!$G$9,0,10*ROW('Water Data'!G3))),'Data Summary'!CD9="Yes"),OFFSET('Water Data'!$G$9,0,10*ROW('Water Data'!G3)),NA()) -> 62.365591 | P9: =+IF(AND(ISNUMBER(OFFSET('Water Data'!$H$4,0,10*ROW('Water Data'!H3))),'Data Summary'!CE9="Yes"),100-OFFSET('Water Data'!$H$4,0,10*ROW('Water Data'!H3)),NA()) -> 65.126417 | Q9: =+IF(AND(ISNUMBER(OFFSET('Water Data'!$H$6,0,10*ROW('Water Data'!H3))),'Data Summary'!CF9="Yes"),OFFSET('Water Data'!$H$6,0,10*ROW('Water Data'!H3)),NA()) -> 61.595466 | R9: =+IF(AND(ISNUMBER(OFFSET('Water Data'!$H$9,0,10*ROW('Water Data'!H3))),'Data Summary'!CG9="Yes"),OFFSET('Water Data'!$H$9,0,10*ROW('Water Data'!H3)),NA()) -> 58.064516 | S9: =+IF(AND(ISNUMBER(OFFSET('Water Data'!$I$4,0,10*ROW('Water Data'!I3))),'Data Summary'!CH9="Yes"),100-OFFSET('Water Data'!$I$4,0,10*ROW('Water Data'!I3)),NA()) -> 66.216216 | T9: =+IF(AND(ISNUMBER(OFFSET('Water Data'!$I$6,0,10*ROW('Water Data'!I3))),'Data Summary'!CI9="Yes"),OFFSET('Water Data'!$I$6,0,10*ROW('Water Data'!I3)),NA()) -> 61.486486 | U9: =+IF(AND(ISNUMBER(OFFSET('Water Data'!$I$9,0,10*ROW('Water Data'!I3))),'Data Summary'!CJ9="Yes"),OFFSET('Water Data'!$I$9,0,10*ROW('Water Data'!I3)),NA()) -> 56.756757 | V9: =+IF(AND(ISNUMBER(OFFSET('Sanitation Data'!$D$4,0,10*ROW('Sanitation Data'!D3))),'Data Summary'!CK9="Yes"),100-OFFSET('Sanitation Data'!$D$4,0,10*ROW('Sanitation Data'!D3)),NA()) -> 90.3 | W9: =+IF(AND(ISNUMBER(OFFSET('Sanitation Data'!$D$6,0,10*ROW('Sanitation Data'!D3))),'Data Summary'!CL9="Yes"),OFFSET('Sanitation Data'!$D$6,0,10*ROW('Sanitation Data'!D3)),NA()) -> 61.221945 | X9: =+IF(AND(ISNUMBER(OFFSET('Sanitation Data'!$D$10,0,10*ROW('Sanitation Data'!D3))),'Data Summary'!CM9="Yes"),OFFSET('Sanitation Data'!$D$10,0,10*ROW('Sanitation Data'!D3)),NA()) -> #N/A | Y9: =+IF(AND(ISNUMBER(OFFSET('Sanitation Data'!$D$11,0,10*ROW('Sanitation Data'!D3))),'Data Summary'!CN9="Yes"),OFFSET('Sanitation Data'!$D$11,0,10*ROW('Sanitation Data'!D3)),NA()) -> #N/A | Z9: =+IF(AND(ISNUMBER(OFFSET('Sanitation Data'!$D$12,0,10*ROW('Sanitation Data'!D3))),'Data Summary'!CO9="Yes"),OFFSET('Sanitation Data'!$D$12,0,10*ROW('Sanitation Data'!D3)),NA()) -> 35.099751 | AA9: =+IF(AND(ISNUMBER(OFFSET('Sanitation Data'!$E$4,0,10*ROW('Sanitation Data'!E3))),'Data Summary'!CP9="Yes"),100-OFFSET('Sanitation Data'!$E$4,0,10*ROW('Sanitation Data'!E3)),NA()) -> #N/A | AB9: =+IF(AND(ISNUMBER(OFFSET('Sanitation Data'!$E$6,0,10*ROW('Sanitation Data'!E3))),'Data Summary'!CQ9="Yes"),OFFSET('Sanitation Data'!$E$6,0,10*ROW('Sanitation Data'!E3)),NA()) -> #N/A | AC9: =+IF(AND(ISNUMBER(OFFSET('Sanitation Data'!$E$10,0,10*ROW('Sanitation Data'!E3))),'Data Summary'!CR9="Yes"),OFFSET('Sanitation Data'!$E$10,0,10*ROW('Sanitation Data'!E3)),NA()) -> #N/A | AD9: =+IF(AND(ISNUMBER(OFFSET('Sanitation Data'!$E$11,0,10*ROW('Sanitation Data'!E3))),'Data Summary'!CS9="Yes"),OFFSET('Sanitation Data'!$E$11,0,10*ROW('Sanitation Data'!E3)),NA()) -> #N/A | AE9: =+IF(AND(ISNUMBER(OFFSET('Sanitation Data'!$E$12,0,10*ROW('Sanitation Data'!E3))),'Data Summary'!CT9="Yes"),OFFSET('Sanitation Data'!$E$12,0,10*ROW('Sanitation Data'!E3)),NA()) -> #N/A | AF9: =+IF(AND(ISNUMBER(OFFSET('Sanitation Data'!$F$4,0,10*ROW('Sanitation Data'!F3))),'Data Summary'!CU9="Yes"),100-OFFSET('Sanitation Data'!$F$4,0,10*ROW('Sanitation Data'!F3)),NA()) -> #N/A | AG9: =+IF(AND(ISNUMBER(OFFSET('Sanitation Data'!$F$6,0,10*ROW('Sanitation Data'!F3))),'Data Summary'!CV9="Yes"),OFFSET('Sanitation Data'!$F$6,0,10*ROW('Sanitation Data'!F3)),NA()) -> #N/A | AH9: =+IF(AND(ISNUMBER(OFFSET('Sanitation Data'!$F$10,0,10*ROW('Sanitation Data'!F3))),'Data Summary'!CW9="Yes"),OFFSET('Sanitation Data'!$F$10,0,10*ROW('Sanitation Data'!F3)),NA()) -> #N/A | AI9: =+IF(AND(ISNUMBER(OFFSET('Sanitation Data'!$F$11,0,10*ROW('Sanitation Data'!F3))),'Data Summary'!CX9="Yes"),OFFSET('Sanitation Data'!$F$11,0,10*ROW('Sanitation Data'!F3)),NA()) -> #N/A | AJ9: =+IF(AND(ISNUMBER(OFFSET('Sanitation Data'!$F$12,0,10*ROW('Sanitation Data'!F3))),'Data Summary'!CY9="Yes"),OFFSET('Sanitation Data'!$F$12,0,10*ROW('Sanitation Data'!F3)),NA()) -> #N/A | AK9: =+IF(AND(ISNUMBER(OFFSET('Sanitation Data'!$G$4,0,10*ROW('Sanitation Data'!G3))),'Data Summary'!CZ9="Yes"),100-OFFSET('Sanitation Data'!$G$4,0,10*ROW('Sanitation Data'!G3)),NA()) -> 76.3 | AL9: =+IF(AND(ISNUMBER(OFFSET('Sanitation Data'!$G$6,0,10*ROW('Sanitation Data'!G3))),'Data Summary'!DA9="Yes"),OFFSET('Sanitation Data'!$G$6,0,10*ROW('Sanitation Data'!G3)),NA()) -> 52.564103 | AM9: =+IF(AND(ISNUMBER(OFFSET('Sanitation Data'!$G$10,0,10*ROW('Sanitation Data'!G3))),'Data Summary'!DB9="Yes"),OFFSET('Sanitation Data'!$G$10,0,10*ROW('Sanitation Data'!G3)),NA()) -> #N/A | AN9: =+IF(AND(ISNUMBER(OFFSET('Sanitation Data'!$G$11,0,10*ROW('Sanitation Data'!G3))),'Data Summary'!DC9="Yes"),OFFSET('Sanitation Data'!$G$11,0,10*ROW('Sanitation Data'!G3)),NA()) -> #N/A | AO9: =+IF(AND(ISNUMBER(OFFSET('Sanitation Data'!$G$12,0,10*ROW('Sanitation Data'!G3))),'Data Summary'!DD9="Yes"),OFFSET('Sanitation Data'!$G$12,0,10*ROW('Sanitation Data'!G3)),NA()) -> 38.461538 | AP9: =+IF(AND(ISNUMBER(OFFSET('Sanitation Data'!$H$4,0,10*ROW('Sanitation Data'!H3))),'Data Summary'!DE9="Yes"),100-OFFSET('Sanitation Data'!$H$4,0,10*ROW('Sanitation Data'!H3)),NA()) -> 81 | AQ9: =+IF(AND(ISNUMBER(OFFSET('Sanitation Data'!$H$6,0,10*ROW('Sanitation Data'!H3))),'Data Summary'!DF9="Yes"),OFFSET('Sanitation Data'!$H$6,0,10*ROW('Sanitation Data'!H3)),NA()) -> 62.028302 | AR9: =+IF(AND(ISNUMBER(OFFSET('Sanitation Data'!$H$10,0,10*ROW('Sanitation Data'!H3))),'Data Summary'!DG9="Yes"),OFFSET('Sanitation Data'!$H$10,0,10*ROW('Sanitation Data'!H3)),NA()) -> #N/A | AS9: =+IF(AND(ISNUMBER(OFFSET('Sanitation Data'!$H$11,0,10*ROW('Sanitation Data'!H3))),'Data Summary'!DH9="Yes"),OFFSET('Sanitation Data'!$H$11,0,10*ROW('Sanitation Data'!H3)),NA()) -> #N/A | AT9: =+IF(AND(ISNUMBER(OFFSET('Sanitation Data'!$H$12,0,10*ROW('Sanitation Data'!H3))),'Data Summary'!DI9="Yes"),OFFSET('Sanitation Data'!$H$12,0,10*ROW('Sanitation Data'!H3)),NA()) -> 34.27673 | AU9: =+IF(AND(ISNUMBER(OFFSET('Sanitation Data'!$I$4,0,10*ROW('Sanitation Data'!I3))),'Data Summary'!DJ9="Yes"),100-OFFSET('Sanitation Data'!$I$4,0,10*ROW('Sanitation Data'!I3)),NA()) -> 85.7 | AV9: =+IF(AND(ISNUMBER(OFFSET('Sanitation Data'!$I$6,0,10*ROW('Sanitation Data'!I3))),'Data Summary'!DK9="Yes"),OFFSET('Sanitation Data'!$I$6,0,10*ROW('Sanitation Data'!I3)),NA()) -> 71.428571 | AW9: =+IF(AND(ISNUMBER(OFFSET('Sanitation Data'!$I$10,0,10*ROW('Sanitation Data'!I3))),'Data Summary'!DL9="Yes"),OFFSET('Sanitation Data'!$I$10,0,10*ROW('Sanitation Data'!I3)),NA()) -> #N/A | AX9: =+IF(AND(ISNUMBER(OFFSET('Sanitation Data'!$I$11,0,10*ROW('Sanitation Data'!I3))),'Data Summary'!DM9="Yes"),OFFSET('Sanitation Data'!$I$11,0,10*ROW('Sanitation Data'!I3)),NA()) -> #N/A | AY9: =+IF(AND(ISNUMBER(OFFSET('Sanitation Data'!$I$12,0,10*ROW('Sanitation Data'!I3))),'Data Summary'!DN9="Yes"),OFFSET('Sanitation Data'!$I$12,0,10*ROW('Sanitation Data'!I3)),NA()) -> 37.755102 | AZ9: =+IF(AND(ISNUMBER(OFFSET('Hygiene Data'!$D$5,0,10*ROW('Hygiene Data'!D3))),'Data Summary'!DO9="Yes"),OFFSET('Hygiene Data'!$D$5,0,10*ROW('Hygiene Data'!D3)),NA()) -> #N/A | BA9: =+IF(AND(ISNUMBER(OFFSET('Hygiene Data'!$D$7,0,10*ROW('Hygiene Data'!D3))),'Data Summary'!DP9="Yes"),OFFSET('Hygiene Data'!$D$7,0,10*ROW('Hygiene Data'!D3)),NA()) -> #N/A | BB9: =+IF(AND(ISNUMBER(OFFSET('Hygiene Data'!$D$9,0,10*ROW('Hygiene Data'!D3))),'Data Summary'!DQ9="Yes"),OFFSET('Hygiene Data'!$D$9,0,10*ROW('Hygiene Data'!D3)),NA()) -> #N/A | BC9: =+IF(AND(ISNUMBER(OFFSET('Hygiene Data'!$E$5,0,10*ROW('Hygiene Data'!E3))),'Data Summary'!DR9="Yes"),OFFSET('Hygiene Data'!$E$5,0,10*ROW('Hygiene Data'!E3)),NA()) -> #N/A | BD9: =+IF(AND(ISNUMBER(OFFSET('Hygiene Data'!$E$7,0,10*ROW('Hygiene Data'!E3))),'Data Summary'!DS9="Yes"),OFFSET('Hygiene Data'!$E$7,0,10*ROW('Hygiene Data'!E3)),NA()) -> #N/A | BE9: =+IF(AND(ISNUMBER(OFFSET('Hygiene Data'!$E$9,0,10*ROW('Hygiene Data'!E3))),'Data Summary'!DT9="Yes"),OFFSET('Hygiene Data'!$E$9,0,10*ROW('Hygiene Data'!E3)),NA()) -> #N/A | BF9: =+IF(AND(ISNUMBER(OFFSET('Hygiene Data'!$F$5,0,10*ROW('Hygiene Data'!F3))),'Data Summary'!DU9="Yes"),OFFSET('Hygiene Data'!$F$5,0,10*ROW('Hygiene Data'!F3)),NA()) -> #N/A | BG9: =+IF(AND(ISNUMBER(OFFSET('Hygiene Data'!$F$7,0,10*ROW('Hygiene Data'!F3))),'Data Summary'!DV9="Yes"),OFFSET('Hygiene Data'!$F$7,0,10*ROW('Hygiene Data'!F3)),NA()) -> #N/A | BH9: =+IF(AND(ISNUMBER(OFFSET('Hygiene Data'!$F$9,0,10*ROW('Hygiene Data'!F3))),'Data Summary'!DW9="Yes"),OFFSET('Hygiene Data'!$F$9,0,10*ROW('Hygiene Data'!F3)),NA()) -> #N/A | BI9: =+IF(AND(ISNUMBER(OFFSET('Hygiene Data'!$G$5,0,10*ROW('Hygiene Data'!G3))),'Data Summary'!DX9="Yes"),OFFSET('Hygiene Data'!$G$5,0,10*ROW('Hygiene Data'!G3)),NA()) -> #N/A | BJ9: =+IF(AND(ISNUMBER(OFFSET('Hygiene Data'!$G$7,0,10*ROW('Hygiene Data'!G3))),'Data Summary'!DY9="Yes"),OFFSET('Hygiene Data'!$G$7,0,10*ROW('Hygiene Data'!G3)),NA()) -> #N/A | BK9: =+IF(AND(ISNUMBER(OFFSET('Hygiene Data'!$G$9,0,10*ROW('Hygiene Data'!G3))),'Data Summary'!DZ9="Yes"),OFFSET('Hygiene Data'!$G$9,0,10*ROW('Hygiene Data'!G3)),NA()) -> #N/A | BL9: =+IF(AND(ISNUMBER(OFFSET('Hygiene Data'!$H$5,0,10*ROW('Hygiene Data'!H3))),'Data Summary'!EA9="Yes"),OFFSET('Hygiene Data'!$H$5,0,10*ROW('Hygiene Data'!H3)),NA()) -> #N/A | BM9: =+IF(AND(ISNUMBER(OFFSET('Hygiene Data'!$H$7,0,10*ROW('Hygiene Data'!H3))),'Data Summary'!EB9="Yes"),OFFSET('Hygiene Data'!$H$7,0,10*ROW('Hygiene Data'!H3)),NA()) -> #N/A | BN9: =+IF(AND(ISNUMBER(OFFSET('Hygiene Data'!$H$9,0,10*ROW('Hygiene Data'!H3))),'Data Summary'!EC9="Yes"),OFFSET('Hygiene Data'!$H$9,0,10*ROW('Hygiene Data'!H3)),NA()) -> #N/A | BO9: =+IF(AND(ISNUMBER(OFFSET('Hygiene Data'!$I$5,0,10*ROW('Hygiene Data'!I3))),'Data Summary'!ED9="Yes"),OFFSET('Hygiene Data'!$I$5,0,10*ROW('Hygiene Data'!I3)),NA()) -> #N/A | BP9: =+IF(AND(ISNUMBER(OFFSET('Hygiene Data'!$I$7,0,10*ROW('Hygiene Data'!I3))),'Data Summary'!EE9="Yes"),OFFSET('Hygiene Data'!$I$7,0,10*ROW('Hygiene Data'!I3)),NA()) -> #N/A | BQ9: =+IF(AND(ISNUMBER(OFFSET('Hygiene Data'!$I$9,0,10*ROW('Hygiene Data'!I3))),'Data Summary'!EF9="Yes"),OFFSET('Hygiene Data'!$I$9,0,10*ROW('Hygiene Data'!I3)),NA()) -> #N/A
A10: =+RIGHT('Data Summary'!A10,LEN('Data Summary'!A10)-9) -> EMIS | B10: =+IF(ISTEXT('Data Summary'!B10),'Data Summary'!B10,"") -> EMIS | C10: =+VALUE('Data Summary'!C10) -> 2014 | D10: =+IF(AND(ISNUMBER(OFFSET('Water Data'!$D$4,0,10*ROW('Water Data'!D4))),'Data Summary'!BS10="Yes"),100-OFFSET('Water Data'!$D$4,0,10*ROW('Water Data'!D4)),NA()) -> 78.02223 | E10: =+IF(AND(ISNUMBER(OFFSET('Water Data'!$D$6,0,10*ROW('Water Data'!D4))),'Data Summary'!BT10="Yes"),OFFSET('Water Data'!$D$6,0,10*ROW('Water Data'!D4)),NA()) -> 69.788555 | F10: =+IF(AND(ISNUMBER(OFFSET('Water Data'!$D$9,0,10*ROW('Water Data'!D4))),'Data Summary'!BU10="Yes"),OFFSET('Water Data'!$D$9,0,10*ROW('Water Data'!D4)),NA()) -> 64.74314 | G10: =+IF(AND(ISNUMBER(OFFSET('Water Data'!$E$4,0,10*ROW('Water Data'!E4))),'Data Summary'!BV10="Yes"),100-OFFSET('Water Data'!$E$4,0,10*ROW('Water Data'!E4)),NA()) -> #N/A | H10: =+IF(AND(ISNUMBER(OFFSET('Water Data'!$E$6,0,10*ROW('Water Data'!E4))),'Data Summary'!BW10="Yes"),OFFSET('Water Data'!$E$6,0,10*ROW('Water Data'!E4)),NA()) -> #N/A | I10: =+IF(AND(ISNUMBER(OFFSET('Water Data'!$E$9,0,10*ROW('Water Data'!E4))),'Data Summary'!BX10="Yes"),OFFSET('Water Data'!$E$9,0,10*ROW('Water Data'!E4)),NA()) -> #N/A | J10: =+IF(AND(ISNUMBER(OFFSET('Water Data'!$F$4,0,10*ROW('Water Data'!F4))),'Data Summary'!BY10="Yes"),100-OFFSET('Water Data'!$F$4,0,10*ROW('Water Data'!F4)),NA()) -> #N/A | K10: =+IF(AND(ISNUMBER(OFFSET('Water Data'!$F$6,0,10*ROW('Water Data'!F4))),'Data Summary'!BZ10="Yes"),OFFSET('Water Data'!$F$6,0,10*ROW('Water Data'!F4)),NA()) -> #N/A | L10: =+IF(AND(ISNUMBER(OFFSET('Water Data'!$F$9,0,10*ROW('Water Data'!F4))),'Data Summary'!CA10="Yes"),OFFSET('Water Data'!$F$9,0,10*ROW('Water Data'!F4)),NA()) -> #N/A | M10: =+IF(AND(ISNUMBER(OFFSET('Water Data'!$G$4,0,10*ROW('Water Data'!G4))),'Data Summary'!CB10="Yes"),100-OFFSET('Water Data'!$G$4,0,10*ROW('Water Data'!G4)),NA()) -> #N/A | N10: =+IF(AND(ISNUMBER(OFFSET('Water Data'!$G$6,0,10*ROW('Water Data'!G4))),'Data Summary'!CC10="Yes"),OFFSET('Water Data'!$G$6,0,10*ROW('Water Data'!G4)),NA()) -> #N/A | O10: =+IF(AND(ISNUMBER(OFFSET('Water Data'!$G$9,0,10*ROW('Water Data'!G4))),'Data Summary'!CD10="Yes"),OFFSET('Water Data'!$G$9,0,10*ROW('Water Data'!G4)),NA()) -> #N/A | P10: =+IF(AND(ISNUMBER(OFFSET('Water Data'!$H$4,0,10*ROW('Water Data'!H4))),'Data Summary'!CE10="Yes"),100-OFFSET('Water Data'!$H$4,0,10*ROW('Water Data'!H4)),NA()) -> 77.9 | Q10: =+IF(AND(ISNUMBER(OFFSET('Water Data'!$H$6,0,10*ROW('Water Data'!H4))),'Data Summary'!CF10="Yes"),OFFSET('Water Data'!$H$6,0,10*ROW('Water Data'!H4)),NA()) -> 69.9 | R10: =+IF(AND(ISNUMBER(OFFSET('Water Data'!$H$9,0,10*ROW('Water Data'!H4))),'Data Summary'!CG10="Yes"),OFFSET('Water Data'!$H$9,0,10*ROW('Water Data'!H4)),NA()) -> 64.7 | S10: =+IF(AND(ISNUMBER(OFFSET('Water Data'!$I$4,0,10*ROW('Water Data'!I4))),'Data Summary'!CH10="Yes"),100-OFFSET('Water Data'!$I$4,0,10*ROW('Water Data'!I4)),NA()) -> 79.6 | T10: =+IF(AND(ISNUMBER(OFFSET('Water Data'!$I$6,0,10*ROW('Water Data'!I4))),'Data Summary'!CI10="Yes"),OFFSET('Water Data'!$I$6,0,10*ROW('Water Data'!I4)),NA()) -> 68.35 | U10: =+IF(AND(ISNUMBER(OFFSET('Water Data'!$I$9,0,10*ROW('Water Data'!I4))),'Data Summary'!CJ10="Yes"),OFFSET('Water Data'!$I$9,0,10*ROW('Water Data'!I4)),NA()) -> 65.3 | V10: =+IF(AND(ISNUMBER(OFFSET('Sanitation Data'!$D$4,0,10*ROW('Sanitation Data'!D4))),'Data Summary'!CK10="Yes"),100-OFFSET('Sanitation Data'!$D$4,0,10*ROW('Sanitation Data'!D4)),NA()) -> #N/A | W10: =+IF(AND(ISNUMBER(OFFSET('Sanitation Data'!$D$6,0,10*ROW('Sanitation Data'!D4))),'Data Summary'!CL10="Yes"),OFFSET('Sanitation Data'!$D$6,0,10*ROW('Sanitation Data'!D4)),NA()) -> #N/A | X10: =+IF(AND(ISNUMBER(OFFSET('Sanitation Data'!$D$10,0,10*ROW('Sanitation Data'!D4))),'Data Summary'!CM10="Yes"),OFFSET('Sanitation Data'!$D$10,0,10*ROW('Sanitation Data'!D4)),NA()) -> #N/A | Y10: =+IF(AND(ISNUMBER(OFFSET('Sanitation Data'!$D$11,0,10*ROW('Sanitation Data'!D4))),'Data Summary'!CN10="Yes"),OFFSET('Sanitation Data'!$D$11,0,10*ROW('Sanitation Data'!D4)),NA()) -> #N/A | Z10: =+IF(AND(ISNUMBER(OFFSET('Sanitation Data'!$D$12,0,10*ROW('Sanitation Data'!D4))),'Data Summary'!CO10="Yes"),OFFSET('Sanitation Data'!$D$12,0,10*ROW('Sanitation Data'!D4)),NA()) -> #N/A | AA10: =+IF(AND(ISNUMBER(OFFSET('Sanitation Data'!$E$4,0,10*ROW('Sanitation Data'!E4))),'Data Summary'!CP10="Yes"),100-OFFSET('Sanitation Data'!$E$4,0,10*ROW('Sanitation Data'!E4)),NA()) -> #N/A | AB10: =+IF(AND(ISNUMBER(OFFSET('Sanitation Data'!$E$6,0,10*ROW('Sanitation Data'!E4))),'Data Summary'!CQ10="Yes"),OFFSET('Sanitation Data'!$E$6,0,10*ROW('Sanitation Data'!E4)),NA()) -> #N/A | AC10: =+IF(AND(ISNUMBER(OFFSET('Sanitation Data'!$E$10,0,10*ROW('Sanitation Data'!E4))),'Data Summary'!CR10="Yes"),OFFSET('Sanitation Data'!$E$10,0,10*ROW('Sanitation Data'!E4)),NA()) -> #N/A | AD10: =+IF(AND(ISNUMBER(OFFSET('Sanitation Data'!$E$11,0,10*ROW('Sanitation Data'!E4))),'Data Summary'!CS10="Yes"),OFFSET('Sanitation Data'!$E$11,0,10*ROW('Sanitation Data'!E4)),NA()) -> #N/A | AE10: =+IF(AND(ISNUMBER(OFFSET('Sanitation Data'!$E$12,0,10*ROW('Sanitation Data'!E4))),'Data Summary'!CT10="Yes"),OFFSET('Sanitation Data'!$E$12,0,10*ROW('Sanitation Data'!E4)),NA()) -> #N/A | AF10: =+IF(AND(ISNUMBER(OFFSET('Sanitation Data'!$F$4,0,10*ROW('Sanitation Data'!F4))),'Data Summary'!CU10="Yes"),100-OFFSET('Sanitation Data'!$F$4,0,10*ROW('Sanitation Data'!F4)),NA()) -> #N/A | AG10: =+IF(AND(ISNUMBER(OFFSET('Sanitation Data'!$F$6,0,10*ROW('Sanitation Data'!F4))),'Data Summary'!CV10="Yes"),OFFSET('Sanitation Data'!$F$6,0,10*ROW('Sanitation Data'!F4)),NA()) -> #N/A | AH10: =+IF(AND(ISNUMBER(OFFSET('Sanitation Data'!$F$10,0,10*ROW('Sanitation Data'!F4))),'Data Summary'!CW10="Yes"),OFFSET('Sanitation Data'!$F$10,0,10*ROW('Sanitation Data'!F4)),NA()) -> #N/A | AI10: =+IF(AND(ISNUMBER(OFFSET('Sanitation Data'!$F$11,0,10*ROW('Sanitation Data'!F4))),'Data Summary'!CX10="Yes"),OFFSET('Sanitation Data'!$F$11,0,10*ROW('Sanitation Data'!F4)),NA()) -> #N/A | AJ10: =+IF(AND(ISNUMBER(OFFSET('Sanitation Data'!$F$12,0,10*ROW('Sanitation Data'!F4))),'Data Summary'!CY10="Yes"),OFFSET('Sanitation Data'!$F$12,0,10*ROW('Sanitation Data'!F4)),NA()) -> #N/A | AK10: =+IF(AND(ISNUMBER(OFFSET('Sanitation Data'!$G$4,0,10*ROW('Sanitation Data'!G4))),'Data Summary'!CZ10="Yes"),100-OFFSET('Sanitation Data'!$G$4,0,10*ROW('Sanitation Data'!G4)),NA()) -> #N/A | AL10: =+IF(AND(ISNUMBER(OFFSET('Sanitation Data'!$G$6,0,10*ROW('Sanitation Data'!G4))),'Data Summary'!DA10="Yes"),OFFSET('Sanitation Data'!$G$6,0,10*ROW('Sanitation Data'!G4)),NA()) -> #N/A | AM10: =+IF(AND(ISNUMBER(OFFSET('Sanitation Data'!$G$10,0,10*ROW('Sanitation Data'!G4))),'Data Summary'!DB10="Yes"),OFFSET('Sanitation Data'!$G$10,0,10*ROW('Sanitation Data'!G4)),NA()) -> #N/A | AN10: =+IF(AND(ISNUMBER(OFFSET('Sanitation Data'!$G$11,0,10*ROW('Sanitation Data'!G4))),'Data Summary'!DC10="Yes"),OFFSET('Sanitation Data'!$G$11,0,10*ROW('Sanitation Data'!G4)),NA()) -> #N/A | AO10: =+IF(AND(ISNUMBER(OFFSET('Sanitation Data'!$G$12,0,10*ROW('Sanitation Data'!G4))),'Data Summary'!DD10="Yes"),OFFSET('Sanitation Data'!$G$12,0,10*ROW('Sanitation Data'!G4)),NA()) -> #N/A | AP10: =+IF(AND(ISNUMBER(OFFSET('Sanitation Data'!$H$4,0,10*ROW('Sanitation Data'!H4))),'Data Summary'!DE10="Yes"),100-OFFSET('Sanitation Data'!$H$4,0,10*ROW('Sanitation Data'!H4)),NA()) -> #N/A | AQ10: =+IF(AND(ISNUMBER(OFFSET('Sanitation Data'!$H$6,0,10*ROW('Sanitation Data'!H4))),'Data Summary'!DF10="Yes"),OFFSET('Sanitation Data'!$H$6,0,10*ROW('Sanitation Data'!H4)),NA()) -> #N/A | AR10: =+IF(AND(ISNUMBER(OFFSET('Sanitation Data'!$H$10,0,10*ROW('Sanitation Data'!H4))),'Data Summary'!DG10="Yes"),OFFSET('Sanitation Data'!$H$10,0,10*ROW('Sanitation Data'!H4)),NA()) -> #N/A | AS10: =+IF(AND(ISNUMBER(OFFSET('Sanitation Data'!$H$11,0,10*ROW('Sanitation Data'!H4))),'Data Summary'!DH10="Yes"),OFFSET('Sanitation Data'!$H$11,0,10*ROW('Sanitation Data'!H4)),NA()) -> #N/A | AT10: =+IF(AND(ISNUMBER(OFFSET('Sanitation Data'!$H$12,0,10*ROW('Sanitation Data'!H4))),'Data Summary'!DI10="Yes"),OFFSET('Sanitation Data'!$H$12,0,10*ROW('Sanitation Data'!H4)),NA()) -> #N/A | AU10: =+IF(AND(ISNUMBER(OFFSET('Sanitation Data'!$I$4,0,10*ROW('Sanitation Data'!I4))),'Data Summary'!DJ10="Yes"),100-OFFSET('Sanitation Data'!$I$4,0,10*ROW('Sanitation Data'!I4)),NA()) -> #N/A | AV10: =+IF(AND(ISNUMBER(OFFSET('Sanitation Data'!$I$6,0,10*ROW('Sanitation Data'!I4))),'Data Summary'!DK10="Yes"),OFFSET('Sanitation Data'!$I$6,0,10*ROW('Sanitation Data'!I4)),NA()) -> #N/A | AW10: =+IF(AND(ISNUMBER(OFFSET('Sanitation Data'!$I$10,0,10*ROW('Sanitation Data'!I4))),'Data Summary'!DL10="Yes"),OFFSET('Sanitation Data'!$I$10,0,10*ROW('Sanitation Data'!I4)),NA()) -> #N/A | AX10: =+IF(AND(ISNUMBER(OFFSET('Sanitation Data'!$I$11,0,10*ROW('Sanitation Data'!I4))),'Data Summary'!DM10="Yes"),OFFSET('Sanitation Data'!$I$11,0,10*ROW('Sanitation Data'!I4)),NA()) -> #N/A | AY10: =+IF(AND(ISNUMBER(OFFSET('Sanitation Data'!$I$12,0,10*ROW('Sanitation Data'!I4))),'Data Summary'!DN10="Yes"),OFFSET('Sanitation Data'!$I$12,0,10*ROW('Sanitation Data'!I4)),NA()) -> #N/A | AZ10: =+IF(AND(ISNUMBER(OFFSET('Hygiene Data'!$D$5,0,10*ROW('Hygiene Data'!D4))),'Data Summary'!DO10="Yes"),OFFSET('Hygiene Data'!$D$5,0,10*ROW('Hygiene Data'!D4)),NA()) -> #N/A | BA10: =+IF(AND(ISNUMBER(OFFSET('Hygiene Data'!$D$7,0,10*ROW('Hygiene Data'!D4))),'Data Summary'!DP10="Yes"),OFFSET('Hygiene Data'!$D$7,0,10*ROW('Hygiene Data'!D4)),NA()) -> #N/A | BB10: =+IF(AND(ISNUMBER(OFFSET('Hygiene Data'!$D$9,0,10*ROW('Hygiene Data'!D4))),'Data Summary'!DQ10="Yes"),OFFSET('Hygiene Data'!$D$9,0,10*ROW('Hygiene Data'!D4)),NA()) -> #N/A | BC10: =+IF(AND(ISNUMBER(OFFSET('Hygiene Data'!$E$5,0,10*ROW('Hygiene Data'!E4))),'Data Summary'!DR10="Yes"),OFFSET('Hygiene Data'!$E$5,0,10*ROW('Hygiene Data'!E4)),NA()) -> #N/A | BD10: =+IF(AND(ISNUMBER(OFFSET('Hygiene Data'!$E$7,0,10*ROW('Hygiene Data'!E4))),'Data Summary'!DS10="Yes"),OFFSET('Hygiene Data'!$E$7,0,10*ROW('Hygiene Data'!E4)),NA()) -> #N/A | BE10: =+IF(AND(ISNUMBER(OFFSET('Hygiene Data'!$E$9,0,10*ROW('Hygiene Data'!E4))),'Data Summary'!DT10="Yes"),OFFSET('Hygiene Data'!$E$9,0,10*ROW('Hygiene Data'!E4)),NA()) -> #N/A | BF10: =+IF(AND(ISNUMBER(OFFSET('Hygiene Data'!$F$5,0,10*ROW('Hygiene Data'!F4))),'Data Summary'!DU10="Yes"),OFFSET('Hygiene Data'!$F$5,0,10*ROW('Hygiene Data'!F4)),NA()) -> #N/A | BG10: =+IF(AND(ISNUMBER(OFFSET('Hygiene Data'!$F$7,0,10*ROW('Hygiene Data'!F4))),'Data Summary'!DV10="Yes"),OFFSET('Hygiene Data'!$F$7,0,10*ROW('Hygiene Data'!F4)),NA()) -> #N/A | BH10: =+IF(AND(ISNUMBER(OFFSET('Hygiene Data'!$F$9,0,10*ROW('Hygiene Data'!F4))),'Data Summary'!DW10="Yes"),OFFSET('Hygiene Data'!$F$9,0,10*ROW('Hygiene Data'!F4)),NA()) -> #N/A | BI10: =+IF(AND(ISNUMBER(OFFSET('Hygiene Data'!$G$5,0,10*ROW('Hygiene Data'!G4))),'Data Summary'!DX10="Yes"),OFFSET('Hygiene Data'!$G$5,0,10*ROW('Hygiene Data'!G4)),NA()) -> #N/A | BJ10: =+IF(AND(ISNUMBER(OFFSET('Hygiene Data'!$G$7,0,10*ROW('Hygiene Data'!G4))),'Data Summary'!DY10="Yes"),OFFSET('Hygiene Data'!$G$7,0,10*ROW('Hygiene Data'!G4)),NA()) -> #N/A | BK10: =+IF(AND(ISNUMBER(OFFSET('Hygiene Data'!$G$9,0,10*ROW('Hygiene Data'!G4))),'Data Summary'!DZ10="Yes"),OFFSET('Hygiene Data'!$G$9,0,10*ROW('Hygiene Data'!G4)),NA()) -> #N/A | BL10: =+IF(AND(ISNUMBER(OFFSET('Hygiene Data'!$H$5,0,10*ROW('Hygiene Data'!H4))),'Data Summary'!EA10="Yes"),OFFSET('Hygiene Data'!$H$5,0,10*ROW('Hygiene Data'!H4)),NA()) -> #N/A | BM10: =+IF(AND(ISNUMBER(OFFSET('Hygiene Data'!$H$7,0,10*ROW('Hygiene Data'!H4))),'Data Summary'!EB10="Yes"),OFFSET('Hygiene Data'!$H$7,0,10*ROW('Hygiene Data'!H4)),NA()) -> #N/A | BN10: =+IF(AND(ISNUMBER(OFFSET('Hygiene Data'!$H$9,0,10*ROW('Hygiene Data'!H4))),'Data Summary'!EC10="Yes"),OFFSET('Hygiene Data'!$H$9,0,10*ROW('Hygiene Data'!H4)),NA()) -> #N/A | BO10: =+IF(AND(ISNUMBER(OFFSET('Hygiene Data'!$I$5,0,10*ROW('Hygiene Data'!I4))),'Data Summary'!ED10="Yes"),OFFSET('Hygiene Data'!$I$5,0,10*ROW('Hygiene Data'!I4)),NA()) -> #N/A | BP10: =+IF(AND(ISNUMBER(OFFSET('Hygiene Data'!$I$7,0,10*ROW('Hygiene Data'!I4))),'Data Summary'!EE10="Yes"),OFFSET('Hygiene Data'!$I$7,0,10*ROW('Hygiene Data'!I4)),NA()) -> #N/A | BQ10: =+IF(AND(ISNUMBER(OFFSET('Hygiene Data'!$I$9,0,10*ROW('Hygiene Data'!I4))),'Data Summary'!EF10="Yes"),OFFSET('Hygiene Data'!$I$9,0,10*ROW('Hygiene Data'!I4)),NA()) -> #N/A
A11: =+RIGHT('Data Summary'!A11,LEN('Data Summary'!A11)-9) -> EMIS | B11: =+IF(ISTEXT('Data Summary'!B11),'Data Summary'!B11,"") -> EMIS | C11: =+VALUE('Data Summary'!C11) -> 2015 | D11: =+IF(AND(ISNUMBER(OFFSET('Water Data'!$D$4,0,10*ROW('Water Data'!D5))),'Data Summary'!BS11="Yes"),100-OFFSET('Water Data'!$D$4,0,10*ROW('Water Data'!D5)),NA()) -> #N/A | E11: =+IF(AND(ISNUMBER(OFFSET('Water Data'!$D$6,0,10*ROW('Water Data'!D5))),'Data Summary'!BT11="Yes"),OFFSET('Water Data'!$D$6,0,10*ROW('Water Data'!D5)),NA()) -> #N/A | F11: =+IF(AND(ISNUMBER(OFFSET('Water Data'!$D$9,0,10*ROW('Water Data'!D5))),'Data Summary'!BU11="Yes"),OFFSET('Water Data'!$D$9,0,10*ROW('Water Data'!D5)),NA()) -> #N/A | G11: =+IF(AND(ISNUMBER(OFFSET('Water Data'!$E$4,0,10*ROW('Water Data'!E5))),'Data Summary'!BV11="Yes"),100-OFFSET('Water Data'!$E$4,0,10*ROW('Water Data'!E5)),NA()) -> #N/A | H11: =+IF(AND(ISNUMBER(OFFSET('Water Data'!$E$6,0,10*ROW('Water Data'!E5))),'Data Summary'!BW11="Yes"),OFFSET('Water Data'!$E$6,0,10*ROW('Water Data'!E5)),NA()) -> #N/A | I11: =+IF(AND(ISNUMBER(OFFSET('Water Data'!$E$9,0,10*ROW('Water Data'!E5))),'Data Summary'!BX11="Yes"),OFFSET('Water Data'!$E$9,0,10*ROW('Water Data'!E5)),NA()) -> #N/A | J11: =+IF(AND(ISNUMBER(OFFSET('Water Data'!$F$4,0,10*ROW('Water Data'!F5))),'Data Summary'!BY11="Yes"),100-OFFSET('Water Data'!$F$4,0,10*ROW('Water Data'!F5)),NA()) -> #N/A | K11: =+IF(AND(ISNUMBER(OFFSET('Water Data'!$F$6,0,10*ROW('Water Data'!F5))),'Data Summary'!BZ11="Yes"),OFFSET('Water Data'!$F$6,0,10*ROW('Water Data'!F5)),NA()) -> #N/A | L11: =+IF(AND(ISNUMBER(OFFSET('Water Data'!$F$9,0,10*ROW('Water Data'!F5))),'Data Summary'!CA11="Yes"),OFFSET('Water Data'!$F$9,0,10*ROW('Water Data'!F5)),NA()) -> #N/A | M11: =+IF(AND(ISNUMBER(OFFSET('Water Data'!$G$4,0,10*ROW('Water Data'!G5))),'Data Summary'!CB11="Yes"),100-OFFSET('Water Data'!$G$4,0,10*ROW('Water Data'!G5)),NA()) -> #N/A | N11: =+IF(AND(ISNUMBER(OFFSET('Water Data'!$G$6,0,10*ROW('Water Data'!G5))),'Data Summary'!CC11="Yes"),OFFSET('Water Data'!$G$6,0,10*ROW('Water Data'!G5)),NA()) -> #N/A | O11: =+IF(AND(ISNUMBER(OFFSET('Water Data'!$G$9,0,10*ROW('Water Data'!G5))),'Data Summary'!CD11="Yes"),OFFSET('Water Data'!$G$9,0,10*ROW('Water Data'!G5)),NA()) -> #N/A | P11: =+IF(AND(ISNUMBER(OFFSET('Water Data'!$H$4,0,10*ROW('Water Data'!H5))),'Data Summary'!CE11="Yes"),100-OFFSET('Water Data'!$H$4,0,10*ROW('Water Data'!H5)),NA()) -> #N/A | Q11: =+IF(AND(ISNUMBER(OFFSET('Water Data'!$H$6,0,10*ROW('Water Data'!H5))),'Data Summary'!CF11="Yes"),OFFSET('Water Data'!$H$6,0,10*ROW('Water Data'!H5)),NA()) -> #N/A | R11: =+IF(AND(ISNUMBER(OFFSET('Water Data'!$H$9,0,10*ROW('Water Data'!H5))),'Data Summary'!CG11="Yes"),OFFSET('Water Data'!$H$9,0,10*ROW('Water Data'!H5)),NA()) -> #N/A | S11: =+IF(AND(ISNUMBER(OFFSET('Water Data'!$I$4,0,10*ROW('Water Data'!I5))),'Data Summary'!CH11="Yes"),100-OFFSET('Water Data'!$I$4,0,10*ROW('Water Data'!I5)),NA()) -> #N/A | T11: =+IF(AND(ISNUMBER(OFFSET('Water Data'!$I$6,0,10*ROW('Water Data'!I5))),'Data Summary'!CI11="Yes"),OFFSET('Water Data'!$I$6,0,10*ROW('Water Data'!I5)),NA()) -> #N/A | U11: =+IF(AND(ISNUMBER(OFFSET('Water Data'!$I$9,0,10*ROW('Water Data'!I5))),'Data Summary'!CJ11="Yes"),OFFSET('Water Data'!$I$9,0,10*ROW('Water Data'!I5)),NA()) -> #N/A | V11: =+IF(AND(ISNUMBER(OFFSET('Sanitation Data'!$D$4,0,10*ROW('Sanitation Data'!D5))),'Data Summary'!CK11="Yes"),100-OFFSET('Sanitation Data'!$D$4,0,10*ROW('Sanitation Data'!D5)),NA()) -> #N/A | W11: =+IF(AND(ISNUMBER(OFFSET('Sanitation Data'!$D$6,0,10*ROW('Sanitation Data'!D5))),'Data Summary'!CL11="Yes"),OFFSET('Sanitation Data'!$D$6,0,10*ROW('Sanitation Data'!D5)),NA()) -> #N/A | X11: =+IF(AND(ISNUMBER(OFFSET('Sanitation Data'!$D$10,0,10*ROW('Sanitation Data'!D5))),'Data Summary'!CM11="Yes"),OFFSET('Sanitation Data'!$D$10,0,10*ROW('Sanitation Data'!D5)),NA()) -> #N/A | Y11: =+IF(AND(ISNUMBER(OFFSET('Sanitation Data'!$D$11,0,10*ROW('Sanitation Data'!D5))),'Data Summary'!CN11="Yes"),OFFSET('Sanitation Data'!$D$11,0,10*ROW('Sanitation Data'!D5)),NA()) -> #N/A | Z11: =+IF(AND(ISNUMBER(OFFSET('Sanitation Data'!$D$12,0,10*ROW('Sanitation Data'!D5))),'Data Summary'!CO11="Yes"),OFFSET('Sanitation Data'!$D$12,0,10*ROW('Sanitation Data'!D5)),NA()) -> #N/A | AA11: =+IF(AND(ISNUMBER(OFFSET('Sanitation Data'!$E$4,0,10*ROW('Sanitation Data'!E5))),'Data Summary'!CP11="Yes"),100-OFFSET('Sanitation Data'!$E$4,0,10*ROW('Sanitation Data'!E5)),NA()) -> #N/A | AB11: =+IF(AND(ISNUMBER(OFFSET('Sanitation Data'!$E$6,0,10*ROW('Sanitation Data'!E5))),'Data Summary'!CQ11="Yes"),OFFSET('Sanitation Data'!$E$6,0,10*ROW('Sanitation Data'!E5)),NA()) -> #N/A | AC11: =+IF(AND(ISNUMBER(OFFSET('Sanitation Data'!$E$10,0,10*ROW('Sanitation Data'!E5))),'Data Summary'!CR11="Yes"),OFFSET('Sanitation Data'!$E$10,0,10*ROW('Sanitation Data'!E5)),NA()) -> #N/A | AD11: =+IF(AND(ISNUMBER(OFFSET('Sanitation Data'!$E$11,0,10*ROW('Sanitation Data'!E5))),'Data Summary'!CS11="Yes"),OFFSET('Sanitation Data'!$E$11,0,10*ROW('Sanitation Data'!E5)),NA()) -> #N/A | AE11: =+IF(AND(ISNUMBER(OFFSET('Sanitation Data'!$E$12,0,10*ROW('Sanitation Data'!E5))),'Data Summary'!CT11="Yes"),OFFSET('Sanitation Data'!$E$12,0,10*ROW('Sanitation Data'!E5)),NA()) -> #N/A | AF11: =+IF(AND(ISNUMBER(OFFSET('Sanitation Data'!$F$4,0,10*ROW('Sanitation Data'!F5))),'Data Summary'!CU11="Yes"),100-OFFSET('Sanitation Data'!$F$4,0,10*ROW('Sanitation Data'!F5)),NA()) -> #N/A | AG11: =+IF(AND(ISNUMBER(OFFSET('Sanitation Data'!$F$6,0,10*ROW('Sanitation Data'!F5))),'Data Summary'!CV11="Yes"),OFFSET('Sanitation Data'!$F$6,0,10*ROW('Sanitation Data'!F5)),NA()) -> #N/A | AH11: =+IF(AND(ISNUMBER(OFFSET('Sanitation Data'!$F$10,0,10*ROW('Sanitation Data'!F5))),'Data Summary'!CW11="Yes"),OFFSET('Sanitation Data'!$F$10,0,10*ROW('Sanitation Data'!F5)),NA()) -> #N/A | AI11: =+IF(AND(ISNUMBER(OFFSET('Sanitation Data'!$F$11,0,10*ROW('Sanitation Data'!F5))),'Data Summary'!CX11="Yes"),OFFSET('Sanitation Data'!$F$11,0,10*ROW('Sanitation Data'!F5)),NA()) -> #N/A | AJ11: =+IF(AND(ISNUMBER(OFFSET('Sanitation Data'!$F$12,0,10*ROW('Sanitation Data'!F5))),'Data Summary'!CY11="Yes"),OFFSET('Sanitation Data'!$F$12,0,10*ROW('Sanitation Data'!F5)),NA()) -> #N/A | AK11: =+IF(AND(ISNUMBER(OFFSET('Sanitation Data'!$G$4,0,10*ROW('Sanitation Data'!G5))),'Data Summary'!CZ11="Yes"),100-OFFSET('Sanitation Data'!$G$4,0,10*ROW('Sanitation Data'!G5)),NA()) -> #N/A | AL11: =+IF(AND(ISNUMBER(OFFSET('Sanitation Data'!$G$6,0,10*ROW('Sanitation Data'!G5))),'Data Summary'!DA11="Yes"),OFFSET('Sanitation Data'!$G$6,0,10*ROW('Sanitation Data'!G5)),NA()) -> #N/A | AM11: =+IF(AND(ISNUMBER(OFFSET('Sanitation Data'!$G$10,0,10*ROW('Sanitation Data'!G5))),'Data Summary'!DB11="Yes"),OFFSET('Sanitation Data'!$G$10,0,10*ROW('Sanitation Data'!G5)),NA()) -> #N/A | AN11: =+IF(AND(ISNUMBER(OFFSET('Sanitation Data'!$G$11,0,10*ROW('Sanitation Data'!G5))),'Data Summary'!DC11="Yes"),OFFSET('Sanitation Data'!$G$11,0,10*ROW('Sanitation Data'!G5)),NA()) -> #N/A | AO11: =+IF(AND(ISNUMBER(OFFSET('Sanitation Data'!$G$12,0,10*ROW('Sanitation Data'!G5))),'Data Summary'!DD11="Yes"),OFFSET('Sanitation Data'!$G$12,0,10*ROW('Sanitation Data'!G5)),NA()) -> #N/A | AP11: =+IF(AND(ISNUMBER(OFFSET('Sanitation Data'!$H$4,0,10*ROW('Sanitation Data'!H5))),'Data Summary'!DE11="Yes"),100-OFFSET('Sanitation Data'!$H$4,0,10*ROW('Sanitation Data'!H5)),NA()) -> #N/A | AQ11: =+IF(AND(ISNUMBER(OFFSET('Sanitation Data'!$H$6,0,10*ROW('Sanitation Data'!H5))),'Data Summary'!DF11="Yes"),OFFSET('Sanitation Data'!$H$6,0,10*ROW('Sanitation Data'!H5)),NA()) -> #N/A | AR11: =+IF(AND(ISNUMBER(OFFSET('Sanitation Data'!$H$10,0,10*ROW('Sanitation Data'!H5))),'Data Summary'!DG11="Yes"),OFFSET('Sanitation Data'!$H$10,0,10*ROW('Sanitation Data'!H5)),NA()) -> #N/A | AS11: =+IF(AND(ISNUMBER(OFFSET('Sanitation Data'!$H$11,0,10*ROW('Sanitation Data'!H5))),'Data Summary'!DH11="Yes"),OFFSET('Sanitation Data'!$H$11,0,10*ROW('Sanitation Data'!H5)),NA()) -> #N/A | AT11: =+IF(AND(ISNUMBER(OFFSET('Sanitation Data'!$H$12,0,10*ROW('Sanitation Data'!H5))),'Data Summary'!DI11="Yes"),OFFSET('Sanitation Data'!$H$12,0,10*ROW('Sanitation Data'!H5)),NA()) -> #N/A | AU11: =+IF(AND(ISNUMBER(OFFSET('Sanitation Data'!$I$4,0,10*ROW('Sanitation Data'!I5))),'Data Summary'!DJ11="Yes"),100-OFFSET('Sanitation Data'!$I$4,0,10*ROW('Sanitation Data'!I5)),NA()) -> #N/A | AV11: =+IF(AND(ISNUMBER(OFFSET('Sanitation Data'!$I$6,0,10*ROW('Sanitation Data'!I5))),'Data Summary'!DK11="Yes"),OFFSET('Sanitation Data'!$I$6,0,10*ROW('Sanitation Data'!I5)),NA()) -> #N/A | AW11: =+IF(AND(ISNUMBER(OFFSET('Sanitation Data'!$I$10,0,10*ROW('Sanitation Data'!I5))),'Data Summary'!DL11="Yes"),OFFSET('Sanitation Data'!$I$10,0,10*ROW('Sanitation Data'!I5)),NA()) -> #N/A | AX11: =+IF(AND(ISNUMBER(OFFSET('Sanitation Data'!$I$11,0,10*ROW('Sanitation Data'!I5))),'Data Summary'!DM11="Yes"),OFFSET('Sanitation Data'!$I$11,0,10*ROW('Sanitation Data'!I5)),NA()) -> #N/A | AY11: =+IF(AND(ISNUMBER(OFFSET('Sanitation Data'!$I$12,0,10*ROW('Sanitation Data'!I5))),'Data Summary'!DN11="Yes"),OFFSET('Sanitation Data'!$I$12,0,10*ROW('Sanitation Data'!I5)),NA()) -> #N/A | AZ11: =+IF(AND(ISNUMBER(OFFSET('Hygiene Data'!$D$5,0,10*ROW('Hygiene Data'!D5))),'Data Summary'!DO11="Yes"),OFFSET('Hygiene Data'!$D$5,0,10*ROW('Hygiene Data'!D5)),NA()) -> #N/A | BA11: =+IF(AND(ISNUMBER(OFFSET('Hygiene Data'!$D$7,0,10*ROW('Hygiene Data'!D5))),'Data Summary'!DP11="Yes"),OFFSET('Hygiene Data'!$D$7,0,10*ROW('Hygiene Data'!D5)),NA()) -> #N/A | BB11: =+IF(AND(ISNUMBER(OFFSET('Hygiene Data'!$D$9,0,10*ROW('Hygiene Data'!D5))),'Data Summary'!DQ11="Yes"),OFFSET('Hygiene Data'!$D$9,0,10*ROW('Hygiene Data'!D5)),NA()) -> #N/A | BC11: =+IF(AND(ISNUMBER(OFFSET('Hygiene Data'!$E$5,0,10*ROW('Hygiene Data'!E5))),'Data Summary'!DR11="Yes"),OFFSET('Hygiene Data'!$E$5,0,10*ROW('Hygiene Data'!E5)),NA()) -> #N/A | BD11: =+IF(AND(ISNUMBER(OFFSET('Hygiene Data'!$E$7,0,10*ROW('Hygiene Data'!E5))),'Data Summary'!DS11="Yes"),OFFSET('Hygiene Data'!$E$7,0,10*ROW('Hygiene Data'!E5)),NA()) -> #N/A | BE11: =+IF(AND(ISNUMBER(OFFSET('Hygiene Data'!$E$9,0,10*ROW('Hygiene Data'!E5))),'Data Summary'!DT11="Yes"),OFFSET('Hygiene Data'!$E$9,0,10*ROW('Hygiene Data'!E5)),NA()) -> #N/A | BF11: =+IF(AND(ISNUMBER(OFFSET('Hygiene Data'!$F$5,0,10*ROW('Hygiene Data'!F5))),'Data Summary'!DU11="Yes"),OFFSET('Hygiene Data'!$F$5,0,10*ROW('Hygiene Data'!F5)),NA()) -> #N/A | BG11: =+IF(AND(ISNUMBER(OFFSET('Hygiene Data'!$F$7,0,10*ROW('Hygiene Data'!F5))),'Data Summary'!DV11="Yes"),OFFSET('Hygiene Data'!$F$7,0,10*ROW('Hygiene Data'!F5)),NA()) -> #N/A | BH11: =+IF(AND(ISNUMBER(OFFSET('Hygiene Data'!$F$9,0,10*ROW('Hygiene Data'!F5))),'Data Summary'!DW11="Yes"),OFFSET('Hygiene Data'!$F$9,0,10*ROW('Hygiene Data'!F5)),NA()) -> #N/A | BI11: =+IF(AND(ISNUMBER(OFFSET('Hygiene Data'!$G$5,0,10*ROW('Hygiene Data'!G5))),'Data Summary'!DX11="Yes"),OFFSET('Hygiene Data'!$G$5,0,10*ROW('Hygiene Data'!G5)),NA()) -> #N/A | BJ11: =+IF(AND(ISNUMBER(OFFSET('Hygiene Data'!$G$7,0,10*ROW('Hygiene Data'!G5))),'Data Summary'!DY11="Yes"),OFFSET('Hygiene Data'!$G$7,0,10*ROW('Hygiene Data'!G5)),NA()) -> #N/A | BK11: =+IF(AND(ISNUMBER(OFFSET('Hygiene Data'!$G$9,0,10*ROW('Hygiene Data'!G5))),'Data Summary'!DZ11="Yes"),OFFSET('Hygiene Data'!$G$9,0,10*ROW('Hygiene Data'!G5)),NA()) -> #N/A | BL11: =+IF(AND(ISNUMBER(OFFSET('Hygiene Data'!$H$5,0,10*ROW('Hygiene Data'!H5))),'Data Summary'!EA11="Yes"),OFFSET('Hygiene Data'!$H$5,0,10*ROW('Hygiene Data'!H5)),NA()) -> #N/A | BM11: =+IF(AND(ISNUMBER(OFFSET('Hygiene Data'!$H$7,0,10*ROW('Hygiene Data'!H5))),'Data Summary'!EB11="Yes"),OFFSET('Hygiene Data'!$H$7,0,10*ROW('Hygiene Data'!H5)),NA()) -> #N/A | BN11: =+IF(AND(ISNUMBER(OFFSET('Hygiene Data'!$H$9,0,10*ROW('Hygiene Data'!H5))),'Data Summary'!EC11="Yes"),OFFSET('Hygiene Data'!$H$9,0,10*ROW('Hygiene Data'!H5)),NA()) -> #N/A | BO11: =+IF(AND(ISNUMBER(OFFSET('Hygiene Data'!$I$5,0,10*ROW('Hygiene Data'!I5))),'Data Summary'!ED11="Yes"),OFFSET('Hygiene Data'!$I$5,0,10*ROW('Hygiene Data'!I5)),NA()) -> #N/A | BP11: =+IF(AND(ISNUMBER(OFFSET('Hygiene Data'!$I$7,0,10*ROW('Hygiene Data'!I5))),'Data Summary'!EE11="Yes"),OFFSET('Hygiene Data'!$I$7,0,10*ROW('Hygiene Data'!I5)),NA()) -> #N/A | BQ11: =+IF(AND(ISNUMBER(OFFSET('Hygiene Data'!$I$9,0,10*ROW('Hygiene Data'!I5))),'Data Summary'!EF11="Yes"),OFFSET('Hygiene Data'!$I$9,0,10*ROW('Hygiene Data'!I5)),NA()) -> #N/A
A12: =+RIGHT('Data Summary'!A12,LEN('Data Summary'!A12)-9) -> UIS | B12: =+IF(ISTEXT('Data Summary'!B12),'Data Summary'!B12,"") -> Other | C12: =+VALUE('Data Summary'!C12) -> 2018 | D12: =+IF(AND(ISNUMBER(OFFSET('Water Data'!$D$4,0,10*ROW('Water Data'!D6))),'Data Summary'!BS12="Yes"),100-OFFSET('Water Data'!$D$4,0,10*ROW('Water Data'!D6)),NA()) -> #N/A | E12: =+IF(AND(ISNUMBER(OFFSET('Water Data'!$D$6,0,10*ROW('Water Data'!D6))),'Data Summary'!BT12="Yes"),OFFSET('Water Data'!$D$6,0,10*ROW('Water Data'!D6)),NA()) -> #N/A | F12: =+IF(AND(ISNUMBER(OFFSET('Water Data'!$D$9,0,10*ROW('Water Data'!D6))),'Data Summary'!BU12="Yes"),OFFSET('Water Data'!$D$9,0,10*ROW('Water Data'!D6)),NA()) -> 67.31669 | G12: =+IF(AND(ISNUMBER(OFFSET('Water Data'!$E$4,0,10*ROW('Water Data'!E6))),'Data Summary'!BV12="Yes"),100-OFFSET('Water Data'!$E$4,0,10*ROW('Water Data'!E6)),NA()) -> #N/A | H12: =+IF(AND(ISNUMBER(OFFSET('Water Data'!$E$6,0,10*ROW('Water Data'!E6))),'Data Summary'!BW12="Yes"),OFFSET('Water Data'!$E$6,0,10*ROW('Water Data'!E6)),NA()) -> #N/A | I12: =+IF(AND(ISNUMBER(OFFSET('Water Data'!$E$9,0,10*ROW('Water Data'!E6))),'Data Summary'!BX12="Yes"),OFFSET('Water Data'!$E$9,0,10*ROW('Water Data'!E6)),NA()) -> #N/A | J12: =+IF(AND(ISNUMBER(OFFSET('Water Data'!$F$4,0,10*ROW('Water Data'!F6))),'Data Summary'!BY12="Yes"),100-OFFSET('Water Data'!$F$4,0,10*ROW('Water Data'!F6)),NA()) -> #N/A | K12: =+IF(AND(ISNUMBER(OFFSET('Water Data'!$F$6,0,10*ROW('Water Data'!F6))),'Data Summary'!BZ12="Yes"),OFFSET('Water Data'!$F$6,0,10*ROW('Water Data'!F6)),NA()) -> #N/A | L12: =+IF(AND(ISNUMBER(OFFSET('Water Data'!$F$9,0,10*ROW('Water Data'!F6))),'Data Summary'!CA12="Yes"),OFFSET('Water Data'!$F$9,0,10*ROW('Water Data'!F6)),NA()) -> #N/A | M12: =+IF(AND(ISNUMBER(OFFSET('Water Data'!$G$4,0,10*ROW('Water Data'!G6))),'Data Summary'!CB12="Yes"),100-OFFSET('Water Data'!$G$4,0,10*ROW('Water Data'!G6)),NA()) -> #N/A | N12: =+IF(AND(ISNUMBER(OFFSET('Water Data'!$G$6,0,10*ROW('Water Data'!G6))),'Data Summary'!CC12="Yes"),OFFSET('Water Data'!$G$6,0,10*ROW('Water Data'!G6)),NA()) -> #N/A | O12: =+IF(AND(ISNUMBER(OFFSET('Water Data'!$G$9,0,10*ROW('Water Data'!G6))),'Data Summary'!CD12="Yes"),OFFSET('Water Data'!$G$9,0,10*ROW('Water Data'!G6)),NA()) -> #N/A | P12: =+IF(AND(ISNUMBER(OFFSET('Water Data'!$H$4,0,10*ROW('Water Data'!H6))),'Data Summary'!CE12="Yes"),100-OFFSET('Water Data'!$H$4,0,10*ROW('Water Data'!H6)),NA()) -> #N/A | Q12: =+IF(AND(ISNUMBER(OFFSET('Water Data'!$H$6,0,10*ROW('Water Data'!H6))),'Data Summary'!CF12="Yes"),OFFSET('Water Data'!$H$6,0,10*ROW('Water Data'!H6)),NA()) -> #N/A | R12: =+IF(AND(ISNUMBER(OFFSET('Water Data'!$H$9,0,10*ROW('Water Data'!H6))),'Data Summary'!CG12="Yes"),OFFSET('Water Data'!$H$9,0,10*ROW('Water Data'!H6)),NA()) -> 67.31669 | S12: =+IF(AND(ISNUMBER(OFFSET('Water Data'!$I$4,0,10*ROW('Water Data'!I6))),'Data Summary'!CH12="Yes"),100-OFFSET('Water Data'!$I$4,0,10*ROW('Water Data'!I6)),NA()) -> #N/A | T12: =+IF(AND(ISNUMBER(OFFSET('Water Data'!$I$6,0,10*ROW('Water Data'!I6))),'Data Summary'!CI12="Yes"),OFFSET('Water Data'!$I$6,0,10*ROW('Water Data'!I6)),NA()) -> #N/A | U12: =+IF(AND(ISNUMBER(OFFSET('Water Data'!$I$9,0,10*ROW('Water Data'!I6))),'Data Summary'!CJ12="Yes"),OFFSET('Water Data'!$I$9,0,10*ROW('Water Data'!I6)),NA()) -> 67.31669 | V12: =+IF(AND(ISNUMBER(OFFSET('Sanitation Data'!$D$4,0,10*ROW('Sanitation Data'!D6))),'Data Summary'!CK12="Yes"),100-OFFSET('Sanitation Data'!$D$4,0,10*ROW('Sanitation Data'!D6)),NA()) -> #N/A | W12: =+IF(AND(ISNUMBER(OFFSET('Sanitation Data'!$D$6,0,10*ROW('Sanitation Data'!D6))),'Data Summary'!CL12="Yes"),OFFSET('Sanitation Data'!$D$6,0,10*ROW('Sanitation Data'!D6)),NA()) -> #N/A | X12: =+IF(AND(ISNUMBER(OFFSET('Sanitation Data'!$D$10,0,10*ROW('Sanitation Data'!D6))),'Data Summary'!CM12="Yes"),OFFSET('Sanitation Data'!$D$10,0,10*ROW('Sanitation Data'!D6)),NA()) -> #N/A | Y12: =+IF(AND(ISNUMBER(OFFSET('Sanitation Data'!$D$11,0,10*ROW('Sanitation Data'!D6))),'Data Summary'!CN12="Yes"),OFFSET('Sanitation Data'!$D$11,0,10*ROW('Sanitation Data'!D6)),NA()) -> #N/A | Z12: =+IF(AND(ISNUMBER(OFFSET('Sanitation Data'!$D$12,0,10*ROW('Sanitation Data'!D6))),'Data Summary'!CO12="Yes"),OFFSET('Sanitation Data'!$D$12,0,10*ROW('Sanitation Data'!D6)),NA()) -> #N/A | AA12: =+IF(AND(ISNUMBER(OFFSET('Sanitation Data'!$E$4,0,10*ROW('Sanitation Data'!E6))),'Data Summary'!CP12="Yes"),100-OFFSET('Sanitation Data'!$E$4,0,10*ROW('Sanitation Data'!E6)),NA()) -> #N/A | AB12: =+IF(AND(ISNUMBER(OFFSET('Sanitation Data'!$E$6,0,10*ROW('Sanitation Data'!E6))),'Data Summary'!CQ12="Yes"),OFFSET('Sanitation Data'!$E$6,0,10*ROW('Sanitation Data'!E6)),NA()) -> #N/A | AC12: =+IF(AND(ISNUMBER(OFFSET('Sanitation Data'!$E$10,0,10*ROW('Sanitation Data'!E6))),'Data Summary'!CR12="Yes"),OFFSET('Sanitation Data'!$E$10,0,10*ROW('Sanitation Data'!E6)),NA()) -> #N/A | AD12: =+IF(AND(ISNUMBER(OFFSET('Sanitation Data'!$E$11,0,10*ROW('Sanitation Data'!E6))),'Data Summary'!CS12="Yes"),OFFSET('Sanitation Data'!$E$11,0,10*ROW('Sanitation Data'!E6)),NA()) -> #N/A | AE12: =+IF(AND(ISNUMBER(OFFSET('Sanitation Data'!$E$12,0,10*ROW('Sanitation Data'!E6))),'Data Summary'!CT12="Yes"),OFFSET('Sanitation Data'!$E$12,0,10*ROW('Sanitation Data'!E6)),NA()) -> #N/A | AF12: =+IF(AND(ISNUMBER(OFFSET('Sanitation Data'!$F$4,0,10*ROW('Sanitation Data'!F6))),'Data Summary'!CU12="Yes"),100-OFFSET('Sanitation Data'!$F$4,0,10*ROW('Sanitation Data'!F6)),NA()) -> #N/A | AG12: =+IF(AND(ISNUMBER(OFFSET('Sanitation Data'!$F$6,0,10*ROW('Sanitation Data'!F6))),'Data Summary'!CV12="Yes"),OFFSET('Sanitation Data'!$F$6,0,10*ROW('Sanitation Data'!F6)),NA()) -> #N/A | AH12: =+IF(AND(ISNUMBER(OFFSET('Sanitation Data'!$F$10,0,10*ROW('Sanitation Data'!F6))),'Data Summary'!CW12="Yes"),OFFSET('Sanitation Data'!$F$10,0,10*ROW('Sanitation Data'!F6)),NA()) -> #N/A | AI12: =+IF(AND(ISNUMBER(OFFSET('Sanitation Data'!$F$11,0,10*ROW('Sanitation Data'!F6))),'Data Summary'!CX12="Yes"),OFFSET('Sanitation Data'!$F$11,0,10*ROW('Sanitation Data'!F6)),NA()) -> #N/A | AJ12: =+IF(AND(ISNUMBER(OFFSET('Sanitation Data'!$F$12,0,10*ROW('Sanitation Data'!F6))),'Data Summary'!CY12="Yes"),OFFSET('Sanitation Data'!$F$12,0,10*ROW('Sanitation Data'!F6)),NA()) -> #N/A | AK12: =+IF(AND(ISNUMBER(OFFSET('Sanitation Data'!$G$4,0,10*ROW('Sanitation Data'!G6))),'Data Summary'!CZ12="Yes"),100-OFFSET('Sanitation Data'!$G$4,0,10*ROW('Sanitation Data'!G6)),NA()) -> #N/A | AL12: =+IF(AND(ISNUMBER(OFFSET('Sanitation Data'!$G$6,0,10*ROW('Sanitation Data'!G6))),'Data Summary'!DA12="Yes"),OFFSET('Sanitation Data'!$G$6,0,10*ROW('Sanitation Data'!G6)),NA()) -> #N/A | AM12: =+IF(AND(ISNUMBER(OFFSET('Sanitation Data'!$G$10,0,10*ROW('Sanitation Data'!G6))),'Data Summary'!DB12="Yes"),OFFSET('Sanitation Data'!$G$10,0,10*ROW('Sanitation Data'!G6)),NA()) -> #N/A | AN12: =+IF(AND(ISNUMBER(OFFSET('Sanitation Data'!$G$11,0,10*ROW('Sanitation Data'!G6))),'Data Summary'!DC12="Yes"),OFFSET('Sanitation Data'!$G$11,0,10*ROW('Sanitation Data'!G6)),NA()) -> #N/A | AO12: =+IF(AND(ISNUMBER(OFFSET('Sanitation Data'!$G$12,0,10*ROW('Sanitation Data'!G6))),'Data Summary'!DD12="Yes"),OFFSET('Sanitation Data'!$G$12,0,10*ROW('Sanitation Data'!G6)),NA()) -> #N/A | AP12: =+IF(AND(ISNUMBER(OFFSET('Sanitation Data'!$H$4,0,10*ROW('Sanitation Data'!H6))),'Data Summary'!DE12="Yes"),100-OFFSET('Sanitation Data'!$H$4,0,10*ROW('Sanitation Data'!H6)),NA()) -> #N/A | AQ12: =+IF(AND(ISNUMBER(OFFSET('Sanitation Data'!$H$6,0,10*ROW('Sanitation Data'!H6))),'Data Summary'!DF12="Yes"),OFFSET('Sanitation Data'!$H$6,0,10*ROW('Sanitation Data'!H6)),NA()) -> #N/A | AR12: =+IF(AND(ISNUMBER(OFFSET('Sanitation Data'!$H$10,0,10*ROW('Sanitation Data'!H6))),'Data Summary'!DG12="Yes"),OFFSET('Sanitation Data'!$H$10,0,10*ROW('Sanitation Data'!H6)),NA()) -> #N/A | AS12: =+IF(AND(ISNUMBER(OFFSET('Sanitation Data'!$H$11,0,10*ROW('Sanitation Data'!H6))),'Data Summary'!DH12="Yes"),OFFSET('Sanitation Data'!$H$11,0,10*ROW('Sanitation Data'!H6)),NA()) -> #N/A | AT12: =+IF(AND(ISNUMBER(OFFSET('Sanitation Data'!$H$12,0,10*ROW('Sanitation Data'!H6))),'Data Summary'!DI12="Yes"),OFFSET('Sanitation Data'!$H$12,0,10*ROW('Sanitation Data'!H6)),NA()) -> #N/A | AU12: =+IF(AND(ISNUMBER(OFFSET('Sanitation Data'!$I$4,0,10*ROW('Sanitation Data'!I6))),'Data Summary'!DJ12="Yes"),100-OFFSET('Sanitation Data'!$I$4,0,10*ROW('Sanitation Data'!I6)),NA()) -> #N/A | AV12: =+IF(AND(ISNUMBER(OFFSET('Sanitation Data'!$I$6,0,10*ROW('Sanitation Data'!I6))),'Data Summary'!DK12="Yes"),OFFSET('Sanitation Data'!$I$6,0,10*ROW('Sanitation Data'!I6)),NA()) -> #N/A | AW12: =+IF(AND(ISNUMBER(OFFSET('Sanitation Data'!$I$10,0,10*ROW('Sanitation Data'!I6))),'Data Summary'!DL12="Yes"),OFFSET('Sanitation Data'!$I$10,0,10*ROW('Sanitation Data'!I6)),NA()) -> #N/A | AX12: =+IF(AND(ISNUMBER(OFFSET('Sanitation Data'!$I$11,0,10*ROW('Sanitation Data'!I6))),'Data Summary'!DM12="Yes"),OFFSET('Sanitation Data'!$I$11,0,10*ROW('Sanitation Data'!I6)),NA()) -> #N/A | AY12: =+IF(AND(ISNUMBER(OFFSET('Sanitation Data'!$I$12,0,10*ROW('Sanitation Data'!I6))),'Data Summary'!DN12="Yes"),OFFSET('Sanitation Data'!$I$12,0,10*ROW('Sanitation Data'!I6)),NA()) -> #N/A | AZ12: =+IF(AND(ISNUMBER(OFFSET('Hygiene Data'!$D$5,0,10*ROW('Hygiene Data'!D6))),'Data Summary'!DO12="Yes"),OFFSET('Hygiene Data'!$D$5,0,10*ROW('Hygiene Data'!D6)),NA()) -> #N/A | BA12: =+IF(AND(ISNUMBER(OFFSET('Hygiene Data'!$D$7,0,10*ROW('Hygiene Data'!D6))),'Data Summary'!DP12="Yes"),OFFSET('Hygiene Data'!$D$7,0,10*ROW('Hygiene Data'!D6)),NA()) -> #N/A | BB12: =+IF(AND(ISNUMBER(OFFSET('Hygiene Data'!$D$9,0,10*ROW('Hygiene Data'!D6))),'Data Summary'!DQ12="Yes"),OFFSET('Hygiene Data'!$D$9,0,10*ROW('Hygiene Data'!D6)),NA()) -> #N/A | BC12: =+IF(AND(ISNUMBER(OFFSET('Hygiene Data'!$E$5,0,10*ROW('Hygiene Data'!E6))),'Data Summary'!DR12="Yes"),OFFSET('Hygiene Data'!$E$5,0,10*ROW('Hygiene Data'!E6)),NA()) -> #N/A | BD12: =+IF(AND(ISNUMBER(OFFSET('Hygiene Data'!$E$7,0,10*ROW('Hygiene Data'!E6))),'Data Summary'!DS12="Yes"),OFFSET('Hygiene Data'!$E$7,0,10*ROW('Hygiene Data'!E6)),NA()) -> #N/A | BE12: =+IF(AND(ISNUMBER(OFFSET('Hygiene Data'!$E$9,0,10*ROW('Hygiene Data'!E6))),'Data Summary'!DT12="Yes"),OFFSET('Hygiene Data'!$E$9,0,10*ROW('Hygiene Data'!E6)),NA()) -> #N/A | BF12: =+IF(AND(ISNUMBER(OFFSET('Hygiene Data'!$F$5,0,10*ROW('Hygiene Data'!F6))),'Data Summary'!DU12="Yes"),OFFSET('Hygiene Data'!$F$5,0,10*ROW('Hygiene Data'!F6)),NA()) -> #N/A | BG12: =+IF(AND(ISNUMBER(OFFSET('Hygiene Data'!$F$7,0,10*ROW('Hygiene Data'!F6))),'Data Summary'!DV12="Yes"),OFFSET('Hygiene Data'!$F$7,0,10*ROW('Hygiene Data'!F6)),NA()) -> #N/A | BH12: =+IF(AND(ISNUMBER(OFFSET('Hygiene Data'!$F$9,0,10*ROW('Hygiene Data'!F6))),'Data Summary'!DW12="Yes"),OFFSET('Hygiene Data'!$F$9,0,10*ROW('Hygiene Data'!F6)),NA()) -> #N/A | BI12: =+IF(AND(ISNUMBER(OFFSET('Hygiene Data'!$G$5,0,10*ROW('Hygiene Data'!G6))),'Data Summary'!DX12="Yes"),OFFSET('Hygiene Data'!$G$5,0,10*ROW('Hygiene Data'!G6)),NA()) -> #N/A | BJ12: =+IF(AND(ISNUMBER(OFFSET('Hygiene Data'!$G$7,0,10*ROW('Hygiene Data'!G6))),'Data Summary'!DY12="Yes"),OFFSET('Hygiene Data'!$G$7,0,10*ROW('Hygiene Data'!G6)),NA()) -> #N/A | BK12: =+IF(AND(ISNUMBER(OFFSET('Hygiene Data'!$G$9,0,10*ROW('Hygiene Data'!G6))),'Data Summary'!DZ12="Yes"),OFFSET('Hygiene Data'!$G$9,0,10*ROW('Hygiene Data'!G6)),NA()) -> #N/A | BL12: =+IF(AND(ISNUMBER(OFFSET('Hygiene Data'!$H$5,0,10*ROW('Hygiene Data'!H6))),'Data Summary'!EA12="Yes"),OFFSET('Hygiene Data'!$H$5,0,10*ROW('Hygiene Data'!H6)),NA()) -> #N/A | BM12: =+IF(AND(ISNUMBER(OFFSET('Hygiene Data'!$H$7,0,10*ROW('Hygiene Data'!H6))),'Data Summary'!EB12="Yes"),OFFSET('Hygiene Data'!$H$7,0,10*ROW('Hygiene Data'!H6)),NA()) -> #N/A | BN12: =+IF(AND(ISNUMBER(OFFSET('Hygiene Data'!$H$9,0,10*ROW('Hygiene Data'!H6))),'Data Summary'!EC12="Yes"),OFFSET('Hygiene Data'!$H$9,0,10*ROW('Hygiene Data'!H6)),NA()) -> #N/A | BO12: =+IF(AND(ISNUMBER(OFFSET('Hygiene Data'!$I$5,0,10*ROW('Hygiene Data'!I6))),'Data Summary'!ED12="Yes"),OFFSET('Hygiene Data'!$I$5,0,10*ROW('Hygiene Data'!I6)),NA()) -> #N/A | BP12: =+IF(AND(ISNUMBER(OFFSET('Hygiene Data'!$I$7,0,10*ROW('Hygiene Data'!I6))),'Data Summary'!EE12="Yes"),OFFSET('Hygiene Data'!$I$7,0,10*ROW('Hygiene Data'!I6)),NA()) -> #N/A | BQ12: =+IF(AND(ISNUMBER(OFFSET('Hygiene Data'!$I$9,0,10*ROW('Hygiene Data'!I6))),'Data Summary'!EF12="Yes"),OFFSET('Hygiene Data'!$I$9,0,10*ROW('Hygiene Data'!I6)),NA()) -> #N/A
A13: =+RIGHT('Data Summary'!A13,LEN('Data Summary'!A13)-9) -> UIS | B13: =+IF(ISTEXT('Data Summary'!B13),'Data Summary'!B13,"") -> Other | C13: =+VALUE('Data Summary'!C13) -> 2019 | D13: =+IF(AND(ISNUMBER(OFFSET('Water Data'!$D$4,0,10*ROW('Water Data'!D7))),'Data Summary'!BS13="Yes"),100-OFFSET('Water Data'!$D$4,0,10*ROW('Water Data'!D7)),NA()) -> #N/A | E13: =+IF(AND(ISNUMBER(OFFSET('Water Data'!$D$6,0,10*ROW('Water Data'!D7))),'Data Summary'!BT13="Yes"),OFFSET('Water Data'!$D$6,0,10*ROW('Water Data'!D7)),NA()) -> #N/A | F13: =+IF(AND(ISNUMBER(OFFSET('Water Data'!$D$9,0,10*ROW('Water Data'!D7))),'Data Summary'!BU13="Yes"),OFFSET('Water Data'!$D$9,0,10*ROW('Water Data'!D7)),NA()) -> 67.231634 | G13: =+IF(AND(ISNUMBER(OFFSET('Water Data'!$E$4,0,10*ROW('Water Data'!E7))),'Data Summary'!BV13="Yes"),100-OFFSET('Water Data'!$E$4,0,10*ROW('Water Data'!E7)),NA()) -> #N/A | H13: =+IF(AND(ISNUMBER(OFFSET('Water Data'!$E$6,0,10*ROW('Water Data'!E7))),'Data Summary'!BW13="Yes"),OFFSET('Water Data'!$E$6,0,10*ROW('Water Data'!E7)),NA()) -> #N/A | I13: =+IF(AND(ISNUMBER(OFFSET('Water Data'!$E$9,0,10*ROW('Water Data'!E7))),'Data Summary'!BX13="Yes"),OFFSET('Water Data'!$E$9,0,10*ROW('Water Data'!E7)),NA()) -> #N/A | J13: =+IF(AND(ISNUMBER(OFFSET('Water Data'!$F$4,0,10*ROW('Water Data'!F7))),'Data Summary'!BY13="Yes"),100-OFFSET('Water Data'!$F$4,0,10*ROW('Water Data'!F7)),NA()) -> #N/A | K13: =+IF(AND(ISNUMBER(OFFSET('Water Data'!$F$6,0,10*ROW('Water Data'!F7))),'Data Summary'!BZ13="Yes"),OFFSET('Water Data'!$F$6,0,10*ROW('Water Data'!F7)),NA()) -> #N/A | L13: =+IF(AND(ISNUMBER(OFFSET('Water Data'!$F$9,0,10*ROW('Water Data'!F7))),'Data Summary'!CA13="Yes"),OFFSET('Water Data'!$F$9,0,10*ROW('Water Data'!F7)),NA()) -> #N/A | M13: =+IF(AND(ISNUMBER(OFFSET('Water Data'!$G$4,0,10*ROW('Water Data'!G7))),'Data Summary'!CB13="Yes"),100-OFFSET('Water Data'!$G$4,0,10*ROW('Water Data'!G7)),NA()) -> #N/A | N13: =+IF(AND(ISNUMBER(OFFSET('Water Data'!$G$6,0,10*ROW('Water Data'!G7))),'Data Summary'!CC13="Yes"),OFFSET('Water Data'!$G$6,0,10*ROW('Water Data'!G7)),NA()) -> #N/A | O13: =+IF(AND(ISNUMBER(OFFSET('Water Data'!$G$9,0,10*ROW('Water Data'!G7))),'Data Summary'!CD13="Yes"),OFFSET('Water Data'!$G$9,0,10*ROW('Water Data'!G7)),NA()) -> #N/A | P13: =+IF(AND(ISNUMBER(OFFSET('Water Data'!$H$4,0,10*ROW('Water Data'!H7))),'Data Summary'!CE13="Yes"),100-OFFSET('Water Data'!$H$4,0,10*ROW('Water Data'!H7)),NA()) -> #N/A | Q13: =+IF(AND(ISNUMBER(OFFSET('Water Data'!$H$6,0,10*ROW('Water Data'!H7))),'Data Summary'!CF13="Yes"),OFFSET('Water Data'!$H$6,0,10*ROW('Water Data'!H7)),NA()) -> #N/A | R13: =+IF(AND(ISNUMBER(OFFSET('Water Data'!$H$9,0,10*ROW('Water Data'!H7))),'Data Summary'!CG13="Yes"),OFFSET('Water Data'!$H$9,0,10*ROW('Water Data'!H7)),NA()) -> 68.14642 | S13: =+IF(AND(ISNUMBER(OFFSET('Water Data'!$I$4,0,10*ROW('Water Data'!I7))),'Data Summary'!CH13="Yes"),100-OFFSET('Water Data'!$I$4,0,10*ROW('Water Data'!I7)),NA()) -> #N/A | T13: =+IF(AND(ISNUMBER(OFFSET('Water Data'!$I$6,0,10*ROW('Water Data'!I7))),'Data Summary'!CI13="Yes"),OFFSET('Water Data'!$I$6,0,10*ROW('Water Data'!I7)),NA()) -> #N/A | U13: =+IF(AND(ISNUMBER(OFFSET('Water Data'!$I$9,0,10*ROW('Water Data'!I7))),'Data Summary'!CJ13="Yes"),OFFSET('Water Data'!$I$9,0,10*ROW('Water Data'!I7)),NA()) -> 66.332616 | V13: =+IF(AND(ISNUMBER(OFFSET('Sanitation Data'!$D$4,0,10*ROW('Sanitation Data'!D7))),'Data Summary'!CK13="Yes"),100-OFFSET('Sanitation Data'!$D$4,0,10*ROW('Sanitation Data'!D7)),NA()) -> #N/A | W13: =+IF(AND(ISNUMBER(OFFSET('Sanitation Data'!$D$6,0,10*ROW('Sanitation Data'!D7))),'Data Summary'!CL13="Yes"),OFFSET('Sanitation Data'!$D$6,0,10*ROW('Sanitation Data'!D7)),NA()) -> #N/A | X13: =+IF(AND(ISNUMBER(OFFSET('Sanitation Data'!$D$10,0,10*ROW('Sanitation Data'!D7))),'Data Summary'!CM13="Yes"),OFFSET('Sanitation Data'!$D$10,0,10*ROW('Sanitation Data'!D7)),NA()) -> #N/A | Y13: =+IF(AND(ISNUMBER(OFFSET('Sanitation Data'!$D$11,0,10*ROW('Sanitation Data'!D7))),'Data Summary'!CN13="Yes"),OFFSET('Sanitation Data'!$D$11,0,10*ROW('Sanitation Data'!D7)),NA()) -> #N/A | Z13: =+IF(AND(ISNUMBER(OFFSET('Sanitation Data'!$D$12,0,10*ROW('Sanitation Data'!D7))),'Data Summary'!CO13="Yes"),OFFSET('Sanitation Data'!$D$12,0,10*ROW('Sanitation Data'!D7)),NA()) -> #N/A | AA13: =+IF(AND(ISNUMBER(OFFSET('Sanitation Data'!$E$4,0,10*ROW('Sanitation Data'!E7))),'Data Summary'!CP13="Yes"),100-OFFSET('Sanitation Data'!$E$4,0,10*ROW('Sanitation Data'!E7)),NA()) -> #N/A | AB13: =+IF(AND(ISNUMBER(OFFSET('Sanitation Data'!$E$6,0,10*ROW('Sanitation Data'!E7))),'Data Summary'!CQ13="Yes"),OFFSET('Sanitation Data'!$E$6,0,10*ROW('Sanitation Data'!E7)),NA()) -> #N/A | AC13: =+IF(AND(ISNUMBER(OFFSET('Sanitation Data'!$E$10,0,10*ROW('Sanitation Data'!E7))),'Data Summary'!CR13="Yes"),OFFSET('Sanitation Data'!$E$10,0,10*ROW('Sanitation Data'!E7)),NA()) -> #N/A | AD13: =+IF(AND(ISNUMBER(OFFSET('Sanitation Data'!$E$11,0,10*ROW('Sanitation Data'!E7))),'Data Summary'!CS13="Yes"),OFFSET('Sanitation Data'!$E$11,0,10*ROW('Sanitation Data'!E7)),NA()) -> #N/A | AE13: =+IF(AND(ISNUMBER(OFFSET('Sanitation Data'!$E$12,0,10*ROW('Sanitation Data'!E7))),'Data Summary'!CT13="Yes"),OFFSET('Sanitation Data'!$E$12,0,10*ROW('Sanitation Data'!E7)),NA()) -> #N/A | AF13: =+IF(AND(ISNUMBER(OFFSET('Sanitation Data'!$F$4,0,10*ROW('Sanitation Data'!F7))),'Data Summary'!CU13="Yes"),100-OFFSET('Sanitation Data'!$F$4,0,10*ROW('Sanitation Data'!F7)),NA()) -> #N/A | AG13: =+IF(AND(ISNUMBER(OFFSET('Sanitation Data'!$F$6,0,10*ROW('Sanitation Data'!F7))),'Data Summary'!CV13="Yes"),OFFSET('Sanitation Data'!$F$6,0,10*ROW('Sanitation Data'!F7)),NA()) -> #N/A | AH13: =+IF(AND(ISNUMBER(OFFSET('Sanitation Data'!$F$10,0,10*ROW('Sanitation Data'!F7))),'Data Summary'!CW13="Yes"),OFFSET('Sanitation Data'!$F$10,0,10*ROW('Sanitation Data'!F7)),NA()) -> #N/A | AI13: =+IF(AND(ISNUMBER(OFFSET('Sanitation Data'!$F$11,0,10*ROW('Sanitation Data'!F7))),'Data Summary'!CX13="Yes"),OFFSET('Sanitation Data'!$F$11,0,10*ROW('Sanitation Data'!F7)),NA()) -> #N/A | AJ13: =+IF(AND(ISNUMBER(OFFSET('Sanitation Data'!$F$12,0,10*ROW('Sanitation Data'!F7))),'Data Summary'!CY13="Yes"),OFFSET('Sanitation Data'!$F$12,0,10*ROW('Sanitation Data'!F7)),NA()) -> #N/A | AK13: =+IF(AND(ISNUMBER(OFFSET('Sanitation Data'!$G$4,0,10*ROW('Sanitation Data'!G7))),'Data Summary'!CZ13="Yes"),100-OFFSET('Sanitation Data'!$G$4,0,10*ROW('Sanitation Data'!G7)),NA()) -> #N/A | AL13: =+IF(AND(ISNUMBER(OFFSET('Sanitation Data'!$G$6,0,10*ROW('Sanitation Data'!G7))),'Data Summary'!DA13="Yes"),OFFSET('Sanitation Data'!$G$6,0,10*ROW('Sanitation Data'!G7)),NA()) -> #N/A | AM13: =+IF(AND(ISNUMBER(OFFSET('Sanitation Data'!$G$10,0,10*ROW('Sanitation Data'!G7))),'Data Summary'!DB13="Yes"),OFFSET('Sanitation Data'!$G$10,0,10*ROW('Sanitation Data'!G7)),NA()) -> #N/A | AN13: =+IF(AND(ISNUMBER(OFFSET('Sanitation Data'!$G$11,0,10*ROW('Sanitation Data'!G7))),'Data Summary'!DC13="Yes"),OFFSET('Sanitation Data'!$G$11,0,10*ROW('Sanitation Data'!G7)),NA()) -> #N/A | AO13: =+IF(AND(ISNUMBER(OFFSET('Sanitation Data'!$G$12,0,10*ROW('Sanitation Data'!G7))),'Data Summary'!DD13="Yes"),OFFSET('Sanitation Data'!$G$12,0,10*ROW('Sanitation Data'!G7)),NA()) -> #N/A | AP13: =+IF(AND(ISNUMBER(OFFSET('Sanitation Data'!$H$4,0,10*ROW('Sanitation Data'!H7))),'Data Summary'!DE13="Yes"),100-OFFSET('Sanitation Data'!$H$4,0,10*ROW('Sanitation Data'!H7)),NA()) -> #N/A | AQ13: =+IF(AND(ISNUMBER(OFFSET('Sanitation Data'!$H$6,0,10*ROW('Sanitation Data'!H7))),'Data Summary'!DF13="Yes"),OFFSET('Sanitation Data'!$H$6,0,10*ROW('Sanitation Data'!H7)),NA()) -> #N/A | AR13: =+IF(AND(ISNUMBER(OFFSET('Sanitation Data'!$H$10,0,10*ROW('Sanitation Data'!H7))),'Data Summary'!DG13="Yes"),OFFSET('Sanitation Data'!$H$10,0,10*ROW('Sanitation Data'!H7)),NA()) -> #N/A | AS13: =+IF(AND(ISNUMBER(OFFSET('Sanitation Data'!$H$11,0,10*ROW('Sanitation Data'!H7))),'Data Summary'!DH13="Yes"),OFFSET('Sanitation Data'!$H$11,0,10*ROW('Sanitation Data'!H7)),NA()) -> #N/A | AT13: =+IF(AND(ISNUMBER(OFFSET('Sanitation Data'!$H$12,0,10*ROW('Sanitation Data'!H7))),'Data Summary'!DI13="Yes"),OFFSET('Sanitation Data'!$H$12,0,10*ROW('Sanitation Data'!H7)),NA()) -> #N/A | AU13: =+IF(AND(ISNUMBER(OFFSET('Sanitation Data'!$I$4,0,10*ROW('Sanitation Data'!I7))),'Data Summary'!DJ13="Yes"),100-OFFSET('Sanitation Data'!$I$4,0,10*ROW('Sanitation Data'!I7)),NA()) -> #N/A | AV13: =+IF(AND(ISNUMBER(OFFSET('Sanitation Data'!$I$6,0,10*ROW('Sanitation Data'!I7))),'Data Summary'!DK13="Yes"),OFFSET('Sanitation Data'!$I$6,0,10*ROW('Sanitation Data'!I7)),NA()) -> #N/A | AW13: =+IF(AND(ISNUMBER(OFFSET('Sanitation Data'!$I$10,0,10*ROW('Sanitation Data'!I7))),'Data Summary'!DL13="Yes"),OFFSET('Sanitation Data'!$I$10,0,10*ROW('Sanitation Data'!I7)),NA()) -> #N/A | AX13: =+IF(AND(ISNUMBER(OFFSET('Sanitation Data'!$I$11,0,10*ROW('Sanitation Data'!I7))),'Data Summary'!DM13="Yes"),OFFSET('Sanitation Data'!$I$11,0,10*ROW('Sanitation Data'!I7)),NA()) -> #N/A | AY13: =+IF(AND(ISNUMBER(OFFSET('Sanitation Data'!$I$12,0,10*ROW('Sanitation Data'!I7))),'Data Summary'!DN13="Yes"),OFFSET('Sanitation Data'!$I$12,0,10*ROW('Sanitation Data'!I7)),NA()) -> #N/A | AZ13: =+IF(AND(ISNUMBER(OFFSET('Hygiene Data'!$D$5,0,10*ROW('Hygiene Data'!D7))),'Data Summary'!DO13="Yes"),OFFSET('Hygiene Data'!$D$5,0,10*ROW('Hygiene Data'!D7)),NA()) -> #N/A | BA13: =+IF(AND(ISNUMBER(OFFSET('Hygiene Data'!$D$7,0,10*ROW('Hygiene Data'!D7))),'Data Summary'!DP13="Yes"),OFFSET('Hygiene Data'!$D$7,0,10*ROW('Hygiene Data'!D7)),NA()) -> #N/A | BB13: =+IF(AND(ISNUMBER(OFFSET('Hygiene Data'!$D$9,0,10*ROW('Hygiene Data'!D7))),'Data Summary'!DQ13="Yes"),OFFSET('Hygiene Data'!$D$9,0,10*ROW('Hygiene Data'!D7)),NA()) -> 65.722423 | BC13: =+IF(AND(ISNUMBER(OFFSET('Hygiene Data'!$E$5,0,10*ROW('Hygiene Data'!E7))),'Data Summary'!DR13="Yes"),OFFSET('Hygiene Data'!$E$5,0,10*ROW('Hygiene Data'!E7)),NA()) -> #N/A | BD13: =+IF(AND(ISNUMBER(OFFSET('Hygiene Data'!$E$7,0,10*ROW('Hygiene Data'!E7))),'Data Summary'!DS13="Yes"),OFFSET('Hygiene Data'!$E$7,0,10*ROW('Hygiene Data'!E7)),NA()) -> #N/A | BE13: =+IF(AND(ISNUMBER(OFFSET('Hygiene Data'!$E$9,0,10*ROW('Hygiene Data'!E7))),'Data Summary'!DT13="Yes"),OFFSET('Hygiene Data'!$E$9,0,10*ROW('Hygiene Data'!E7)),NA()) -> #N/A | BF13: =+IF(AND(ISNUMBER(OFFSET('Hygiene Data'!$F$5,0,10*ROW('Hygiene Data'!F7))),'Data Summary'!DU13="Yes"),OFFSET('Hygiene Data'!$F$5,0,10*ROW('Hygiene Data'!F7)),NA()) -> #N/A | BG13: =+IF(AND(ISNUMBER(OFFSET('Hygiene Data'!$F$7,0,10*ROW('Hygiene Data'!F7))),'Data Summary'!DV13="Yes"),OFFSET('Hygiene Data'!$F$7,0,10*ROW('Hygiene Data'!F7)),NA()) -> #N/A | BH13: =+IF(AND(ISNUMBER(OFFSET('Hygiene Data'!$F$9,0,10*ROW('Hygiene Data'!F7))),'Data Summary'!DW13="Yes"),OFFSET('Hygiene Data'!$F$9,0,10*ROW('Hygiene Data'!F7)),NA()) -> #N/A | BI13: =+IF(AND(ISNUMBER(OFFSET('Hygiene Data'!$G$5,0,10*ROW('Hygiene Data'!G7))),'Data Summary'!DX13="Yes"),OFFSET('Hygiene Data'!$G$5,0,10*ROW('Hygiene Data'!G7)),NA()) -> #N/A | BJ13: =+IF(AND(ISNUMBER(OFFSET('Hygiene Data'!$G$7,0,10*ROW('Hygiene Data'!G7))),'Data Summary'!DY13="Yes"),OFFSET('Hygiene Data'!$G$7,0,10*ROW('Hygiene Data'!G7)),NA()) -> #N/A | BK13: =+IF(AND(ISNUMBER(OFFSET('Hygiene Data'!$G$9,0,10*ROW('Hygiene Data'!G7))),'Data Summary'!DZ13="Yes"),OFFSET('Hygiene Data'!$G$9,0,10*ROW('Hygiene Data'!G7)),NA()) -> #N/A | BL13: =+IF(AND(ISNUMBER(OFFSET('Hygiene Data'!$H$5,0,10*ROW('Hygiene Data'!H7))),'Data Summary'!EA13="Yes"),OFFSET('Hygiene Data'!$H$5,0,10*ROW('Hygiene Data'!H7)),NA()) -> #N/A | BM13: =+IF(AND(ISNUMBER(OFFSET('Hygiene Data'!$H$7,0,10*ROW('Hygiene Data'!H7))),'Data Summary'!EB13="Yes"),OFFSET('Hygiene Data'!$H$7,0,10*ROW('Hygiene Data'!H7)),NA()) -> #N/A | BN13: =+IF(AND(ISNUMBER(OFFSET('Hygiene Data'!$H$9,0,10*ROW('Hygiene Data'!H7))),'Data Summary'!EC13="Yes"),OFFSET('Hygiene Data'!$H$9,0,10*ROW('Hygiene Data'!H7)),NA()) -> 68.30218 | BO13: =+IF(AND(ISNUMBER(OFFSET('Hygiene Data'!$I$5,0,10*ROW('Hygiene Data'!I7))),'Data Summary'!ED13="Yes"),OFFSET('Hygiene Data'!$I$5,0,10*ROW('Hygiene Data'!I7)),NA()) -> #N/A | BP13: =+IF(AND(ISNUMBER(OFFSET('Hygiene Data'!$I$7,0,10*ROW('Hygiene Data'!I7))),'Data Summary'!EE13="Yes"),OFFSET('Hygiene Data'!$I$7,0,10*ROW('Hygiene Data'!I7)),NA()) -> #N/A | BQ13: =+IF(AND(ISNUMBER(OFFSET('Hygiene Data'!$I$9,0,10*ROW('Hygiene Data'!I7))),'Data Summary'!EF13="Yes"),OFFSET('Hygiene Data'!$I$9,0,10*ROW('Hygiene Data'!I7)),NA()) -> 63.187131
A14: =+RIGHT('Data Summary'!A14,LEN('Data Summary'!A14)-9) -> SUR | B14: =+IF(ISTEXT('Data Summary'!B14),'Data Summary'!B14,"") -> Survey | C14: =+VALUE('Data Summary'!C14) -> 2020 | D14: =+IF(AND(ISNUMBER(OFFSET('Water Data'!$D$4,0,10*ROW('Water Data'!D8))),'Data Summary'!BS14="Yes"),100-OFFSET('Water Data'!$D$4,0,10*ROW('Water Data'!D8)),NA()) -> #N/A | E14: =+IF(AND(ISNUMBER(OFFSET('Water Data'!$D$6,0,10*ROW('Water Data'!D8))),'Data Summary'!BT14="Yes"),OFFSET('Water Data'!$D$6,0,10*ROW('Water Data'!D8)),NA()) -> #N/A | F14: =+IF(AND(ISNUMBER(OFFSET('Water Data'!$D$9,0,10*ROW('Water Data'!D8))),'Data Summary'!BU14="Yes"),OFFSET('Water Data'!$D$9,0,10*ROW('Water Data'!D8)),NA()) -> #N/A | G14: =+IF(AND(ISNUMBER(OFFSET('Water Data'!$E$4,0,10*ROW('Water Data'!E8))),'Data Summary'!BV14="Yes"),100-OFFSET('Water Data'!$E$4,0,10*ROW('Water Data'!E8)),NA()) -> #N/A | H14: =+IF(AND(ISNUMBER(OFFSET('Water Data'!$E$6,0,10*ROW('Water Data'!E8))),'Data Summary'!BW14="Yes"),OFFSET('Water Data'!$E$6,0,10*ROW('Water Data'!E8)),NA()) -> #N/A | I14: =+IF(AND(ISNUMBER(OFFSET('Water Data'!$E$9,0,10*ROW('Water Data'!E8))),'Data Summary'!BX14="Yes"),OFFSET('Water Data'!$E$9,0,10*ROW('Water Data'!E8)),NA()) -> #N/A | J14: =+IF(AND(ISNUMBER(OFFSET('Water Data'!$F$4,0,10*ROW('Water Data'!F8))),'Data Summary'!BY14="Yes"),100-OFFSET('Water Data'!$F$4,0,10*ROW('Water Data'!F8)),NA()) -> #N/A | K14: =+IF(AND(ISNUMBER(OFFSET('Water Data'!$F$6,0,10*ROW('Water Data'!F8))),'Data Summary'!BZ14="Yes"),OFFSET('Water Data'!$F$6,0,10*ROW('Water Data'!F8)),NA()) -> #N/A | L14: =+IF(AND(ISNUMBER(OFFSET('Water Data'!$F$9,0,10*ROW('Water Data'!F8))),'Data Summary'!CA14="Yes"),OFFSET('Water Data'!$F$9,0,10*ROW('Water Data'!F8)),NA()) -> #N/A | M14: =+IF(AND(ISNUMBER(OFFSET('Water Data'!$G$4,0,10*ROW('Water Data'!G8))),'Data Summary'!CB14="Yes"),100-OFFSET('Water Data'!$G$4,0,10*ROW('Water Data'!G8)),NA()) -> #N/A | N14: =+IF(AND(ISNUMBER(OFFSET('Water Data'!$G$6,0,10*ROW('Water Data'!G8))),'Data Summary'!CC14="Yes"),OFFSET('Water Data'!$G$6,0,10*ROW('Water Data'!G8)),NA()) -> #N/A | O14: =+IF(AND(ISNUMBER(OFFSET('Water Data'!$G$9,0,10*ROW('Water Data'!G8))),'Data Summary'!CD14="Yes"),OFFSET('Water Data'!$G$9,0,10*ROW('Water Data'!G8)),NA()) -> #N/A | P14: =+IF(AND(ISNUMBER(OFFSET('Water Data'!$H$4,0,10*ROW('Water Data'!H8))),'Data Summary'!CE14="Yes"),100-OFFSET('Water Data'!$H$4,0,10*ROW('Water Data'!H8)),NA()) -> #N/A | Q14: =+IF(AND(ISNUMBER(OFFSET('Water Data'!$H$6,0,10*ROW('Water Data'!H8))),'Data Summary'!CF14="Yes"),OFFSET('Water Data'!$H$6,0,10*ROW('Water Data'!H8)),NA()) -> #N/A | R14: =+IF(AND(ISNUMBER(OFFSET('Water Data'!$H$9,0,10*ROW('Water Data'!H8))),'Data Summary'!CG14="Yes"),OFFSET('Water Data'!$H$9,0,10*ROW('Water Data'!H8)),NA()) -> #N/A | S14: =+IF(AND(ISNUMBER(OFFSET('Water Data'!$I$4,0,10*ROW('Water Data'!I8))),'Data Summary'!CH14="Yes"),100-OFFSET('Water Data'!$I$4,0,10*ROW('Water Data'!I8)),NA()) -> #N/A | T14: =+IF(AND(ISNUMBER(OFFSET('Water Data'!$I$6,0,10*ROW('Water Data'!I8))),'Data Summary'!CI14="Yes"),OFFSET('Water Data'!$I$6,0,10*ROW('Water Data'!I8)),NA()) -> #N/A | U14: =+IF(AND(ISNUMBER(OFFSET('Water Data'!$I$9,0,10*ROW('Water Data'!I8))),'Data Summary'!CJ14="Yes"),OFFSET('Water Data'!$I$9,0,10*ROW('Water Data'!I8)),NA()) -> #N/A | V14: =+IF(AND(ISNUMBER(OFFSET('Sanitation Data'!$D$4,0,10*ROW('Sanitation Data'!D8))),'Data Summary'!CK14="Yes"),100-OFFSET('Sanitation Data'!$D$4,0,10*ROW('Sanitation Data'!D8)),NA()) -> #N/A | W14: =+IF(AND(ISNUMBER(OFFSET('Sanitation Data'!$D$6,0,10*ROW('Sanitation Data'!D8))),'Data Summary'!CL14="Yes"),OFFSET('Sanitation Data'!$D$6,0,10*ROW('Sanitation Data'!D8)),NA()) -> #N/A | X14: =+IF(AND(ISNUMBER(OFFSET('Sanitation Data'!$D$10,0,10*ROW('Sanitation Data'!D8))),'Data Summary'!CM14="Yes"),OFFSET('Sanitation Data'!$D$10,0,10*ROW('Sanitation Data'!D8)),NA()) -> #N/A | Y14: =+IF(AND(ISNUMBER(OFFSET('Sanitation Data'!$D$11,0,10*ROW('Sanitation Data'!D8))),'Data Summary'!CN14="Yes"),OFFSET('Sanitation Data'!$D$11,0,10*ROW('Sanitation Data'!D8)),NA()) -> #N/A | Z14: =+IF(AND(ISNUMBER(OFFSET('Sanitation Data'!$D$12,0,10*ROW('Sanitation Data'!D8))),'Data Summary'!CO14="Yes"),OFFSET('Sanitation Data'!$D$12,0,10*ROW('Sanitation Data'!D8)),NA()) -> #N/A | AA14: =+IF(AND(ISNUMBER(OFFSET('Sanitation Data'!$E$4,0,10*ROW('Sanitation Data'!E8))),'Data Summary'!CP14="Yes"),100-OFFSET('Sanitation Data'!$E$4,0,10*ROW('Sanitation Data'!E8)),NA()) -> #N/A | AB14: =+IF(AND(ISNUMBER(OFFSET('Sanitation Data'!$E$6,0,10*ROW('Sanitation Data'!E8))),'Data Summary'!CQ14="Yes"),OFFSET('Sanitation Data'!$E$6,0,10*ROW('Sanitation Data'!E8)),NA()) -> #N/A | AC14: =+IF(AND(ISNUMBER(OFFSET('Sanitation Data'!$E$10,0,10*ROW('Sanitation Data'!E8))),'Data Summary'!CR14="Yes"),OFFSET('Sanitation Data'!$E$10,0,10*ROW('Sanitation Data'!E8)),NA()) -> #N/A | AD14: =+IF(AND(ISNUMBER(OFFSET('Sanitation Data'!$E$11,0,10*ROW('Sanitation Data'!E8))),'Data Summary'!CS14="Yes"),OFFSET('Sanitation Data'!$E$11,0,10*ROW('Sanitation Data'!E8)),NA()) -> #N/A | AE14: =+IF(AND(ISNUMBER(OFFSET('Sanitation Data'!$E$12,0,10*ROW('Sanitation Data'!E8))),'Data Summary'!CT14="Yes"),OFFSET('Sanitation Data'!$E$12,0,10*ROW('Sanitation Data'!E8)),NA()) -> #N/A | AF14: =+IF(AND(ISNUMBER(OFFSET('Sanitation Data'!$F$4,0,10*ROW('Sanitation Data'!F8))),'Data Summary'!CU14="Yes"),100-OFFSET('Sanitation Data'!$F$4,0,10*ROW('Sanitation Data'!F8)),NA()) -> #N/A | AG14: =+IF(AND(ISNUMBER(OFFSET('Sanitation Data'!$F$6,0,10*ROW('Sanitation Data'!F8))),'Data Summary'!CV14="Yes"),OFFSET('Sanitation Data'!$F$6,0,10*ROW('Sanitation Data'!F8)),NA()) -> #N/A | AH14: =+IF(AND(ISNUMBER(OFFSET('Sanitation Data'!$F$10,0,10*ROW('Sanitation Data'!F8))),'Data Summary'!CW14="Yes"),OFFSET('Sanitation Data'!$F$10,0,10*ROW('Sanitation Data'!F8)),NA()) -> #N/A | AI14: =+IF(AND(ISNUMBER(OFFSET('Sanitation Data'!$F$11,0,10*ROW('Sanitation Data'!F8))),'Data Summary'!CX14="Yes"),OFFSET('Sanitation Data'!$F$11,0,10*ROW('Sanitation Data'!F8)),NA()) -> #N/A | AJ14: =+IF(AND(ISNUMBER(OFFSET('Sanitation Data'!$F$12,0,10*ROW('Sanitation Data'!F8))),'Data Summary'!CY14="Yes"),OFFSET('Sanitation Data'!$F$12,0,10*ROW('Sanitation Data'!F8)),NA()) -> #N/A | AK14: =+IF(AND(ISNUMBER(OFFSET('Sanitation Data'!$G$4,0,10*ROW('Sanitation Data'!G8))),'Data Summary'!CZ14="Yes"),100-OFFSET('Sanitation Data'!$G$4,0,10*ROW('Sanitation Data'!G8)),NA()) -> #N/A | AL14: =+IF(AND(ISNUMBER(OFFSET('Sanitation Data'!$G$6,0,10*ROW('Sanitation Data'!G8))),'Data Summary'!DA14="Yes"),OFFSET('Sanitation Data'!$G$6,0,10*ROW('Sanitation Data'!G8)),NA()) -> #N/A | AM14: =+IF(AND(ISNUMBER(OFFSET('Sanitation Data'!$G$10,0,10*ROW('Sanitation Data'!G8))),'Data Summary'!DB14="Yes"),OFFSET('Sanitation Data'!$G$10,0,10*ROW('Sanitation Data'!G8)),NA()) -> #N/A | AN14: =+IF(AND(ISNUMBER(OFFSET('Sanitation Data'!$G$11,0,10*ROW('Sanitation Data'!G8))),'Data Summary'!DC14="Yes"),OFFSET('Sanitation Data'!$G$11,0,10*ROW('Sanitation Data'!G8)),NA()) -> #N/A | AO14: =+IF(AND(ISNUMBER(OFFSET('Sanitation Data'!$G$12,0,10*ROW('Sanitation Data'!G8))),'Data Summary'!DD14="Yes"),OFFSET('Sanitation Data'!$G$12,0,10*ROW('Sanitation Data'!G8)),NA()) -> #N/A | AP14: =+IF(AND(ISNUMBER(OFFSET('Sanitation Data'!$H$4,0,10*ROW('Sanitation Data'!H8))),'Data Summary'!DE14="Yes"),100-OFFSET('Sanitation Data'!$H$4,0,10*ROW('Sanitation Data'!H8)),NA()) -> #N/A | AQ14: =+IF(AND(ISNUMBER(OFFSET('Sanitation Data'!$H$6,0,10*ROW('Sanitation Data'!H8))),'Data Summary'!DF14="Yes"),OFFSET('Sanitation Data'!$H$6,0,10*ROW('Sanitation Data'!H8)),NA()) -> #N/A | AR14: =+IF(AND(ISNUMBER(OFFSET('Sanitation Data'!$H$10,0,10*ROW('Sanitation Data'!H8))),'Data Summary'!DG14="Yes"),OFFSET('Sanitation Data'!$H$10,0,10*ROW('Sanitation Data'!H8)),NA()) -> #N/A | AS14: =+IF(AND(ISNUMBER(OFFSET('Sanitation Data'!$H$11,0,10*ROW('Sanitation Data'!H8))),'Data Summary'!DH14="Yes"),OFFSET('Sanitation Data'!$H$11,0,10*ROW('Sanitation Data'!H8)),NA()) -> #N/A | AT14: =+IF(AND(ISNUMBER(OFFSET('Sanitation Data'!$H$12,0,10*ROW('Sanitation Data'!H8))),'Data Summary'!DI14="Yes"),OFFSET('Sanitation Data'!$H$12,0,10*ROW('Sanitation Data'!H8)),NA()) -> #N/A | AU14: =+IF(AND(ISNUMBER(OFFSET('Sanitation Data'!$I$4,0,10*ROW('Sanitation Data'!I8))),'Data Summary'!DJ14="Yes"),100-OFFSET('Sanitation Data'!$I$4,0,10*ROW('Sanitation Data'!I8)),NA()) -> #N/A | AV14: =+IF(AND(ISNUMBER(OFFSET('Sanitation Data'!$I$6,0,10*ROW('Sanitation Data'!I8))),'Data Summary'!DK14="Yes"),OFFSET('Sanitation Data'!$I$6,0,10*ROW('Sanitation Data'!I8)),NA()) -> #N/A | AW14: =+IF(AND(ISNUMBER(OFFSET('Sanitation Data'!$I$10,0,10*ROW('Sanitation Data'!I8))),'Data Summary'!DL14="Yes"),OFFSET('Sanitation Data'!$I$10,0,10*ROW('Sanitation Data'!I8)),NA()) -> #N/A | AX14: =+IF(AND(ISNUMBER(OFFSET('Sanitation Data'!$I$11,0,10*ROW('Sanitation Data'!I8))),'Data Summary'!DM14="Yes"),OFFSET('Sanitation Data'!$I$11,0,10*ROW('Sanitation Data'!I8)),NA()) -> #N/A | AY14: =+IF(AND(ISNUMBER(OFFSET('Sanitation Data'!$I$12,0,10*ROW('Sanitation Data'!I8))),'Data Summary'!DN14="Yes"),OFFSET('Sanitation Data'!$I$12,0,10*ROW('Sanitation Data'!I8)),NA()) -> #N/A | AZ14: =+IF(AND(ISNUMBER(OFFSET('Hygiene Data'!$D$5,0,10*ROW('Hygiene Data'!D8))),'Data Summary'!DO14="Yes"),OFFSET('Hygiene Data'!$D$5,0,10*ROW('Hygiene Data'!D8)),NA()) -> #N/A | BA14: =+IF(AND(ISNUMBER(OFFSET('Hygiene Data'!$D$7,0,10*ROW('Hygiene Data'!D8))),'Data Summary'!DP14="Yes"),OFFSET('Hygiene Data'!$D$7,0,10*ROW('Hygiene Data'!D8)),NA()) -> #N/A | BB14: =+IF(AND(ISNUMBER(OFFSET('Hygiene Data'!$D$9,0,10*ROW('Hygiene Data'!D8))),'Data Summary'!DQ14="Yes"),OFFSET('Hygiene Data'!$D$9,0,10*ROW('Hygiene Data'!D8)),NA()) -> #N/A | BC14: =+IF(AND(ISNUMBER(OFFSET('Hygiene Data'!$E$5,0,10*ROW('Hygiene Data'!E8))),'Data Summary'!DR14="Yes"),OFFSET('Hygiene Data'!$E$5,0,10*ROW('Hygiene Data'!E8)),NA()) -> #N/A | BD14: =+IF(AND(ISNUMBER(OFFSET('Hygiene Data'!$E$7,0,10*ROW('Hygiene Data'!E8))),'Data Summary'!DS14="Yes"),OFFSET('Hygiene Data'!$E$7,0,10*ROW('Hygiene Data'!E8)),NA()) -> #N/A | BE14: =+IF(AND(ISNUMBER(OFFSET('Hygiene Data'!$E$9,0,10*ROW('Hygiene Data'!E8))),'Data Summary'!DT14="Yes"),OFFSET('Hygiene Data'!$E$9,0,10*ROW('Hygiene Data'!E8)),NA()) -> #N/A | BF14: =+IF(AND(ISNUMBER(OFFSET('Hygiene Data'!$F$5,0,10*ROW('Hygiene Data'!F8))),'Data Summary'!DU14="Yes"),OFFSET('Hygiene Data'!$F$5,0,10*ROW('Hygiene Data'!F8)),NA()) -> #N/A | BG14: =+IF(AND(ISNUMBER(OFFSET('Hygiene Data'!$F$7,0,10*ROW('Hygiene Data'!F8))),'Data Summary'!DV14="Yes"),OFFSET('Hygiene Data'!$F$7,0,10*ROW('Hygiene Data'!F8)),NA()) -> #N/A | BH14: =+IF(AND(ISNUMBER(OFFSET('Hygiene Data'!$F$9,0,10*ROW('Hygiene Data'!F8))),'Data Summary'!DW14="Yes"),OFFSET('Hygiene Data'!$F$9,0,10*ROW('Hygiene Data'!F8)),NA()) -> #N/A | BI14: =+IF(AND(ISNUMBER(OFFSET('Hygiene Data'!$G$5,0,10*ROW('Hygiene Data'!G8))),'Data Summary'!DX14="Yes"),OFFSET('Hygiene Data'!$G$5,0,10*ROW('Hygiene Data'!G8)),NA()) -> #N/A | BJ14: =+IF(AND(ISNUMBER(OFFSET('Hygiene Data'!$G$7,0,10*ROW('Hygiene Data'!G8))),'Data Summary'!DY14="Yes"),OFFSET('Hygiene Data'!$G$7,0,10*ROW('Hygiene Data'!G8)),NA()) -> #N/A | BK14: =+IF(AND(ISNUMBER(OFFSET('Hygiene Data'!$G$9,0,10*ROW('Hygiene Data'!G8))),'Data Summary'!DZ14="Yes"),OFFSET('Hygiene Data'!$G$9,0,10*ROW('Hygiene Data'!G8)),NA()) -> #N/A | BL14: =+IF(AND(ISNUMBER(OFFSET('Hygiene Data'!$H$5,0,10*ROW('Hygiene Data'!H8))),'Data Summary'!EA14="Yes"),OFFSET('Hygiene Data'!$H$5,0,10*ROW('Hygiene Data'!H8)),NA()) -> #N/A | BM14: =+IF(AND(ISNUMBER(OFFSET('Hygiene Data'!$H$7,0,10*ROW('Hygiene Data'!H8))),'Data Summary'!EB14="Yes"),OFFSET('Hygiene Data'!$H$7,0,10*ROW('Hygiene Data'!H8)),NA()) -> #N/A | BN14: =+IF(AND(ISNUMBER(OFFSET('Hygiene Data'!$H$9,0,10*ROW('Hygiene Data'!H8))),'Data Summary'!EC14="Yes"),OFFSET('Hygiene Data'!$H$9,0,10*ROW('Hygiene Data'!H8)),NA()) -> #N/A | BO14: =+IF(AND(ISNUMBER(OFFSET('Hygiene Data'!$I$5,0,10*ROW('Hygiene Data'!I8))),'Data Summary'!ED14="Yes"),OFFSET('Hygiene Data'!$I$5,0,10*ROW('Hygiene Data'!I8)),NA()) -> #N/A | BP14: =+IF(AND(ISNUMBER(OFFSET('Hygiene Data'!$I$7,0,10*ROW('Hygiene Data'!I8))),'Data Summary'!EE14="Yes"),OFFSET('Hygiene Data'!$I$7,0,10*ROW('Hygiene Data'!I8)),NA()) -> #N/A | BQ14: =+IF(AND(ISNUMBER(OFFSET('Hygiene Data'!$I$9,0,10*ROW('Hygiene Data'!I8))),'Data Summary'!EF14="Yes"),OFFSET('Hygiene Data'!$I$9,0,10*ROW('Hygiene Data'!I8)),NA()) -> #N/A
A15: =+RIGHT('Data Summary'!A15,LEN('Data Summary'!A15)-9) -> EMIS | B15: =+IF(ISTEXT('Data Summary'!B15),'Data Summary'!B15,"") -> EMIS | C15: =+VALUE('Data Summary'!C15) -> 2021 | D15: =+IF(AND(ISNUMBER(OFFSET('Water Data'!$D$4,0,10*ROW('Water Data'!D9))),'Data Summary'!BS15="Yes"),100-OFFSET('Water Data'!$D$4,0,10*ROW('Water Data'!D9)),NA()) -> 90.463646 | E15: =+IF(AND(ISNUMBER(OFFSET('Water Data'!$D$6,0,10*ROW('Water Data'!D9))),'Data Summary'!BT15="Yes"),OFFSET('Water Data'!$D$6,0,10*ROW('Water Data'!D9)),NA()) -> #N/A | F15: =+IF(AND(ISNUMBER(OFFSET('Water Data'!$D$9,0,10*ROW('Water Data'!D9))),'Data Summary'!BU15="Yes"),OFFSET('Water Data'!$D$9,0,10*ROW('Water Data'!D9)),NA()) -> #N/A | G15: =+IF(AND(ISNUMBER(OFFSET('Water Data'!$E$4,0,10*ROW('Water Data'!E9))),'Data Summary'!BV15="Yes"),100-OFFSET('Water Data'!$E$4,0,10*ROW('Water Data'!E9)),NA()) -> #N/A | H15: =+IF(AND(ISNUMBER(OFFSET('Water Data'!$E$6,0,10*ROW('Water Data'!E9))),'Data Summary'!BW15="Yes"),OFFSET('Water Data'!$E$6,0,10*ROW('Water Data'!E9)),NA()) -> #N/A | I15: =+IF(AND(ISNUMBER(OFFSET('Water Data'!$E$9,0,10*ROW('Water Data'!E9))),'Data Summary'!BX15="Yes"),OFFSET('Water Data'!$E$9,0,10*ROW('Water Data'!E9)),NA()) -> #N/A | J15: =+IF(AND(ISNUMBER(OFFSET('Water Data'!$F$4,0,10*ROW('Water Data'!F9))),'Data Summary'!BY15="Yes"),100-OFFSET('Water Data'!$F$4,0,10*ROW('Water Data'!F9)),NA()) -> #N/A | K15: =+IF(AND(ISNUMBER(OFFSET('Water Data'!$F$6,0,10*ROW('Water Data'!F9))),'Data Summary'!BZ15="Yes"),OFFSET('Water Data'!$F$6,0,10*ROW('Water Data'!F9)),NA()) -> #N/A | L15: =+IF(AND(ISNUMBER(OFFSET('Water Data'!$F$9,0,10*ROW('Water Data'!F9))),'Data Summary'!CA15="Yes"),OFFSET('Water Data'!$F$9,0,10*ROW('Water Data'!F9)),NA()) -> #N/A | M15: =+IF(AND(ISNUMBER(OFFSET('Water Data'!$G$4,0,10*ROW('Water Data'!G9))),'Data Summary'!CB15="Yes"),100-OFFSET('Water Data'!$G$4,0,10*ROW('Water Data'!G9)),NA()) -> 80 | N15: =+IF(AND(ISNUMBER(OFFSET('Water Data'!$G$6,0,10*ROW('Water Data'!G9))),'Data Summary'!CC15="Yes"),OFFSET('Water Data'!$G$6,0,10*ROW('Water Data'!G9)),NA()) -> #N/A | O15: =+IF(AND(ISNUMBER(OFFSET('Water Data'!$G$9,0,10*ROW('Water Data'!G9))),'Data Summary'!CD15="Yes"),OFFSET('Water Data'!$G$9,0,10*ROW('Water Data'!G9)),NA()) -> #N/A | P15: =+IF(AND(ISNUMBER(OFFSET('Water Data'!$H$4,0,10*ROW('Water Data'!H9))),'Data Summary'!CE15="Yes"),100-OFFSET('Water Data'!$H$4,0,10*ROW('Water Data'!H9)),NA()) -> 93.925234 | Q15: =+IF(AND(ISNUMBER(OFFSET('Water Data'!$H$6,0,10*ROW('Water Data'!H9))),'Data Summary'!CF15="Yes"),OFFSET('Water Data'!$H$6,0,10*ROW('Water Data'!H9)),NA()) -> #N/A | R15: =+IF(AND(ISNUMBER(OFFSET('Water Data'!$H$9,0,10*ROW('Water Data'!H9))),'Data Summary'!CG15="Yes"),OFFSET('Water Data'!$H$9,0,10*ROW('Water Data'!H9)),NA()) -> #N/A | S15: =+IF(AND(ISNUMBER(OFFSET('Water Data'!$I$4,0,10*ROW('Water Data'!I9))),'Data Summary'!CH15="Yes"),100-OFFSET('Water Data'!$I$4,0,10*ROW('Water Data'!I9)),NA()) -> 91.715976 | T15: =+IF(AND(ISNUMBER(OFFSET('Water Data'!$I$6,0,10*ROW('Water Data'!I9))),'Data Summary'!CI15="Yes"),OFFSET('Water Data'!$I$6,0,10*ROW('Water Data'!I9)),NA()) -> #N/A | U15: =+IF(AND(ISNUMBER(OFFSET('Water Data'!$I$9,0,10*ROW('Water Data'!I9))),'Data Summary'!CJ15="Yes"),OFFSET('Water Data'!$I$9,0,10*ROW('Water Data'!I9)),NA()) -> #N/A | V15: =+IF(AND(ISNUMBER(OFFSET('Sanitation Data'!$D$4,0,10*ROW('Sanitation Data'!D9))),'Data Summary'!CK15="Yes"),100-OFFSET('Sanitation Data'!$D$4,0,10*ROW('Sanitation Data'!D9)),NA()) -> 67.017914 | W15: =+IF(AND(ISNUMBER(OFFSET('Sanitation Data'!$D$6,0,10*ROW('Sanitation Data'!D9))),'Data Summary'!CL15="Yes"),OFFSET('Sanitation Data'!$D$6,0,10*ROW('Sanitation Data'!D9)),NA()) -> #N/A | X15: =+IF(AND(ISNUMBER(OFFSET('Sanitation Data'!$D$10,0,10*ROW('Sanitation Data'!D9))),'Data Summary'!CM15="Yes"),OFFSET('Sanitation Data'!$D$10,0,10*ROW('Sanitation Data'!D9)),NA()) -> #N/A | Y15: =+IF(AND(ISNUMBER(OFFSET('Sanitation Data'!$D$11,0,10*ROW('Sanitation Data'!D9))),'Data Summary'!CN15="Yes"),OFFSET('Sanitation Data'!$D$11,0,10*ROW('Sanitation Data'!D9)),NA()) -> #N/A | Z15: =+IF(AND(ISNUMBER(OFFSET('Sanitation Data'!$D$12,0,10*ROW('Sanitation Data'!D9))),'Data Summary'!CO15="Yes"),OFFSET('Sanitation Data'!$D$12,0,10*ROW('Sanitation Data'!D9)),NA()) -> #N/A | AA15: =+IF(AND(ISNUMBER(OFFSET('Sanitation Data'!$E$4,0,10*ROW('Sanitation Data'!E9))),'Data Summary'!CP15="Yes"),100-OFFSET('Sanitation Data'!$E$4,0,10*ROW('Sanitation Data'!E9)),NA()) -> #N/A | AB15: =+IF(AND(ISNUMBER(OFFSET('Sanitation Data'!$E$6,0,10*ROW('Sanitation Data'!E9))),'Data Summary'!CQ15="Yes"),OFFSET('Sanitation Data'!$E$6,0,10*ROW('Sanitation Data'!E9)),NA()) -> #N/A | AC15: =+IF(AND(ISNUMBER(OFFSET('Sanitation Data'!$E$10,0,10*ROW('Sanitation Data'!E9))),'Data Summary'!CR15="Yes"),OFFSET('Sanitation Data'!$E$10,0,10*ROW('Sanitation Data'!E9)),NA()) -> #N/A | AD15: =+IF(AND(ISNUMBER(OFFSET('Sanitation Data'!$E$11,0,10*ROW('Sanitation Data'!E9))),'Data Summary'!CS15="Yes"),OFFSET('Sanitation Data'!$E$11,0,10*ROW('Sanitation Data'!E9)),NA()) -> #N/A | AE15: =+IF(AND(ISNUMBER(OFFSET('Sanitation Data'!$E$12,0,10*ROW('Sanitation Data'!E9))),'Data Summary'!CT15="Yes"),OFFSET('Sanitation Data'!$E$12,0,10*ROW('Sanitation Data'!E9)),NA()) -> #N/A | AF15: =+IF(AND(ISNUMBER(OFFSET('Sanitation Data'!$F$4,0,10*ROW('Sanitation Data'!F9))),'Data Summary'!CU15="Yes"),100-OFFSET('Sanitation Data'!$F$4,0,10*ROW('Sanitation Data'!F9)),NA()) -> #N/A | AG15: =+IF(AND(ISNUMBER(OFFSET('Sanitation Data'!$F$6,0,10*ROW('Sanitation Data'!F9))),'Data Summary'!CV15="Yes"),OFFSET('Sanitation Data'!$F$6,0,10*ROW('Sanitation Data'!F9)),NA()) -> #N/A | AH15: =+IF(AND(ISNUMBER(OFFSET('Sanitation Data'!$F$10,0,10*ROW('Sanitation Data'!F9))),'Data Summary'!CW15="Yes"),OFFSET('Sanitation Data'!$F$10,0,10*ROW('Sanitation Data'!F9)),NA()) -> #N/A | AI15: =+IF(AND(ISNUMBER(OFFSET('Sanitation Data'!$F$11,0,10*ROW('Sanitation Data'!F9))),'Data Summary'!CX15="Yes"),OFFSET('Sanitation Data'!$F$11,0,10*ROW('Sanitation Data'!F9)),NA()) -> #N/A | AJ15: =+IF(AND(ISNUMBER(OFFSET('Sanitation Data'!$F$12,0,10*ROW('Sanitation Data'!F9))),'Data Summary'!CY15="Yes"),OFFSET('Sanitation Data'!$F$12,0,10*ROW('Sanitation Data'!F9)),NA()) -> #N/A | AK15: =+IF(AND(ISNUMBER(OFFSET('Sanitation Data'!$G$4,0,10*ROW('Sanitation Data'!G9))),'Data Summary'!CZ15="Yes"),100-OFFSET('Sanitation Data'!$G$4,0,10*ROW('Sanitation Data'!G9)),NA()) -> 40.449438 | AL15: =+IF(AND(ISNUMBER(OFFSET('Sanitation Data'!$G$6,0,10*ROW('Sanitation Data'!G9))),'Data Summary'!DA15="Yes"),OFFSET('Sanitation Data'!$G$6,0,10*ROW('Sanitation Data'!G9)),NA()) -> #N/A | AM15: =+IF(AND(ISNUMBER(OFFSET('Sanitation Data'!$G$10,0,10*ROW('Sanitation Data'!G9))),'Data Summary'!DB15="Yes"),OFFSET('Sanitation Data'!$G$10,0,10*ROW('Sanitation Data'!G9)),NA()) -> #N/A | AN15: =+IF(AND(ISNUMBER(OFFSET('Sanitation Data'!$G$11,0,10*ROW('Sanitation Data'!G9))),'Data Summary'!DC15="Yes"),OFFSET('Sanitation Data'!$G$11,0,10*ROW('Sanitation Data'!G9)),NA()) -> #N/A | AO15: =+IF(AND(ISNUMBER(OFFSET('Sanitation Data'!$G$12,0,10*ROW('Sanitation Data'!G9))),'Data Summary'!DD15="Yes"),OFFSET('Sanitation Data'!$G$12,0,10*ROW('Sanitation Data'!G9)),NA()) -> #N/A | AP15: =+IF(AND(ISNUMBER(OFFSET('Sanitation Data'!$H$4,0,10*ROW('Sanitation Data'!H9))),'Data Summary'!DE15="Yes"),100-OFFSET('Sanitation Data'!$H$4,0,10*ROW('Sanitation Data'!H9)),NA()) -> 74.844237 | AQ15: =+IF(AND(ISNUMBER(OFFSET('Sanitation Data'!$H$6,0,10*ROW('Sanitation Data'!H9))),'Data Summary'!DF15="Yes"),OFFSET('Sanitation Data'!$H$6,0,10*ROW('Sanitation Data'!H9)),NA()) -> #N/A | AR15: =+IF(AND(ISNUMBER(OFFSET('Sanitation Data'!$H$10,0,10*ROW('Sanitation Data'!H9))),'Data Summary'!DG15="Yes"),OFFSET('Sanitation Data'!$H$10,0,10*ROW('Sanitation Data'!H9)),NA()) -> #N/A | AS15: =+IF(AND(ISNUMBER(OFFSET('Sanitation Data'!$H$11,0,10*ROW('Sanitation Data'!H9))),'Data Summary'!DH15="Yes"),OFFSET('Sanitation Data'!$H$11,0,10*ROW('Sanitation Data'!H9)),NA()) -> #N/A | AT15: =+IF(AND(ISNUMBER(OFFSET('Sanitation Data'!$H$12,0,10*ROW('Sanitation Data'!H9))),'Data Summary'!DI15="Yes"),OFFSET('Sanitation Data'!$H$12,0,10*ROW('Sanitation Data'!H9)),NA()) -> #N/A | AU15: =+IF(AND(ISNUMBER(OFFSET('Sanitation Data'!$I$4,0,10*ROW('Sanitation Data'!I9))),'Data Summary'!DJ15="Yes"),100-OFFSET('Sanitation Data'!$I$4,0,10*ROW('Sanitation Data'!I9)),NA()) -> 77.514793 | AV15: =+IF(AND(ISNUMBER(OFFSET('Sanitation Data'!$I$6,0,10*ROW('Sanitation Data'!I9))),'Data Summary'!DK15="Yes"),OFFSET('Sanitation Data'!$I$6,0,10*ROW('Sanitation Data'!I9)),NA()) -> #N/A | AW15: =+IF(AND(ISNUMBER(OFFSET('Sanitation Data'!$I$10,0,10*ROW('Sanitation Data'!I9))),'Data Summary'!DL15="Yes"),OFFSET('Sanitation Data'!$I$10,0,10*ROW('Sanitation Data'!I9)),NA()) -> #N/A | AX15: =+IF(AND(ISNUMBER(OFFSET('Sanitation Data'!$I$11,0,10*ROW('Sanitation Data'!I9))),'Data Summary'!DM15="Yes"),OFFSET('Sanitation Data'!$I$11,0,10*ROW('Sanitation Data'!I9)),NA()) -> #N/A | AY15: =+IF(AND(ISNUMBER(OFFSET('Sanitation Data'!$I$12,0,10*ROW('Sanitation Data'!I9))),'Data Summary'!DN15="Yes"),OFFSET('Sanitation Data'!$I$12,0,10*ROW('Sanitation Data'!I9)),NA()) -> #N/A | AZ15: =+IF(AND(ISNUMBER(OFFSET('Hygiene Data'!$D$5,0,10*ROW('Hygiene Data'!D9))),'Data Summary'!DO15="Yes"),OFFSET('Hygiene Data'!$D$5,0,10*ROW('Hygiene Data'!D9)),NA()) -> #N/A | BA15: =+IF(AND(ISNUMBER(OFFSET('Hygiene Data'!$D$7,0,10*ROW('Hygiene Data'!D9))),'Data Summary'!DP15="Yes"),OFFSET('Hygiene Data'!$D$7,0,10*ROW('Hygiene Data'!D9)),NA()) -> #N/A | BB15: =+IF(AND(ISNUMBER(OFFSET('Hygiene Data'!$D$9,0,10*ROW('Hygiene Data'!D9))),'Data Summary'!DQ15="Yes"),OFFSET('Hygiene Data'!$D$9,0,10*ROW('Hygiene Data'!D9)),NA()) -> #N/A | BC15: =+IF(AND(ISNUMBER(OFFSET('Hygiene Data'!$E$5,0,10*ROW('Hygiene Data'!E9))),'Data Summary'!DR15="Yes"),OFFSET('Hygiene Data'!$E$5,0,10*ROW('Hygiene Data'!E9)),NA()) -> #N/A | BD15: =+IF(AND(ISNUMBER(OFFSET('Hygiene Data'!$E$7,0,10*ROW('Hygiene Data'!E9))),'Data Summary'!DS15="Yes"),OFFSET('Hygiene Data'!$E$7,0,10*ROW('Hygiene Data'!E9)),NA()) -> #N/A | BE15: =+IF(AND(ISNUMBER(OFFSET('Hygiene Data'!$E$9,0,10*ROW('Hygiene Data'!E9))),'Data Summary'!DT15="Yes"),OFFSET('Hygiene Data'!$E$9,0,10*ROW('Hygiene Data'!E9)),NA()) -> #N/A | BF15: =+IF(AND(ISNUMBER(OFFSET('Hygiene Data'!$F$5,0,10*ROW('Hygiene Data'!F9))),'Data Summary'!DU15="Yes"),OFFSET('Hygiene Data'!$F$5,0,10*ROW('Hygiene Data'!F9)),NA()) -> #N/A | BG15: =+IF(AND(ISNUMBER(OFFSET('Hygiene Data'!$F$7,0,10*ROW('Hygiene Data'!F9))),'Data Summary'!DV15="Yes"),OFFSET('Hygiene Data'!$F$7,0,10*ROW('Hygiene Data'!F9)),NA()) -> #N/A | BH15: =+IF(AND(ISNUMBER(OFFSET('Hygiene Data'!$F$9,0,10*ROW('Hygiene Data'!F9))),'Data Summary'!DW15="Yes"),OFFSET('Hygiene Data'!$F$9,0,10*ROW('Hygiene Data'!F9)),NA()) -> #N/A | BI15: =+IF(AND(ISNUMBER(OFFSET('Hygiene Data'!$G$5,0,10*ROW('Hygiene Data'!G9))),'Data Summary'!DX15="Yes"),OFFSET('Hygiene Data'!$G$5,0,10*ROW('Hygiene Data'!G9)),NA()) -> #N/A | BJ15: =+IF(AND(ISNUMBER(OFFSET('Hygiene Data'!$G$7,0,10*ROW('Hygiene Data'!G9))),'Data Summary'!DY15="Yes"),OFFSET('Hygiene Data'!$G$7,0,10*ROW('Hygiene Data'!G9)),NA()) -> #N/A | BK15: =+IF(AND(ISNUMBER(OFFSET('Hygiene Data'!$G$9,0,10*ROW('Hygiene Data'!G9))),'Data Summary'!DZ15="Yes"),OFFSET('Hygiene Data'!$G$9,0,10*ROW('Hygiene Data'!G9)),NA()) -> #N/A | BL15: =+IF(AND(ISNUMBER(OFFSET('Hygiene Data'!$H$5,0,10*ROW('Hygiene Data'!H9))),'Data Summary'!EA15="Yes"),OFFSET('Hygiene Data'!$H$5,0,10*ROW('Hygiene Data'!H9)),NA()) -> #N/A | BM15: =+IF(AND(ISNUMBER(OFFSET('Hygiene Data'!$H$7,0,10*ROW('Hygiene Data'!H9))),'Data Summary'!EB15="Yes"),OFFSET('Hygiene Data'!$H$7,0,10*ROW('Hygiene Data'!H9)),NA()) -> #N/A | BN15: =+IF(AND(ISNUMBER(OFFSET('Hygiene Data'!$H$9,0,10*ROW('Hygiene Data'!H9))),'Data Summary'!EC15="Yes"),OFFSET('Hygiene Data'!$H$9,0,10*ROW('Hygiene Data'!H9)),NA()) -> #N/A | BO15: =+IF(AND(ISNUMBER(OFFSET('Hygiene Data'!$I$5,0,10*ROW('Hygiene Data'!I9))),'Data Summary'!ED15="Yes"),OFFSET('Hygiene Data'!$I$5,0,10*ROW('Hygiene Data'!I9)),NA()) -> #N/A | BP15: =+IF(AND(ISNUMBER(OFFSET('Hygiene Data'!$I$7,0,10*ROW('Hygiene Data'!I9))),'Data Summary'!EE15="Yes"),OFFSET('Hygiene Data'!$I$7,0,10*ROW('Hygiene Data'!I9)),NA()) -> #N/A | BQ15: =+IF(AND(ISNUMBER(OFFSET('Hygiene Data'!$I$9,0,10*ROW('Hygiene Data'!I9))),'Data Summary'!EF15="Yes"),OFFSET('Hygiene Data'!$I$9,0,10*ROW('Hygiene Data'!I9)),NA()) -> #N/A
