Workbook
Name ISO3language: [1]Key!$T:$U
Name ISO3language: [1]Key!$T:$U
Name ISO3language: Key!$T:$U
Name myrangeH0: 'Hygiene Data'!$B$1:$K$2
Name myrangeH1: 'Hygiene Data'!$L$1:$U$2
Name myrangeH2: 'Hygiene Data'!$V$1:$AE$2
Name myrangeH3: 'Hygiene Data'!$AF$1:$AO$2
Name myrangeH4: 'Hygiene Data'!$AP$1:$AY$2
Name myrangeH5: 'Hygiene Data'!$AZ$1:$BI$2
Name myrangeS0: 'Sanitation Data'!$B$1:$K$2
Name myrangeS1: 'Sanitation Data'!$L$1:$U$2
Name myrangeS2: 'Sanitation Data'!$V$1:$AE$2
Name myrangeS3: 'Sanitation Data'!$AF$1:$AO$2
Name myrangeS4: 'Sanitation Data'!$AP$1:$AY$2
Name myrangeS5: 'Sanitation Data'!$AZ$1:$BI$2
Name myrangeW0: 'Water Data'!$B$1:$K$2
Name myrangeW1: 'Water Data'!$L$1:$U$2
Name myrangeW2: 'Water Data'!$V$1:$AE$2
Name myrangeW3: 'Water Data'!$AF$1:$AO$2
Name myrangeW4: 'Water Data'!$AP$1:$AY$2
Name myrangeW5: 'Water Data'!$AZ$1:$BI$2
Name nametranslations: [1]Key!$A:$G
Name nametranslations: [1]Key!$A:$G
Name nametranslations: Key!$A:$G
Name RURAL_SANITATION: #REF!
Name RURAL_SANITATION: #REF!
Name RURAL_SANITATION: #REF!
Name RURAL_WATER: #REF!
Name RURAL_WATER: #REF!
Name translationcountries: [1]Key!$M:$U
Name translationcountries: [1]Key!$M:$U
Name translationcountries: Key!$M:$U

Sheet Key
A1: English | B1: Spanish | C1: French | D1: Russian | E1: Arabic | F1: Other | I1: Language | L1: ISO3 | M1: name | N1: name_FR | O1: name_ES | P1: name_RU | Q1: name_AR | R1: name_CH | S1: name_other | T1: ISO3 | U1: Language
A2: Introduction tab glossary | I2: English | L2: ABW | M2: Aruba | N2: Aruba | O2: Aruba | P2: Аруба | Q2: أروبا | T2: ABW | U2: English
A3: Joint Monitoring Programme for Water Supply, Sanitation and Hygiene | B3: Programa Conjunto OMS/UNICEF de Monitoreo del Abastecimiento del Agua, el Saneamiento y la Higiene | C3: Programme commun OMS/UNICEF de suivi de l’approvisionnement en eau, de l’assainissement et de l’hygiène | D3: Совместная программа по мониторингу водоснабжения, санитарии и гигиены (СПМ) | E3: برنامج الرصد المشترك بين منظمة الصحة العالمية واليونيسف إلمدادات المياه والمرافق الصحي | I3: Spanish | L3: AFG | M3: Afghanistan | N3: Afghanistan | O3: Afganistán | P3: Афганистан | Q3: أفغانستان | T3: AFG | U3: English | W3: Introduction!G4 | X3: VLOOKUP(Introduction!$G$8,ISO3language,2,FALSE)
A4: Estimates on water, sanitation, hygiene in schools | B4: Estimaciones sobre servicios de agua, saneamiento, higiene en las escuelas | C4: Estimations sur l'eau, l'assainissement, l'hygiène en milieu scolaire | D4: Расчётные оценки услуг водоснабжения, санитарии, обеспечения средствами гигиены в школах | E4: التقديرات لتقدم في خدمات مياه الشرب والصرف الصحي والنظافة الصحية في المدارس | I4: French | L4: AGO | M4: Angola | N4: Angola | O4: Angola | P4: Ангола | Q4: أنغولا | T4: AGO | U4: French
A5: =+Introduction!C7 -> السودان | B5: =VLOOKUP($A$5,translationcountries,3,FALSE) -> #N/A | C5: =VLOOKUP($A$5,translationcountries,2,FALSE) -> #N/A | D5: =VLOOKUP($A$5,translationcountries,4,FALSE) -> #N/A | E5: =VLOOKUP($A$5,translationcountries,5,FALSE) -> #N/A | F5: =VLOOKUP($A$5,translationcountries,6,FALSE) -> #N/A | I5: Russian | L5: AIA | M5: Anguilla | N5: Anguilla | O5: Anguila | P5: Ангилья | Q5: أنغويلا | T5: AIA | U5: English
A6: Updated September 2026 | B6: Actualizado en septiembre de 2026 | C6: Mis à jour en septembre 2026 | D6: Обновлено в сентябре 2026 года | E6: تم التحديث في سبتمبر 2026 | I6: Arabic | L6: ALA | M6: Åland Islands | N6: Îles d’Åland | O6: Islas Åland | P6: Аландских островов | Q6: جزر ألاند | T6: ALA | U6: English
A7: Follow the links below to find the following information: | B7: Siga los enlaces a continuación para encontrar la siguiente información: | C7: Suivez les liens ci-dessous pour trouver les informations suivantes : | D7: Для нахождения следующей информации используйте указанные ниже ссылки: | E7: اتبع الروابط أدناه للعثور على المعلومات التالية: | I7: Other | L7: ALB | M7: Albania | N7: Albanie | O7: Albania | P7: Албания | Q7: ألبانيا | T7: ALB | U7: English | X7: {=CELL("filename")} -> C:\Users\johnstonr\WHOUNICEF Dropbox\WHOUNICEF Team Folder\Schools\2026 Report\Country files\Country files multilingual\Country files v09\[JMP_2026_WinS_SDN_Sudan.xlsx]Introduction
A8: JMP Estimates: | B8: Estimaciones de JMP: | C8: Estimations JMP : | D8: Расчётные оценки СПМ: | E8: تقديرات JMP: | L8: AND | M8: Andorra | N8: Andorre | O8: Andorra | P8: Андорра | Q8: أندورا | T8: AND | U8: French | X8: =IFERROR(MID(X7,FIND(CHAR(1),SUBSTITUTE(X7,"\",CHAR(1),LEN(X7)-LEN(SUBSTITUTE(X7,"\",""))))+1,FIND(CHAR(1),SUBSTITUTE(X7,".",CHAR(1),LEN(X7)-LEN(SUBSTITUTE(X7,".",""))))-FIND(CHAR(1),SUBSTITUTE(X7,"\",CHAR(1),LEN(X7)-LEN(SUBSTITUTE(X7,"\",""))))-1),"") -> [JMP_2026_WinS_SDN_Sudan
A9: WASH ladders for schools | B9: Escaleras WASH para las escuelas | C9: Échelles WASH en milieu scolaire | D9: Иерархические лестницы услуг WASH для школ | E9: سلالم المياه والصرف الصحي للمدارس | L9: ARE | M9: United Arab Emirates | N9: Émirats arabes unis | O9: Emiratos Árabes Unidos | P9: Объединенные Арабские Эмираты | Q9: الإمارات العربية المتحدة | T9: ARE | U9: Arabic | X9: Template
A10: Trends in basic WASH in schools | B10: Tendencias en WASH básico en las escuelas | C10: Tendances : services de base WASH en milieu scolaire | D10: Тенденции в базовых уровнях WASH в школах | E10: الاتجاهات الأساسية في مجال المياه والصرف الصحي والنظافة الصحية في المدارس | I10: Buttons | L10: ARG | M10: Argentina | N10: Argentine | O10: Argentina | P10: Аргентина | Q10: الأرجنتين | T10: ARG | U10: Spanish | W10: countryname | X10: IF($G$4="English",VLOOKUP($G$8,Key!$L$2:$S$247,2,FALSE),IF($G$4="Spanish",VLOOKUP($G$8,Key!$L$2:$S$247,4,FALSE),IF($G$4="French",VLOOKUP($G$8,Key!$L$2:$S$247,3,FALSE),IF($G$4="Russian",VLOOKUP($G$8,Key!$L$2:$S$247,5,FALSE),IF($G$4="Arabic",VLOOKUP($G$8,Key!$L$2:$S$247,5,FALSE),IF($G$4="Chinese",VLOOKUP($G$8,Key!$L$2:$S$247,6,FALSE),IF($G$4="Other",VLOOKUP($G$8,Key!$L$2:$S$247,7,FALSE))))))))
A11: Estimates (2000-2025) for schools | B11: Estimaciones (2000-2025) para las escuelas | C11: Estimations (2000-2025) en milieu scolaire | D11: Расчётные оценки (2000-2025 гг.) для школ | E11: تقديرات (2000 - 2025) للمدارس | I11: =HLOOKUP(Introduction!$G$4,nametranslations,18,FALSE) -> ملاحظات حول كيفية قراءة ملف الدولة | L11: ARM | M11: Armenia | N11: Arménie | O11: Armenia | P11: Армения | Q11: أرمينيا | T11: ARM | U11: English
A12: Data inputs: | B12: Entradas de datos: | C12: Entrées de données : | D12: Наборы входных данных: | E12: مدخلات البيانات: | I12: =HLOOKUP(Introduction!$G$4,nametranslations,24,FALSE) -> المجموع | L12: ASM | M12: American Samoa | N12: Samoa américaines | O12: Samoa Americana | P12: Американское Самоа | Q12: ساموا الأمريكية | T12: ASM | U12: English | W12: iso3 | X12: MID(A2,A3+1,3) | Z12: where A2=cell("filename") | AC12: A3=FIND("~",SUBSTITUTE(A2,"_","~",3)) | AH12: {=MID(CELL("filename"),FIND("~",SUBSTITUTE(CELL("filename"),"_","~",3))+1,3)} -> SDN
A13: Data summary | B13: Resumen de datos | C13: Résumé des données | D13: Перечень данных | E13: ملخص البيانات | I13: =HLOOKUP(Introduction!$G$4,nametranslations,25,FALSE) -> ريفي | L13: ATF | M13: French Southern Territories | N13: Terres australes françaises | O13: Territorio de las Tierras Australes Francesas | P13: Южные земли (французская заморская территория) | Q13: الأراضي الفرنسية الجنوبية الجنوبية | T13: ATF | U13: French
A14: Water Data | B14: Datos de agua | C14: Données sur l'eau | D14: Данные о водоснабжении | E14: بيانات المياه | I14: =HLOOKUP(Introduction!$G$4,nametranslations,26,FALSE) -> الحضاري | L14: ATG | M14: Antigua and Barbuda | N14: Antigua-et-Barbuda | O14: Antigua y Barbuda | P14: Антигуа и Барбуда | Q14: أنتيغوا وبربودا | T14: ATG | U14: English
A15: Sanitation Data | B15: Datos de saneamiento | C15: Données sur l'assainissement | D15: Данные о санитарии | E15: بيانات الصرف الصحي | I15: =HLOOKUP(Introduction!$G$4,nametranslations,27,FALSE) -> المرحلة الابتدائية | L15: AUS | M15: Australia | N15: Australie | O15: Australia | P15: Австралия | Q15: أستراليا | T15: AUS | U15: English
A16: Hygiene Data | B16: Datos de higiene | C16: Données sur l'hygiène | D16: Данные о средствах гигиены | E16: بيانات النظافة | I16: =HLOOKUP(Introduction!$G$4,nametranslations,28,FALSE) -> خبرات | L16: AUT | M16: Austria | N16: Autriche | O16: Austria | P16: Австрия | Q16: النمسا | T16: AUT | U16: English
A17: Population Data | B17: Datos de población | C17: Données démographiques | D17: Данные о численности населения | E17: بيانات السكان | I17: =HLOOKUP(Introduction!$G$4,nametranslations,29,FALSE) -> ثانوي | L17: AZE | M17: Azerbaijan | N17: Azerbaïdjan | O17: Azerbaiyán | P17: Азербайджан | Q17: أذربيجان | T17: AZE | U17: English
A18: Notes on how to read the country file | B18: Notas sobre cómo leer el archivo de país | C18: Notes sur la façon de lire le fichier pays | D18: Заметки о том, как читать страновой файл | E18: ملاحظات حول كيفية قراءة ملف الدولة | L18: BDI | M18: Burundi | N18: Burundi | O18: Burundi | P18: Бурунди | Q18: بوروندي | T18: BDI | U18: French
A19: Ladders tab glossary (if not already translated above) | L19: BEL | M19: Belgium | N19: Belgique | O19: Bélgica | P19: Бельгия | Q19: بلجيكا | T19: BEL | U19: French
A20: Water, sanitation and hygiene ladders for schools | B20: Escaleras de agua, saneamiento e higiene para las escuelas | C20: Echelles d'eau, d'assainissement et d'hygiène en milieu scolaire | D20: Иерархические лестницы услуг водоснабжения и санитарии и обеспеченности средствами гигиены для школ | E20: سلالم المياه والصرف الصحي والنظافة للمدارس | L20: BEN | M20: Benin | N20: Bénin | O20: Benin | P20: Бенин | Q20: بنن | T20: BEN | U20: French
A21: Water | B21: Agua | C21: Eau | D21: Водоснабжение | E21: ماء | L21: BES | M21: Bonaire, Sint Eustatius and Saba | N21: Bonaire, Saint-Eustache et Saba | O21: Bonaire, San Eustaquio y Saba | P21: Бонайре, Синт-Эстатиус и Саба | Q21: بونير وسانت يوستاشيوس وسابا | T21: BES | U21: English
A22: Sanitation | B22: Saneamiento | C22: Assainissement | D22: Санитария | E22: الصرف الصحي | L22: BFA | M22: Burkina Faso | N22: Burkina Faso | O22: Burkina Faso | P22: Буркина-Фасо | Q22: بوركينا فاسو | T22: BFA | U22: French
A23: Hygiene | B23: Higiene | C23: Hygiène | D23: Гигиена | E23: صحة | L23: BGD | M23: Bangladesh | N23: Bangladesh | O23: Bangladesh | P23: Бангладеш | Q23: بنغلاديش | T23: BGD | U23: English
A24: Total | B24: Total | C24: Total | D24: Во всей стране | E24: المجموع | I24: Chart titles/ladders | L24: BGR | M24: Bulgaria | N24: Bulgarie | O24: Bulgaria | P24: Болгария | Q24: بلغاريا | T24: BGR | U24: English
A25: Rural | B25: Rural | C25: Rural | D25: Сельские | E25: ريفي | I25: =HLOOKUP(Introduction!$G$4,nametranslations,36,FALSE) -> نسبة المدارس (٪) | L25: BHR | M25: Bahrain | N25: Bahreïn | O25: Bahrein | P25: Бахрейн | Q25: البحرين | T25: BHR | U25: Arabic
A26: Urban | B26: Urbano | C26: Urbain | D26: Городские | E26: الحضاري | I26: Total | L26: BHS | M26: Bahamas | N26: Bahamas | O26: Bahamas | P26: Багамские Острова | Q26: جزر البهاما | T26: BHS | U26: English
A27: Pre-primary | B27: Preprimaria | C27: Pré-primaire | D27: Дошкольные учреждения | E27: المرحلة الابتدائية | I27: =HLOOKUP(Introduction!$G$4,nametranslations,25,FALSE) -> ريفي | L27: BIH | M27: Bosnia and Herzegovina | N27: Bosnie-Herzégovine | O27: Bosnia y Herzegovina | P27: Босния и Герцеговина | Q27: البوسنة والهرسك | T27: BIH | U27: English
A28: Primary | B28: Primaria | C28: Primaire | D28: Начальные | E28: خبرات | I28: =HLOOKUP(Introduction!$G$4,nametranslations,26,FALSE) -> الحضاري | L28: BLM | M28: Saint Barthélemy | N28: Saint-Barthélemy | O28: San Barthélemy | P28: Сен-Бартелеми | Q28: سان بارتليمي | T28: BLM | U28: French
A29: Secondary | B29: Secundaria | C29: Secondaire | D29: Средние | E29: ثانوي | I29: =HLOOKUP(Introduction!$G$4,nametranslations,27,FALSE) -> المرحلة الابتدائية | L29: BLR | M29: Belarus | N29: Bélarus | O29: Belarús | P29: Беларусь | Q29: بيلاروس | T29: BLR | U29: English
A30: Basic service | B30: Servicio básico | C30: Service de base | D30: Базовый уровень услуг | E30: الخدمة الأساسية | I30: =HLOOKUP(Introduction!$G$4,nametranslations,28,FALSE) -> خبرات | L30: BLZ | M30: Belize | N30: Belize | O30: Belice | P30: Белиз | Q30: بليز | T30: BLZ | U30: English
A31: Limited service | B31: Servicio limitado | C31: Service limité | D31: Ограниченный уровень | E31: خدمة محدودة | I31: =HLOOKUP(Introduction!$G$4,nametranslations,29,FALSE) -> ثانوي | L31: BMU | M31: Bermuda | N31: Bermudes | O31: Bermuda | P31: Бермудские острова | Q31: برمودا | T31: BMU | U31: English
A32: No service | B32: Sin servicio | C32: Pas de service | D32: Отсутствие услуг | E32: لاتوجد خدمة | L32: BOL | M32: Bolivia (Plurinational State of) | N32: Bolivie (État plurinational de) | O32: Bolivia (Estado Plurinacional de) | P32: Боливия (Многонациональное Государство) | Q32: بوليفيا (دولة - المتعددة القوميات) | T32: BOL | U32: Spanish
A33: Insufficient data | B33: Datos insuficientes | C33: Données insuffisantes | D33: Недостаточно данных | E33: البيانات غير كافية | L33: BRA | M33: Brazil | N33: Brésil | O33: Brasil | P33: Бразилия | Q33: البرازيل | T33: BRA | U33: English
A34: Source: WHO/UNICEF JMP (2026) | B34: Fuente: OMS/UNICEF JMP (2026) | C34: Source : OMS/UNICEF JMP (2026) | D34: Источник: СПМ ВОЗ/ЮНИСЕФ (2026 г.) | E34: المصدر: WHO/UNICEF JMP (2024) | L34: BRB | M34: Barbados | N34: Barbade | O34: Barbados | P34: Барбадос | Q34: بربادوس | T34: BRB | U34: English
A35: No basic service estimate available | B35: No hay estimaciones de servicio básico disponible | C35: Aucune estimation de service de base disponible | D35: Оценок базового уровня услуг нет | E35: لا يتوفر تقدير الخدمة الأساسية | L35: BRN | M35: Brunei Darussalam | N35: Brunéi Darussalam | O35: Brunei Darussalam | P35: Бруней-Даруссалам | Q35: بروني دار السلام | T35: BRN | U35: English
A36: Proportion of Schools (%) | B36: Proporción de escuelas (%) | C36: Proportion des écoles (%) | D36: Доля школ (%) | E36: نسبة المدارس (٪) | L36: BTN | M36: Bhutan | N36: Bhoutan | O36: Bhután | P36: Бутан | Q36: بوتان | T36: BTN | U36: English
A37: Charts tab glossary (if not already translated above) | L37: BWA | M37: Botswana | N37: Botswana | O37: Botswana | P37: Ботсвана | Q37: بوتسوانا | T37: BWA | U37: English
A38: Water, sanitation and hygiene services in schools | B38: Servicios de agua, saneamiento e higiene en las escuelas | C38: Services d'eau, d'assainissement et d'hygiène en milieu scolaire | D38: Услуги водоснабжения и санитарии и обеспеченность средствами гигиены в школах | E38: خدمات المياه والصرف الصحي والنظافة في المدارس | L38: CAF | M38: Central African Republic | N38: République centrafricaine | O38: República Centroafricana | P38: Центральноафриканская Республика | Q38: جمهورية أفريقيا الوسطى | T38: CAF | U38: French
A39: Water: total | B39: Agua: total | C39: Eau : total | D39: Вода: всего | E39: الماء: المجموع | L39: CAN | M39: Canada | N39: Canada | O39: Canadá | P39: Канада | Q39: كندا | T39: CAN | U39: English
A40: Water: urban | B40: Agua: urbano | C40: Eau : urbain | D40: Водоснабжение: городские | E40: المياه: حضرية | L40: CCK | M40: Cocos (Keeling) Islands | N40: Îles des Cocos (Keeling) | O40: Islas Cocos (Keeling) | P40: Кокосовых (Килинг) островов | Q40: جزر كوكس (كيلينغ) | T40: CCK | U40: English
...

Sheet Introduction
G3: Choose language
C4: =HLOOKUP(Introduction!$G$4,Key!A:G,3,FALSE) -> برنامج الرصد المشترك بين منظمة الصحة العالمية واليونيسف إلمدادات المياه والمرافق الصحي | G4: =+VLOOKUP(Introduction!$G$8,ISO3language,2,FALSE) -> Arabic
C6: =HLOOKUP(Introduction!$G$4,Key!A:G,4,FALSE) -> التقديرات لتقدم في خدمات مياه الشرب والصرف الصحي والنظافة الصحية في المدارس
C7: =IF($G$4="English",VLOOKUP($G$8,Key!$L$2:$S$247,2,FALSE),IF($G$4="Spanish",VLOOKUP($G$8,Key!$L$2:$S$247,4,FALSE),IF($G$4="French",VLOOKUP($G$8,Key!$L$2:$S$247,3,FALSE),IF($G$4="Russian",VLOOKUP($G$8,Key!$L$2:$S$247,5,FALSE),IF($G$4="Arabic",VLOOKUP($G$8,Key!$L$2:$S$247,6,FALSE),IF($G$4="Other",VLOOKUP($G$8,Key!$L$2:$S$247,7,FALSE))))))) -> السودان | G7: ISO3 CODE
G8: SDN
C9: =HLOOKUP(Introduction!$G$4,Key!A:G,6,FALSE) -> تم التحديث في سبتمبر 2026
C11: =HLOOKUP(Introduction!$G$4,Key!A:G,7,FALSE) -> اتبع الروابط أدناه للعثور على المعلومات التالية:
C13: =HLOOKUP(Introduction!$G$4,Key!A:G,8,FALSE) -> تقديرات JMP:
C14: =HLOOKUP(Introduction!$G$4,Key!A:G,9,FALSE) -> سلالم المياه والصرف الصحي للمدارس
C15: =HLOOKUP(Introduction!$G$4,Key!A:G,10,FALSE) -> الاتجاهات الأساسية في مجال المياه والصرف الصحي والنظافة الصحية في المدارس
C16: =HLOOKUP(Introduction!$G$4,Key!A:G,11,FALSE) -> تقديرات (2000 - 2025) للمدارس
C18: =HLOOKUP(Introduction!$G$4,Key!A:G,12,FALSE) -> مدخلات البيانات:
C19: =HLOOKUP(Introduction!$G$4,Key!A:G,13,FALSE) -> ملخص البيانات
C20: =HLOOKUP(Introduction!$G$4,Key!A:G,14,FALSE) -> بيانات المياه
C21: =HLOOKUP(Introduction!$G$4,Key!A:G,15,FALSE) -> بيانات الصرف الصحي
C22: =HLOOKUP(Introduction!$G$4,Key!A:G,16,FALSE) -> بيانات النظافة
C23: =HLOOKUP(Introduction!$G$4,Key!A:G,17,FALSE) -> بيانات السكان
L46: =+IF(ISNUMBER(M39), "", "Insufficient data to estimate safely managed sanitation services at national level") -> Insufficient data to estimate safely managed sanitation services at national level

Sheet Regressions
A1: Ladders
A2: Drinking water | J2: Sanitation | S2: Hygiene
B3: Year | C3: National | D3: Rural | E3: Urban | F3: Pre-Primary | G3: Primary | H3: Secondary | K3: Year | L3: National | M3: Rural | N3: Urban | O3: Pre-Primary | P3: Primary | Q3: Secondary | T3: Year | U3: National | V3: Rural | W3: Urban | X3: Pre-Primary | Y3: Primary | Z3: Secondary
A4: Basic service | B4: 2024 | C4: 43.473451 | D4: 61.111111 | E4: 38.526912 | G4: 43.473451 | J4: Basic service | K4: 2022 | S4: Basic service | T4: 2024 | U4: 7.5630252 | V4: 15.425532 | W4: 5.2713178 | Y4: 7.5630252
A5: Limited service | B5: 2024 | C5: 22.345133 | D5: 21.212121 | E5: 22.66289 | G5: 22.345133 | J5: Limited service | K5: 2022 | S5: Limited service | T5: 2024 | U5: 17.572029 | V5: 22.87234 | W5: 15.968992 | Y5: 17.527011
A6: No service | B6: 2024 | C6: 34.181416 | D6: 17.676768 | E6: 38.810198 | G6: 34.181416 | J6: No service | K6: 2022 | P6: 28.1 | Q6: 10.4 | S6: No service | T6: 2024 | U6: 74.864946 | V6: 61.702128 | W6: 78.75969 | Y6: 74.909964
A7: Insufficient data | B7: 2024 | C7: 0 | D7: 0 | E7: 0 | F7: 100 | G7: 0 | H7: 100 | J7: Insufficient data | K7: 2022 | L7: 100 | M7: 100 | N7: 100 | O7: 100 | P7: 71.9 | Q7: 89.6 | S7: Insufficient data | T7: 2024 | U7: 0 | V7: 0 | W7: 0 | X7: 100 | Y7: 0 | Z7: 100
A12: Estimates (based on data summary tab)
A13: country | B13: year | C13: setting | D13: pop_ | E13: wat_fac_ | F13: wat_imp_ | G13: wat_bas_ | H13: wat_lim_ | I13: wat_none_ | J13: wat_nd_ | K13: san_fac_ | L13: san_imp_ | M13: san_bas_ | N13: san_lim_ | O13: san_none_ | P13: san_nd_ | Q13: hyg_fac_ | R13: hyg_wat_ | S13: hyg_bas_ | T13: hyg_lim_ | U13: hyg_none_ | V13: hyg_nd_
A14: Sudan | B14: 2000 | C14: National | D14: 9870372 | J14: 100 | P14: 100 | V14: 100
A15: Sudan | B15: 2001 | C15: National | D15: 10117844 | J15: 100 | P15: 100 | V15: 100
A16: Sudan | B16: 2002 | C16: National | D16: 10359229 | J16: 100 | P16: 100 | V16: 100
A17: Sudan | B17: 2003 | C17: National | D17: 10594134 | J17: 100 | P17: 100 | V17: 100
A18: Sudan | B18: 2004 | C18: National | D18: 10797028 | J18: 100 | P18: 100 | V18: 100
A19: Sudan | B19: 2005 | C19: National | D19: 11043685 | J19: 100 | P19: 100 | V19: 100
A20: Sudan | B20: 2006 | C20: National | D20: 11292990 | J20: 100 | P20: 100 | V20: 100
A21: Sudan | B21: 2007 | C21: National | D21: 11548448 | E21: 90.472901 | J21: 100 | K21: 79.383124 | P21: 100 | V21: 100
A22: Sudan | B22: 2008 | C22: National | D22: 11812880 | E22: 90.472901 | J22: 100 | K22: 79.383124 | P22: 100 | V22: 100
A23: Sudan | B23: 2009 | C23: National | D23: 12134630 | E23: 90.472901 | J23: 100 | K23: 79.383124 | P23: 100 | V23: 100
A24: Sudan | B24: 2010 | C24: National | D24: 12449852 | E24: 90.472901 | J24: 100 | K24: 79.383124 | P24: 100 | Q24: 29.93284 | R24: 24.954982 | U24: 75.045018 | V24: 24.954982
A25: Sudan | B25: 2011 | C25: National | D25: 12735206 | E25: 90.472901 | J25: 100 | K25: 79.383124 | P25: 100 | Q25: 29.93284 | R25: 24.954982 | U25: 75.045018 | V25: 24.954982
A26: Sudan | B26: 2012 | C26: National | D26: 13023070 | E26: 89.925869 | J26: 100 | K26: 79.383124 | L26: 62 | O26: 38 | P26: 62 | Q26: 29.93284 | R26: 24.954982 | U26: 75.045018 | V26: 24.954982
A27: Sudan | B27: 2013 | C27: National | D27: 13319697 | E27: 89.378837 | J27: 100 | K27: 79.383124 | L27: 62 | O27: 38 | P27: 62 | Q27: 29.93284 | R27: 24.954982 | U27: 75.045018 | V27: 24.954982
A28: Sudan | B28: 2014 | C28: National | D28: 13623685 | E28: 88.831806 | J28: 100 | K28: 79.383124 | L28: 62 | O28: 38 | P28: 62 | Q28: 29.93284 | R28: 24.954982 | U28: 75.045018 | V28: 24.954982
A29: Sudan | B29: 2015 | C29: National | D29: 13962769 | E29: 88.284774 | J29: 100 | K29: 79.383124 | L29: 62 | O29: 38 | P29: 62 | Q29: 32.387011 | R29: 24.977491 | U29: 75.022509 | V29: 24.977491
A30: Sudan | B30: 2016 | C30: National | D30: 14282196 | E30: 87.737742 | F30: 65.818584 | G30: 43.473451 | H30: 22.345133 | I30: 34.181416 | J30: 0 | K30: 79.383124 | L30: 62 | O30: 38 | P30: 62 | Q30: 34.841181 | R30: 25 | S30: 7.5630252 | T30: 17.436975 | U30: 75 | V30: 0
A31: Sudan | B31: 2017 | C31: National | D31: 14581761 | E31: 87.19071 | F31: 65.818584 | G31: 43.473451 | H31: 22.345133 | I31: 34.181416 | J31: 0 | K31: 79.383124 | L31: 62 | O31: 38 | P31: 62 | Q31: 37.295352 | R31: 25.022509 | S31: 7.5630252 | T31: 17.459484 | U31: 74.977491 | V31: 0
A32: Sudan | B32: 2018 | C32: National | D32: 14898337 | E32: 86.643678 | F32: 65.818584 | G32: 43.473451 | H32: 22.345133 | I32: 34.181416 | J32: 0 | K32: 79.383124 | L32: 62 | O32: 38 | P32: 62 | Q32: 39.749522 | R32: 25.045018 | S32: 7.5630252 | T32: 17.481993 | U32: 74.954982 | V32: 0
A33: Sudan | B33: 2019 | C33: National | D33: 15108834 | E33: 86.096647 | F33: 65.818584 | G33: 43.473451 | H33: 22.345133 | I33: 34.181416 | J33: 0 | K33: 79.383124 | L33: 62 | O33: 38 | P33: 62 | Q33: 42.203693 | R33: 25.067527 | S33: 7.5630252 | T33: 17.504502 | U33: 74.932473 | V33: 0
A34: Sudan | B34: 2020 | C34: National | D34: 16495542 | E34: 85.549615 | F34: 65.818584 | G34: 43.473451 | H34: 22.345133 | I34: 34.181416 | J34: 0 | K34: 79.383124 | L34: 62 | O34: 38 | P34: 62 | Q34: 44.657863 | R34: 25.090036 | S34: 7.5630252 | T34: 17.527011 | U34: 74.909964 | V34: 0
A35: Sudan | B35: 2021 | C35: National | D35: 16815940 | E35: 85.002583 | F35: 65.818584 | G35: 43.473451 | H35: 22.345133 | I35: 34.181416 | J35: 0 | K35: 79.383124 | P35: 100 | Q35: 47.112034 | R35: 25.112545 | S35: 7.5630252 | T35: 17.54952 | U35: 74.887455 | V35: 0
A36: Sudan | B36: 2022 | C36: National | D36: 17164960 | E36: 84.455551 | F36: 65.818584 | G36: 43.473451 | H36: 22.345133 | I36: 34.181416 | J36: 0 | K36: 79.383124 | P36: 100 | Q36: 49.566204 | R36: 25.135054 | S36: 7.5630252 | T36: 17.572029 | U36: 74.864946 | V36: 0
A37: Sudan | B37: 2023 | C37: National | D37: 17533276 | E37: 84.455551 | F37: 65.818584 | G37: 43.473451 | H37: 22.345133 | I37: 34.181416 | J37: 0 | P37: 100 | Q37: 49.566204 | R37: 25.135054 | S37: 7.5630252 | T37: 17.572029 | U37: 74.864946 | V37: 0
A38: Sudan | B38: 2024 | C38: National | D38: 17214888 | E38: 84.455551 | F38: 65.818584 | G38: 43.473451 | H38: 22.345133 | I38: 34.181416 | J38: 0 | P38: 100 | Q38: 49.566204 | R38: 25.135054 | S38: 7.5630252 | T38: 17.572029 | U38: 74.864946 | V38: 0
A39: Sudan | B39: 2025 | C39: National | D39: 17540192 | E39: 84.455551 | J39: 100 | P39: 100 | Q39: 49.566204 | R39: 25.135054 | U39: 74.864946 | V39: 25.135054
A40: Sudan | B40: 2026 | C40: National | E40: 84.455551 | J40: 100 | P40: 100 | Q40: 49.566204 | R40: 25.135054 | U40: 74.864946 | V40: 25.135054
A41: Sudan | B41: 2027 | C41: National | J41: 100 | P41: 100 | V41: 100
A42: Sudan | B42: 2028 | C42: National | J42: 100 | P42: 100 | V42: 100
A43: Sudan | B43: 2029 | C43: National | J43: 100 | P43: 100 | V43: 100
A44: Sudan | B44: 2030 | C44: National | J44: 100 | P44: 100 | V44: 100
...

Sheet Ladders
A1: =HLOOKUP(Introduction!$G$4,nametranslations,20,FALSE) -> سلالم المياه والصرف الصحي والنظافة للمدارس | B1: =HLOOKUP([1]Introduction!$G$4,nametranslations,5,FALSE) -> #N/A | C1: =HLOOKUP([1]Introduction!$G$4,nametranslations,5,FALSE) -> #N/A | D1: =HLOOKUP([1]Introduction!$G$4,nametranslations,5,FALSE) -> #N/A | E1: =HLOOKUP([1]Introduction!$G$4,nametranslations,5,FALSE) -> #N/A | F1: =HLOOKUP([1]Introduction!$G$4,nametranslations,5,FALSE) -> #N/A | G1: =HLOOKUP([1]Introduction!$G$4,nametranslations,5,FALSE) -> #N/A | H1: =HLOOKUP([1]Introduction!$G$4,nametranslations,5,FALSE) -> #N/A | I1: =HLOOKUP([1]Introduction!$G$4,nametranslations,5,FALSE) -> #N/A | ... V1: =HLOOKUP([1]Introduction!$G$4,nametranslations,5,FALSE) -> #N/A
A2: =HLOOKUP([1]Introduction!$G$4,nametranslations,5,FALSE) -> #N/A | B2: =HLOOKUP([1]Introduction!$G$4,nametranslations,5,FALSE) -> #N/A | C2: =HLOOKUP([1]Introduction!$G$4,nametranslations,5,FALSE) -> #N/A | D2: =HLOOKUP([1]Introduction!$G$4,nametranslations,5,FALSE) -> #N/A | E2: =HLOOKUP([1]Introduction!$G$4,nametranslations,5,FALSE) -> #N/A | F2: =HLOOKUP([1]Introduction!$G$4,nametranslations,5,FALSE) -> #N/A | G2: =HLOOKUP([1]Introduction!$G$4,nametranslations,5,FALSE) -> #N/A | H2: =HLOOKUP([1]Introduction!$G$4,nametranslations,5,FALSE) -> #N/A | ... V2: =HLOOKUP([1]Introduction!$G$4,nametranslations,5,FALSE) -> #N/A
B4: =HLOOKUP(Introduction!$G$4,nametranslations,85,FALSE) -> مياه الشرب (٪) | I4: =HLOOKUP(Introduction!$G$4,nametranslations,22,FALSE) -> الصرف الصحي | P4: =HLOOKUP(Introduction!$G$4,nametranslations,23,FALSE) -> صحة
C25: =+IF(OR((C28=Key!$I$26&"*"),(D28=Key!$I$28&"*"),(E28=Key!$I$27&"*"),(F28=Key!$I$29&"*"),(G28=Key!$I$30&"*"),(H28=Key!$I$31&"*"),(C28=Key!$I$26&"*^"),(D28=Key!$I$28&"*^"),(E28=Key!$I$27&"*^"),(F28="*^"),(G28=Key!$I$30&"*^"),(H28=Key!$I$31&"*^")),"*"&HLOOKUP(Introduction!$G$4,nametranslations,35,FALSE),"") -> *لا يتوفر تقدير الخدمة الأساسية | J25: =+IF(OR((J28=Key!$I$26&"*"),(K28=Key!$I$28&"*"),(L28=Key!$I$27&"*"),(M28=Key!$I$29&"*"),(N28=Key!$I$30&"*"),(O28=Key!$I$31&"*"),(J28=Key!$I$26&"*^"),(K28=Key!$I$28&"*^"),(L28=Key!$I$27&"*^"),(M28="*^"),(N28=Key!$I$30&"*^"),(O28=Key!$I$31&"*^")),"*"&HLOOKUP(Introduction!$G$4,nametranslations,35,FALSE),"") -> *لا يتوفر تقدير الخدمة الأساسية | Q25: =+IF(OR((Q28=Key!$I$26&"*"),(R28=Key!$I$28&"*"),(S28=Key!$I$27&"*"),(T28=Key!$I$29&"*"),(U28=Key!$I$30&"*"),(V28=Key!$I$31&"*"),(Q28=Key!$I$26&"*^"),(R28=Key!$I$28&"*^"),(S28=Key!$I$27&"*^"),(T28="*^"),(U28=Key!$I$30&"*^"),(V28=Key!$I$31&"*^")),"*"&HLOOKUP(Introduction!$G$4,nametranslations,35,FALSE),"") -> *لا يتوفر تقدير الخدمة الأساسية
C26: =+IF(OR((C28=Key!$I$26&"*^"),(D28=Key!$I$28&"*^"),(E28=Key!$I$27&"*^"),(F28=Key!$I$29&"*^"),(G28=Key!$I$30&"*^"),(H28=Key!$I$31&"^")),HLOOKUP(Introduction!$G$4,nametranslations,155,FALSE),"") | J26: =+IF(OR((J28=Key!$I$26&"*^"),(K28=Key!$I$28&"*^"),(L28=Key!$I$27&"*^"),(M28=Key!$I$29&"*^"),(N28=Key!$I$30&"*^"),(O28=Key!$I$31&"^")),HLOOKUP(Introduction!$G$4,nametranslations,155,FALSE),"") | Q26: =+IF(OR((Q28=Key!$I$26&"*^"),(R28=Key!$I$28&"*^"),(S28=Key!$I$27&"*^"),(T28=Key!$I$29&"*^"),(U28=Key!$I$30&"*^"),(V28=Key!$I$31&"^")),HLOOKUP(Introduction!$G$4,nametranslations,156,FALSE),"")
B27: =+Introduction!C7 -> السودان | C27: =HLOOKUP(Introduction!$G$4,nametranslations,21,FALSE) -> ماء | D27: =HLOOKUP([1]Introduction!$G$4,nametranslations,21,FALSE) -> ماء | E27: =HLOOKUP([1]Introduction!$G$4,nametranslations,21,FALSE) -> ماء | F27: =HLOOKUP([1]Introduction!$G$4,nametranslations,21,FALSE) -> ماء | G27: =HLOOKUP([1]Introduction!$G$4,nametranslations,21,FALSE) -> ماء | H27: =HLOOKUP([1]Introduction!$G$4,nametranslations,21,FALSE) -> ماء | I27: =+B27 -> السودان | J27: =HLOOKUP(Introduction!$G$4,nametranslations,22,FALSE) -> الصرف الصحي | K27: =HLOOKUP([1]Introduction!$G$4,nametranslations,21,FALSE) -> ماء | L27: =HLOOKUP([1]Introduction!$G$4,nametranslations,21,FALSE) -> ماء | M27: =HLOOKUP([1]Introduction!$G$4,nametranslations,21,FALSE) -> ماء | N27: =HLOOKUP([1]Introduction!$G$4,nametranslations,21,FALSE) -> ماء | O27: =HLOOKUP([1]Introduction!$G$4,nametranslations,21,FALSE) -> ماء | P27: =+B27 -> السودان | Q27: =HLOOKUP(Introduction!$G$4,nametranslations,23,FALSE) -> صحة | R27: =HLOOKUP([1]Introduction!$G$4,nametranslations,21,FALSE) -> ماء | S27: =HLOOKUP([1]Introduction!$G$4,nametranslations,21,FALSE) -> ماء | T27: =HLOOKUP([1]Introduction!$G$4,nametranslations,21,FALSE) -> ماء | U27: =HLOOKUP([1]Introduction!$G$4,nametranslations,21,FALSE) -> ماء | V27: =HLOOKUP([1]Introduction!$G$4,nametranslations,21,FALSE) -> ماء
C28: =IF(AND(C30=0.0000000001,C31=0.0000000001,C32=0.0000000001), Key!$I$26&"*",IF(AND(C30=0.0000000001,ISNUMBER(C32)),Key!I26&"*", Key!$I$26)) -> Total | D28: =IF(AND(D30=0.0000000001,D31=0.0000000001,D32=0.0000000001), Key!$I$28&"*",IF(AND(D30=0.0000000001,ISNUMBER(D32)),Key!$I$28&"*", Key!$I$28)) -> الحضاري | E28: =IF(AND(E30=0.0000000001,E31=0.0000000001,E32=0.0000000001), Key!$I$27&"*",IF(AND(E30=0.0000000001,ISNUMBER(E32)),Key!$I$27&"*", Key!$I$27)) -> ريفي | F28: =IF(AND(F30=0.0000000001,F31=0.0000000001,F32=0.0000000001), Key!$I$29&"*",IF(AND(F30=0.0000000001,ISNUMBER(F32)),Key!$I$29&"*", Key!$I$29)) -> المرحلة الابتدائية* | G28: =IF(AND(G30=0.0000000001,G31=0.0000000001,G32=0.0000000001), Key!$I$30&"*",IF(AND(G30=0.0000000001,ISNUMBER(G32)),Key!$I$30&"*", Key!$I$30)) -> خبرات | H28: =IF(AND(H30=0.0000000001,H31=0.0000000001,H32=0.0000000001), Key!$I$31&"*",IF(AND(H30=0.0000000001,ISNUMBER(H32)),Key!$I$31&"*", Key!$I$31)) -> ثانوي* | J28: =IF(AND(J30=0.0000000001,J31=0.0000000001,J32=0.0000000001), Key!$I$26&"*",IF(AND(J30=0.0000000001,ISNUMBER(J32)),Key!I26&"*", Key!$I$26)) -> Total* | K28: =IF(AND(K30=0.0000000001,K31=0.0000000001,K32=0.0000000001), Key!$I$28&"*",IF(AND(K30=0.0000000001,ISNUMBER(K32)),Key!$I$28&"*", Key!$I$28)) -> الحضاري* | L28: =IF(AND(L30=0.0000000001,L31=0.0000000001,L32=0.0000000001), Key!$I$27&"*",IF(AND(L30=0.0000000001,ISNUMBER(L32)),Key!$I$27&"*", Key!$I$27)) -> ريفي* | M28: =IF(AND(M30=0.0000000001,M31=0.0000000001,M32=0.0000000001), Key!$I$29&"*",IF(AND(M30=0.0000000001,ISNUMBER(M32)),Key!$I$29&"*", Key!$I$29)) -> المرحلة الابتدائية* | N28: =IF(AND(N30=0.0000000001,N31=0.0000000001,N32=0.0000000001), Key!$I$30&"*",IF(AND(N30=0.0000000001,ISNUMBER(N32)),Key!$I$30&"*", Key!$I$30)) -> خبرات* | O28: =IF(AND(O30=0.0000000001,O31=0.0000000001,O32=0.0000000001), Key!$I$31&"*",IF(AND(O30=0.0000000001,ISNUMBER(O32)),Key!$I$31&"*", Key!$I$31)) -> ثانوي* | Q28: =IF(AND(Q30=0.0000000001,Q31=0.0000000001,Q32=0.0000000001), Key!$I$26&"*",IF(AND(Q30=0.0000000001,ISNUMBER(Q32)),Key!I26&"*", Key!$I$26)) -> Total | R28: =IF(AND(R30=0.0000000001,R31=0.0000000001,R32=0.0000000001), Key!$I$28&"*",IF(AND(R30=0.0000000001,ISNUMBER(R32)),Key!$I$28&"*", Key!$I$28)) -> الحضاري | S28: =IF(AND(S30=0.0000000001,S31=0.0000000001,S32=0.0000000001), Key!$I$27&"*",IF(AND(S30=0.0000000001,ISNUMBER(S32)),Key!$I$27&"*", Key!$I$27)) -> ريفي | T28: =IF(AND(T30=0.0000000001,T31=0.0000000001,T32=0.0000000001), Key!$I$29&"*",IF(AND(T30=0.0000000001,ISNUMBER(T32)),Key!$I$29&"*", Key!$I$29)) -> المرحلة الابتدائية* | U28: =IF(AND(U30=0.0000000001,U31=0.0000000001,U32=0.0000000001), Key!$I$30&"*",IF(AND(U30=0.0000000001,ISNUMBER(U32)),Key!$I$30&"*", Key!$I$30)) -> خبرات | V28: =IF(AND(V30=0.0000000001,V31=0.0000000001,V32=0.0000000001), Key!$I$31&"*",IF(AND(V30=0.0000000001,ISNUMBER(V32)),Key!$I$31&"*", Key!$I$31)) -> ثانوي*
C29: =IF(ISNUMBER(Regressions!B4), Regressions!B4, "-") -> 2024 | D29: =C29 -> 2024 | E29: =D29 -> 2024 | F29: =E29 -> 2024 | G29: =F29 -> 2024 | H29: =F29 -> 2024 | J29: =IF(ISNUMBER(Regressions!K4), Regressions!K4, "-") -> 2022 | K29: =J29 -> 2022 | L29: =K29 -> 2022 | M29: =L29 -> 2022 | N29: =M29 -> 2022 | O29: =M29 -> 2022 | Q29: =IF(ISNUMBER(Regressions!T4), Regressions!T4, "-") -> 2024 | R29: =Q29 -> 2024 | S29: =R29 -> 2024 | T29: =S29 -> 2024 | U29: =T29 -> 2024 | V29: =T29 -> 2024
A30: =+Key!I46 -> الخدمة الأساسية | B30: Basic Service | C30: =IF(ISNUMBER(Regressions!C4), Regressions!C4, 0.0000000001) -> 43.473451 | D30: =IF(ISNUMBER(Regressions!D4), Regressions!D4, 0.0000000001) -> 61.111111 | E30: =IF(ISNUMBER(Regressions!E4), Regressions!E4, 0.0000000001) -> 38.526912 | F30: =IF(ISNUMBER(Regressions!F4), Regressions!F4, 0.0000000001) -> 1e-10 | G30: =IF(ISNUMBER(Regressions!G4), Regressions!G4, 0.0000000001) -> 43.473451 | H30: =IF(ISNUMBER(Regressions!H4), Regressions!H4, 0.0000000001) -> 1e-10 | I30: Basic Service | J30: =IF(ISNUMBER(Regressions!L4), Regressions!L4,0.0000000001) -> 1e-10 | K30: =IF(ISNUMBER(Regressions!M4), Regressions!M4,0.0000000001) -> 1e-10 | L30: =IF(ISNUMBER(Regressions!N4), Regressions!N4,0.0000000001) -> 1e-10 | M30: =IF(ISNUMBER(Regressions!O4), Regressions!O4,0.0000000001) -> 1e-10 | N30: =IF(ISNUMBER(Regressions!P4), Regressions!P4,0.0000000001) -> 1e-10 | O30: =IF(ISNUMBER(Regressions!Q4), Regressions!Q4,0.0000000001) -> 1e-10 | P30: Basic Service | Q30: =IF(ISNUMBER(Regressions!U4), Regressions!U4,0.0000000001) -> 7.5630252 | R30: =IF(ISNUMBER(Regressions!V4), Regressions!V4,0.0000000001) -> 15.425532 | S30: =IF(ISNUMBER(Regressions!W4), Regressions!W4,0.0000000001) -> 5.2713178 | T30: =IF(ISNUMBER(Regressions!X4), Regressions!X4,0.0000000001) -> 1e-10 | U30: =IF(ISNUMBER(Regressions!Y4), Regressions!Y4,0.0000000001) -> 7.5630252 | V30: =IF(ISNUMBER(Regressions!Z4), Regressions!Z4,0.0000000001) -> 1e-10
A31: =+Key!I47 -> خدمة محدودة | B31: Limited Service | C31: =IF(ISNUMBER(Regressions!C5), Regressions!C5, 0.0000000001) -> 22.345133 | D31: =IF(ISNUMBER(Regressions!D5), Regressions!D5, 0.0000000001) -> 21.212121 | E31: =IF(ISNUMBER(Regressions!E5), Regressions!E5, 0.0000000001) -> 22.66289 | F31: =IF(ISNUMBER(Regressions!F5), Regressions!F5, 0.0000000001) -> 1e-10 | G31: =IF(ISNUMBER(Regressions!G5), Regressions!G5, 0.0000000001) -> 22.345133 | H31: =IF(ISNUMBER(Regressions!H5), Regressions!H5, 0.0000000001) -> 1e-10 | I31: Limited Service | J31: =IF(ISNUMBER(Regressions!L5), Regressions!L5,0.0000000001) -> 1e-10 | K31: =IF(ISNUMBER(Regressions!M5), Regressions!M5,0.0000000001) -> 1e-10 | L31: =IF(ISNUMBER(Regressions!N5), Regressions!N5,0.0000000001) -> 1e-10 | M31: =IF(ISNUMBER(Regressions!O5), Regressions!O5,0.0000000001) -> 1e-10 | N31: =IF(ISNUMBER(Regressions!P5), Regressions!P5,0.0000000001) -> 1e-10 | O31: =IF(ISNUMBER(Regressions!Q5), Regressions!Q5,0.0000000001) -> 1e-10 | P31: Limited Service | Q31: =IF(ISNUMBER(Regressions!U5), Regressions!U5,0.0000000001) -> 17.572029 | R31: =IF(ISNUMBER(Regressions!V5), Regressions!V5,0.0000000001) -> 22.87234 | S31: =IF(ISNUMBER(Regressions!W5), Regressions!W5,0.0000000001) -> 15.968992 | T31: =IF(ISNUMBER(Regressions!X5), Regressions!X5,0.0000000001) -> 1e-10 | U31: =IF(ISNUMBER(Regressions!Y5), Regressions!Y5,0.0000000001) -> 17.527011 | V31: =IF(ISNUMBER(Regressions!Z5), Regressions!Z5,0.0000000001) -> 1e-10
A32: =+Key!I48 -> لاتوجد خدمة | B32: No Service | C32: =IF(ISNUMBER(Regressions!C6), Regressions!C6, 0.0000000001) -> 34.181416 | D32: =IF(ISNUMBER(Regressions!D6), Regressions!D6, 0.0000000001) -> 17.676768 | E32: =IF(ISNUMBER(Regressions!E6), Regressions!E6, 0.0000000001) -> 38.810198 | F32: =IF(ISNUMBER(Regressions!F6), Regressions!F6, 0.0000000001) -> 1e-10 | G32: =IF(ISNUMBER(Regressions!G6), Regressions!G6, 0.0000000001) -> 34.181416 | H32: =IF(ISNUMBER(Regressions!H6), Regressions!H6, 0.0000000001) -> 1e-10 | I32: No Service | J32: =IF(ISNUMBER(Regressions!L6), Regressions!L6,0.0000000001) -> 1e-10 | K32: =IF(ISNUMBER(Regressions!M6), Regressions!M6,0.0000000001) -> 1e-10 | L32: =IF(ISNUMBER(Regressions!N6), Regressions!N6,0.0000000001) -> 1e-10 | M32: =IF(ISNUMBER(Regressions!O6), Regressions!O6,0.0000000001) -> 1e-10 | N32: =IF(ISNUMBER(Regressions!P6), Regressions!P6,0.0000000001) -> 28.1 | O32: =IF(ISNUMBER(Regressions!Q6), Regressions!Q6,0.0000000001) -> 10.4 | P32: No Service | Q32: =IF(ISNUMBER(Regressions!U6), Regressions!U6,0.0000000001) -> 74.864946 | R32: =IF(ISNUMBER(Regressions!V6), Regressions!V6,0.0000000001) -> 61.702128 | S32: =IF(ISNUMBER(Regressions!W6), Regressions!W6,0.0000000001) -> 78.75969 | T32: =IF(ISNUMBER(Regressions!X6), Regressions!X6,0.0000000001) -> 1e-10 | U32: =IF(ISNUMBER(Regressions!Y6), Regressions!Y6,0.0000000001) -> 74.909964 | V32: =IF(ISNUMBER(Regressions!Z6), Regressions!Z6,0.0000000001) -> 1e-10
A33: =+Key!I49 -> البيانات غير كافية | B33: Insufficient Data | C33: =IF(ISNUMBER(Regressions!C7), Regressions!C7, 0.0000000001) -> 0 | D33: =IF(ISNUMBER(Regressions!D7), Regressions!D7, 0.0000000001) -> 0 | E33: =IF(ISNUMBER(Regressions!E7), Regressions!E7, 0.0000000001) -> 0 | F33: =IF(ISNUMBER(Regressions!F7), Regressions!F7, 0.0000000001) -> 100 | G33: =IF(ISNUMBER(Regressions!G7), Regressions!G7, 0.0000000001) -> 0 | H33: =IF(ISNUMBER(Regressions!H7), Regressions!H7, 0.0000000001) -> 100 | I33: Insufficient Data | J33: =IF(ISNUMBER(Regressions!L7), Regressions!L7,0.0000000001) -> 100 | K33: =IF(ISNUMBER(Regressions!M7), Regressions!M7,0.0000000001) -> 100 | L33: =IF(ISNUMBER(Regressions!N7), Regressions!N7,0.0000000001) -> 100 | M33: =IF(ISNUMBER(Regressions!O7), Regressions!O7,0.0000000001) -> 100 | N33: =IF(ISNUMBER(Regressions!P7), Regressions!P7,0.0000000001) -> 71.9 | O33: =IF(ISNUMBER(Regressions!Q7), Regressions!Q7,0.0000000001) -> 89.6 | P33: Insufficient Data | Q33: =IF(ISNUMBER(Regressions!U7), Regressions!U7,0.0000000001) -> 0 | R33: =IF(ISNUMBER(Regressions!V7), Regressions!V7,0.0000000001) -> 0 | S33: =IF(ISNUMBER(Regressions!W7), Regressions!W7,0.0000000001) -> 0 | T33: =IF(ISNUMBER(Regressions!X7), Regressions!X7,0.0000000001) -> 100 | U33: =IF(ISNUMBER(Regressions!Y7), Regressions!Y7,0.0000000001) -> 0 | V33: =IF(ISNUMBER(Regressions!Z7), Regressions!Z7,0.0000000001) -> 100
B34: =HLOOKUP(Introduction!$G$4,nametranslations,34,FALSE) -> المصدر: WHO/UNICEF JMP (2024)
B36: =+Key!I46 -> الخدمة الأساسية | C36: =+HLOOKUP(Introduction!$G$4,Key!A:G,158,FALSE) -> مياه الشرب من مصدر محسّن والمياه متوفرة في المدرسة وقت إجراء المسح | I36: =+Key!I46 -> الخدمة الأساسية | J36: =+HLOOKUP(Introduction!$G$4,Key!A:G,162,FALSE) -> مرافق الصرف الصحي المحسنة في المدرسة والتي تكون أحادية الجنس وقابلة للاستخدام (متاحة وعملية وخاصة) في وقت المسح | P36: =+Key!I46 -> الخدمة الأساسية | Q36: =+HLOOKUP(Introduction!$G$4,Key!A:G,165,FALSE) -> تتوفر مرافق غسل اليدين بالماء والصابون في المدرسة وقت إجراء المسح
B37: =+Key!I47 -> خدمة محدودة | C37: =+HLOOKUP(Introduction!$G$4,Key!A:G,159,FALSE) -> مياه الشرب من مصدر محسّن لكن المياه غير متوفرة في المدرسة وقت إجراء المسح | I37: =+Key!I47 -> خدمة محدودة | J37: =+HLOOKUP(Introduction!$G$4,Key!A:G,163,FALSE) -> تحسين مرافق الصرف الصحي في المدرسة والتي تكون إما غير مخصصة للجنسين أو غير قابلة للاستخدام في وقت المسح | P37: =+Key!I47 -> خدمة محدودة | Q37: =+HLOOKUP(Introduction!$G$4,Key!A:G,166,FALSE) -> تتوفر مرافق لغسل اليدين بالماء ولكن لا يتوفر الصابون في المدرسة وقت إجراء المسح
B38: =+Key!I48 -> لاتوجد خدمة | C38: =+HLOOKUP(Introduction!$G$4,Key!A:G,160,FALSE) -> شرب المياه من مصدر غير محسن أو عدم وجود مصدر مياه في المدرسة | I38: =+Key!I48 -> لاتوجد خدمة | J38: =+HLOOKUP(Introduction!$G$4,Key!A:G,164,FALSE) -> مرافق الصرف الصحي غير المحسنة أو عدم وجود مرافق الصرف الصحي في المدرسة | P38: =+Key!I48 -> لاتوجد خدمة | Q38: =+HLOOKUP(Introduction!$G$4,Key!A:G,167,FALSE) -> لا توجد مرافق لغسل اليدين أو لا تتوفر المياه في المدرسة
B39: =+Key!I49 -> البيانات غير كافية | C39: =+HLOOKUP(Introduction!$G$4,Key!A:G,161,FALSE) -> البيانات المتاحة غير كافية لإنشاء تقديرات لسنة مرجعية معينة | I39: =+Key!I49 -> البيانات غير كافية | J39: =+HLOOKUP(Introduction!$G$4,Key!A:G,161,FALSE) -> البيانات المتاحة غير كافية لإنشاء تقديرات لسنة مرجعية معينة | P39: =+Key!I49 -> البيانات غير كافية | Q39: =+HLOOKUP(Introduction!$G$4,Key!A:G,161,FALSE) -> البيانات المتاحة غير كافية لإنشاء تقديرات لسنة مرجعية معينة

Sheet Charts
A2: =HLOOKUP(Introduction!$G$4,nametranslations,38,FALSE) -> خدمات المياه والصرف الصحي والنظافة في المدارس
A23: =+HLOOKUP(Introduction!$G$4,nametranslations,34,FALSE) -> المصدر: WHO/UNICEF JMP (2024)
A44: =+HLOOKUP(Introduction!$G$4,nametranslations,34,FALSE) -> المصدر: WHO/UNICEF JMP (2024)
A65: =+HLOOKUP(Introduction!$G$4,nametranslations,34,FALSE) -> المصدر: WHO/UNICEF JMP (2024)

Sheet Chart Data
A1: =HLOOKUP(Introduction!$G$4,nametranslations,83,FALSE) -> ملخص البيانات من المسوحات والتعدادات الوطنية
D2: =HLOOKUP(Introduction!$G$4,nametranslations,85,FALSE) -> مياه الشرب (٪) | V2: =HLOOKUP(Introduction!$G$4,nametranslations,86,FALSE) -> الصرف الصحي | AZ2: =HLOOKUP(Introduction!$G$4,nametranslations,87,FALSE) -> صحة
D3: =+Key!$A$24 -> Total | G3: =+Key!$A$26 -> Urban | J3: =+Key!$A$25 -> Rural | M3: =+Key!$A$27 -> Pre-primary | P3: =+Key!$A$28 -> Primary | S3: =+Key!$A$29 -> Secondary | V3: =+Key!$A$24 -> Total | Y3: =+Key!$A$26 -> Urban | AB3: =+Key!$A$25 -> Rural | AE3: =+Key!$A$27 -> Pre-primary | AH3: =+Key!$A$28 -> Primary | AK3: =+Key!$A$29 -> Secondary | AP3: Primary | AU3: Secondary | AZ3: =+Key!$A$24 -> Total | BC3: =+Key!$A$26 -> Urban | BF3: =+Key!$A$25 -> Rural | BI3: =+Key!$A$27 -> Pre-primary | BL3: =+Key!$A$28 -> Primary | BO3: =+Key!$A$29 -> Secondary
A4: Source | B4: =HLOOKUP(Introduction!$G$4,nametranslations,88,FALSE) -> نوع | C4: Year | D4: Facility | E4: Improved | F4: Basic (Improved & available) | G4: Facility | H4: Improved | I4: Basic (Improved & available) | J4: Facility | K4: Improved | L4: Basic (Improved & available) | M4: Facility | N4: Improved | O4: Basic (Improved & available) | P4: Facility | Q4: Improved | R4: Basic (Improved & available) | S4: Facility | T4: Improved | U4: Basic (Improved & available) | V4: Facility | W4: Improved | X4: Improved & usable | Y4: Improved & single-sex | Z4: Basic (Improved, usable & single-sex) | AA4: Facility | AB4: Improved | AC4: Improved & usable | AD4: Improved & single-sex | AE4: Basic (Improved, usable & single-sex) | AF4: Facility | AG4: Improved | AH4: Improved & usable | AI4: Improved & single-sex | AJ4: Basic (Improved, usable & single-sex) | AK4: Facility | AL4: Improved | AM4: Improved & usable | AN4: Improved & single-sex | AO4: Basic (Improved, usable & single-sex) | AP4: Facility | AQ4: Improved | AR4: Improved & usable | AS4: Improved & single-sex | AT4: Basic (Improved, usable & single-sex) | AU4: Facility | AV4: Improved | AW4: Improved & usable | AX4: Improved & single-sex | AY4: Basic (Improved, usable & single-sex) | AZ4: Facility | BA4: Facility with water | BB4: Facility with water & soap | BC4: Facility | BD4: Facility with water | BE4: Facility with water & soap | BF4: Facility | BG4: Facility with water | BH4: Facility with water & soap | BI4: Facility | BJ4: Facility with water | BK4: Facility with water & soap | BL4: Facility | BM4: Facility with water | BN4: Facility with water & soap | BO4: Facility | BP4: Facility with water | BQ4: Facility with water & soap
A5: source | B5: type | C5: year | D5: w_fac_n | E5: w_imp_n | F5: w_bas_n | G5: w_fac_u | H5: w_imp_u | I5: w_bas_u | J5: w_fac_r | K5: w_imp_r | L5: w_bas_r | M5: w_fac_pp | N5: w_imp_pp | O5: w_bas_pp | P5: w_fac_p | Q5: w_imp_p | R5: w_bas_p | S5: w_fac_s | T5: w_imp_s | U5: w_bas_s | V5: s_fac_n | W5: s_imp_n | X5: s_ss_n | Y5: s_us_n | Z5: s_bas_n | AA5: s_fac_u | AB5: s_imp_u | AC5: s_ss_u | AD5: s_us_u | AE5: s_bas_u | AF5: s_fac_r | AG5: s_imp_r | AH5: s_ss_r | AI5: s_us_r | AJ5: s_bas_r | AK5: s_fac_pp | AL5: s_imp_pp | AM5: s_ss_pp | AN5: s_us_pp | AO5: s_bas_pp | AP5: s_fac_p | AQ5: s_imp_p | AR5: s_ss_p | AS5: s_us_p | AT5: s_bas_p | AU5: s_fac_s | AV5: s_imp_s | AW5: s_ss_s | AX5: s_us_s | AY5: s_bas_s | AZ5: h_fac_n | BA5: h_wat_n | BB5: h_bas_n | BC5: h_fac_u | BD5: h_wat_u | BE5: h_bas_u | BF5: h_fac_r | BG5: h_wat_r | BH5: h_bas_r | BI5: h_fac_pp | BJ5: h_wat_pp | BK5: h_bas_pp | BL5: h_fac_p | BM5: h_wat_p | BN5: h_bas_p | BO5: h_fac_s | BP5: h_wat_s | BQ5: h_bas_s
A6: =+RIGHT('Data Summary'!A6,LEN('Data Summary'!A6)-9) -> UIS | B6: =+IF(ISTEXT('Data Summary'!B6),'Data Summary'!B6,"") -> آخر | C6: =+VALUE('Data Summary'!C6) -> 2012 | D6: =+IF(AND(ISNUMBER('Water Data'!D4),'Data Summary'!BS6="Yes"),100-'Water Data'!D4,NA()) -> #N/A | E6: =+IF(AND(ISNUMBER('Water Data'!D6),'Data Summary'!BT6="Yes"),'Water Data'!D6,NA()) -> #N/A | F6: =+IF(AND(ISNUMBER('Water Data'!D9),'Data Summary'!BU6="Yes"),'Water Data'!D9,NA()) -> #N/A | G6: =+IF(AND(ISNUMBER('Water Data'!E4),'Data Summary'!BV6="Yes"),100-'Water Data'!E4,NA()) -> #N/A | H6: =+IF(AND(ISNUMBER('Water Data'!E6),'Data Summary'!BW6="Yes"),'Water Data'!E6,NA()) -> #N/A | I6: =+IF(AND(ISNUMBER('Water Data'!E9),'Data Summary'!BX6="Yes"),'Water Data'!E9,NA()) -> #N/A | J6: =+IF(AND(ISNUMBER('Water Data'!F4),'Data Summary'!BY6="Yes"),100-'Water Data'!F4,NA()) -> #N/A | K6: =+IF(AND(ISNUMBER('Water Data'!F6),'Data Summary'!BZ6="Yes"),'Water Data'!F6,NA()) -> #N/A | L6: =+IF(AND(ISNUMBER('Water Data'!F9),'Data Summary'!CA6="Yes"),'Water Data'!F9,NA()) -> #N/A | M6: =+IF(AND(ISNUMBER('Water Data'!G4),'Data Summary'!CB6="Yes"),100-'Water Data'!G4,NA()) -> #N/A | N6: =+IF(AND(ISNUMBER('Water Data'!G6),'Data Summary'!CC6="Yes"),'Water Data'!G6,NA()) -> #N/A | O6: =+IF(AND(ISNUMBER('Water Data'!G9),'Data Summary'!CD6="Yes"),'Water Data'!G9,NA()) -> #N/A | P6: =+IF(AND(ISNUMBER('Water Data'!H4),'Data Summary'!CE6="Yes"),100-'Water Data'!H4,NA()) -> #N/A | Q6: =+IF(AND(ISNUMBER('Water Data'!H6),'Data Summary'!CF6="Yes"),'Water Data'!H6,NA()) -> #N/A | R6: =+IF(AND(ISNUMBER('Water Data'!H9),'Data Summary'!CG6="Yes"),'Water Data'!H9,NA()) -> #N/A | S6: =+IF(AND(ISNUMBER('Water Data'!I4),'Data Summary'!CH6="Yes"),100-'Water Data'!I4,NA()) -> #N/A | T6: =+IF(AND(ISNUMBER('Water Data'!I6),'Data Summary'!CI6="Yes"),'Water Data'!I6,NA()) -> #N/A | U6: =+IF(AND(ISNUMBER('Water Data'!I9),'Data Summary'!CJ6="Yes"),'Water Data'!I9,NA()) -> #N/A | V6: =+IF(AND(ISNUMBER('Sanitation Data'!D4),'Data Summary'!CK6="Yes"),100-'Sanitation Data'!D4,NA()) -> #N/A | W6: =+IF(AND(ISNUMBER('Sanitation Data'!D6),'Data Summary'!CL6="Yes"),'Sanitation Data'!D6,NA()) -> #N/A | X6: =+IF(AND(ISNUMBER('Sanitation Data'!D10),'Data Summary'!CM6="Yes"),'Sanitation Data'!D10,NA()) -> #N/A | Y6: =+IF(AND(ISNUMBER('Sanitation Data'!D11),'Data Summary'!CN6="Yes"),'Sanitation Data'!D11,NA()) -> #N/A | Z6: =+IF(AND(ISNUMBER('Sanitation Data'!D12),'Data Summary'!CO6="Yes"),'Sanitation Data'!D12,NA()) -> #N/A | AA6: =+IF(AND(ISNUMBER('Sanitation Data'!E4),'Data Summary'!CP6="Yes"),100-'Sanitation Data'!E4,NA()) -> #N/A | AB6: =+IF(AND(ISNUMBER('Sanitation Data'!E6),'Data Summary'!CQ6="Yes"),'Sanitation Data'!E6,NA()) -> #N/A | AC6: =+IF(AND(ISNUMBER('Sanitation Data'!E10),'Data Summary'!CR6="Yes"),'Sanitation Data'!E10,NA()) -> #N/A | AD6: =+IF(AND(ISNUMBER('Sanitation Data'!E11),'Data Summary'!CS6="Yes"),'Sanitation Data'!E11,NA()) -> #N/A | AE6: =+IF(AND(ISNUMBER('Sanitation Data'!E12),'Data Summary'!CT6="Yes"),'Sanitation Data'!E12,NA()) -> #N/A | AF6: =+IF(AND(ISNUMBER('Sanitation Data'!F4),'Data Summary'!CU6="Yes"),100-'Sanitation Data'!F4,NA()) -> #N/A | AG6: =+IF(AND(ISNUMBER('Sanitation Data'!F6),'Data Summary'!CV6="Yes"),'Sanitation Data'!F6,NA()) -> #N/A | AH6: =+IF(AND(ISNUMBER('Sanitation Data'!F10),'Data Summary'!CW6="Yes"),'Sanitation Data'!F10,NA()) -> #N/A | AI6: =+IF(AND(ISNUMBER('Sanitation Data'!F11),'Data Summary'!CX6="Yes"),'Sanitation Data'!F11,NA()) -> #N/A | AJ6: =+IF(AND(ISNUMBER('Sanitation Data'!F12),'Data Summary'!CY6="Yes"),'Sanitation Data'!F12,NA()) -> #N/A | AK6: =+IF(AND(ISNUMBER('Sanitation Data'!G4),'Data Summary'!CZ6="Yes"),100-'Sanitation Data'!G4,NA()) -> #N/A | AL6: =+IF(AND(ISNUMBER('Sanitation Data'!G6),'Data Summary'!DA6="Yes"),'Sanitation Data'!G6,NA()) -> #N/A | AM6: =+IF(AND(ISNUMBER('Sanitation Data'!G10),'Data Summary'!DB6="Yes"),'Sanitation Data'!G10,NA()) -> #N/A | AN6: =+IF(AND(ISNUMBER('Sanitation Data'!G11),'Data Summary'!DC6="Yes"),'Sanitation Data'!G11,NA()) -> #N/A | AO6: =+IF(AND(ISNUMBER('Sanitation Data'!G12),'Data Summary'!DD6="Yes"),'Sanitation Data'!G12,NA()) -> #N/A | AP6: =+IF(AND(ISNUMBER('Sanitation Data'!H4),'Data Summary'!DE6="Yes"),100-'Sanitation Data'!H4,NA()) -> #N/A | AQ6: =+IF(AND(ISNUMBER('Sanitation Data'!H6),'Data Summary'!DF6="Yes"),'Sanitation Data'!H6,NA()) -> #N/A | AR6: =+IF(AND(ISNUMBER('Sanitation Data'!H10),'Data Summary'!DG6="Yes"),'Sanitation Data'!H10,NA()) -> #N/A | AS6: =+IF(AND(ISNUMBER('Sanitation Data'!H11),'Data Summary'!DH6="Yes"),'Sanitation Data'!H11,NA()) -> #N/A | AT6: =+IF(AND(ISNUMBER('Sanitation Data'!H12),'Data Summary'!DI6="Yes"),'Sanitation Data'!H12,NA()) -> #N/A | AU6: =+IF(AND(ISNUMBER('Sanitation Data'!I4),'Data Summary'!DJ6="Yes"),100-'Sanitation Data'!I4,NA()) -> #N/A | AV6: =+IF(AND(ISNUMBER('Sanitation Data'!I6),'Data Summary'!DK6="Yes"),'Sanitation Data'!I6,NA()) -> #N/A | AW6: =+IF(AND(ISNUMBER('Sanitation Data'!I10),'Data Summary'!DL6="Yes"),'Sanitation Data'!I10,NA()) -> #N/A | AX6: =+IF(AND(ISNUMBER('Sanitation Data'!I11),'Data Summary'!DM6="Yes"),'Sanitation Data'!I11,NA()) -> #N/A | AY6: =+IF(AND(ISNUMBER('Sanitation Data'!I12),'Data Summary'!DN6="Yes"),'Sanitation Data'!I12,NA()) -> #N/A | AZ6: =+IF(AND(ISNUMBER('Hygiene Data'!D5),'Data Summary'!DO6="Yes"),'Hygiene Data'!D5,NA()) -> #N/A | BA6: =+IF(AND(ISNUMBER('Hygiene Data'!D7),'Data Summary'!DP6="Yes"),'Hygiene Data'!D7,NA()) -> #N/A | BB6: =+IF(AND(ISNUMBER('Hygiene Data'!D9),'Data Summary'!DQ6="Yes"),'Hygiene Data'!D9,NA()) -> #N/A | BC6: =+IF(AND(ISNUMBER('Hygiene Data'!E5),'Data Summary'!DR6="Yes"),'Hygiene Data'!E5,NA()) -> #N/A | BD6: =+IF(AND(ISNUMBER('Hygiene Data'!E7),'Data Summary'!DS6="Yes"),'Hygiene Data'!E7,NA()) -> #N/A | BE6: =+IF(AND(ISNUMBER('Hygiene Data'!E9),'Data Summary'!DT6="Yes"),'Hygiene Data'!E9,NA()) -> #N/A | BF6: =+IF(AND(ISNUMBER('Hygiene Data'!F5),'Data Summary'!DU6="Yes"),'Hygiene Data'!F5,NA()) -> #N/A | BG6: =+IF(AND(ISNUMBER('Hygiene Data'!F7),'Data Summary'!DV6="Yes"),'Hygiene Data'!F7,NA()) -> #N/A | BH6: =+IF(AND(ISNUMBER('Hygiene Data'!F9),'Data Summary'!DW6="Yes"),'Hygiene Data'!F9,NA()) -> #N/A | BI6: =+IF(AND(ISNUMBER('Hygiene Data'!G5),'Data Summary'!DX6="Yes"),'Hygiene Data'!G5,NA()) -> #N/A | BJ6: =+IF(AND(ISNUMBER('Hygiene Data'!G7),'Data Summary'!DY6="Yes"),'Hygiene Data'!G7,NA()) -> #N/A | BK6: =+IF(AND(ISNUMBER('Hygiene Data'!G9),'Data Summary'!DZ6="Yes"),'Hygiene Data'!G9,NA()) -> #N/A | BL6: =+IF(AND(ISNUMBER('Hygiene Data'!H5),'Data Summary'!EA6="Yes"),'Hygiene Data'!H5,NA()) -> #N/A | BM6: =+IF(AND(ISNUMBER('Hygiene Data'!H7),'Data Summary'!EB6="Yes"),'Hygiene Data'!H7,NA()) -> #N/A | BN6: =+IF(AND(ISNUMBER('Hygiene Data'!H9),'Data Summary'!EC6="Yes"),'Hygiene Data'!H9,NA()) -> #N/A | BO6: =+IF(AND(ISNUMBER('Hygiene Data'!I5),'Data Summary'!ED6="Yes"),'Hygiene Data'!I5,NA()) -> #N/A | BP6: =+IF(AND(ISNUMBER('Hygiene Data'!I7),'Data Summary'!EE6="Yes"),'Hygiene Data'!I7,NA()) -> #N/A | BQ6: =+IF(AND(ISNUMBER('Hygiene Data'!I9),'Data Summary'!EF6="Yes"),'Hygiene Data'!I9,NA()) -> #N/A
