Workbook
Name ISO3language: [1]Key!$T:$U
Name ISO3language: [1]Key!$T:$U
Name ISO3language: Key!$T:$U
Name myrangeH0: 'Hygiene Data'!$B$1:$K$2
Name myrangeH1: 'Hygiene Data'!$L$1:$U$2
Name myrangeH10: 'Hygiene Data'!$CX$1:$DG$2
Name myrangeH11: 'Hygiene Data'!$DH$1:$DQ$2
Name myrangeH12: 'Hygiene Data'!$DR$1:$EA$2
Name myrangeH2: 'Hygiene Data'!$V$1:$AE$2
Name myrangeH3: 'Hygiene Data'!$AF$1:$AO$2
Name myrangeH4: 'Hygiene Data'!$AP$1:$AY$2
Name myrangeH5: 'Hygiene Data'!$AZ$1:$BI$2
Name myrangeH6: 'Hygiene Data'!$BJ$1:$BS$2
Name myrangeH7: 'Hygiene Data'!$BT$1:$CC$2
Name myrangeH8: 'Hygiene Data'!$CD$1:$CM$2
Name myrangeH9: 'Hygiene Data'!$CN$1:$CW$2
Name myrangeS0: 'Sanitation Data'!$B$1:$K$2
Name myrangeS1: 'Sanitation Data'!$L$1:$U$2
Name myrangeS10: 'Sanitation Data'!$CX$1:$DG$2
Name myrangeS11: 'Sanitation Data'!$DH$1:$DQ$2
Name myrangeS12: 'Sanitation Data'!$DR$1:$EA$2
Name myrangeS2: 'Sanitation Data'!$V$1:$AE$2
Name myrangeS3: 'Sanitation Data'!$AF$1:$AO$2
Name myrangeS4: 'Sanitation Data'!$AP$1:$AY$2
Name myrangeS5: 'Sanitation Data'!$AZ$1:$BI$2
Name myrangeS6: 'Sanitation Data'!$BJ$1:$BS$2
Name myrangeS7: 'Sanitation Data'!$BT$1:$CC$2
Name myrangeS8: 'Sanitation Data'!$CD$1:$CM$2
Name myrangeS9: 'Sanitation Data'!$CN$1:$CW$2
Name myrangeW0: 'Water Data'!$B$1:$K$2
Name myrangeW1: 'Water Data'!$L$1:$U$2
Name myrangeW10: 'Water Data'!$CX$1:$DG$2
Name myrangeW11: 'Water Data'!$DH$1:$DQ$2
Name myrangeW12: 'Water Data'!$DR$1:$EA$2
Name myrangeW2: 'Water Data'!$V$1:$AE$2
Name myrangeW3: 'Water Data'!$AF$1:$AO$2
Name myrangeW4: 'Water Data'!$AP$1:$AY$2
Name myrangeW5: 'Water Data'!$AZ$1:$BI$2
Name myrangeW6: 'Water Data'!$BJ$1:$BS$2
Name myrangeW7: 'Water Data'!$BT$1:$CC$2
Name myrangeW8: 'Water Data'!$CD$1:$CM$2
Name myrangeW9: 'Water Data'!$CN$1:$CW$2
Name nametranslations: [1]Key!$A:$G
Name nametranslations: [1]Key!$A:$G
Name nametranslations: Key!$A:$G
Name RURAL_SANITATION: #REF!
Name RURAL_SANITATION: #REF!
Name RURAL_SANITATION: #REF!
Name RURAL_WATER: #REF!
Name RURAL_WATER: #REF!
Name translationcountries: [1]Key!$M:$U
Name translationcountries: [1]Key!$M:$U
Name translationcountries: Key!$M:$U

Sheet Key
A1: English | B1: Spanish | C1: French | D1: Russian | E1: Arabic | F1: Other | I1: Language | L1: ISO3 | M1: name | N1: name_FR | O1: name_ES | P1: name_RU | Q1: name_AR | R1: name_CH | S1: name_other | T1: ISO3 | U1: Language
A2: Introduction tab glossary | I2: English | L2: ABW | M2: Aruba | N2: Aruba | O2: Aruba | P2: Аруба | Q2: أروبا | T2: ABW | U2: English
A3: Joint Monitoring Programme for Water Supply, Sanitation and Hygiene | B3: Programa Conjunto OMS/UNICEF de Monitoreo del Abastecimiento del Agua, el Saneamiento y la Higiene | C3: Programme commun OMS/UNICEF de suivi de l’approvisionnement en eau, de l’assainissement et de l’hygiène | D3: Совместная программа по мониторингу водоснабжения, санитарии и гигиены (СПМ) | E3: برنامج الرصد المشترك بين منظمة الصحة العالمية واليونيسف إلمدادات المياه والمرافق الصحي | I3: Spanish | L3: AFG | M3: Afghanistan | N3: Afghanistan | O3: Afganistán | P3: Афганистан | Q3: أفغانستان | T3: AFG | U3: English | W3: Introduction!G4 | X3: VLOOKUP(Introduction!$G$8,ISO3language,2,FALSE)
A4: Estimates on water, sanitation, hygiene in schools | B4: Estimaciones sobre servicios de agua, saneamiento, higiene en las escuelas | C4: Estimations sur l'eau, l'assainissement, l'hygiène en milieu scolaire | D4: Расчётные оценки услуг водоснабжения, санитарии, обеспечения средствами гигиены в школах | E4: التقديرات لتقدم في خدمات مياه الشرب والصرف الصحي والنظافة الصحية في المدارس | I4: French | L4: AGO | M4: Angola | N4: Angola | O4: Angola | P4: Ангола | Q4: أنغولا | T4: AGO | U4: French
A5: =+Introduction!C7 -> Mali | B5: =VLOOKUP($A$5,translationcountries,3,FALSE) -> Malí | C5: =VLOOKUP($A$5,translationcountries,2,FALSE) -> Mali | D5: =VLOOKUP($A$5,translationcountries,4,FALSE) -> Мали | E5: =VLOOKUP($A$5,translationcountries,5,FALSE) -> مالي | F5: =VLOOKUP($A$5,translationcountries,6,FALSE) -> 0 | I5: Russian | L5: AIA | M5: Anguilla | N5: Anguilla | O5: Anguila | P5: Ангилья | Q5: أنغويلا | T5: AIA | U5: English
A6: Updated September 2026 | B6: Actualizado en septiembre de 2026 | C6: Mis à jour en septembre 2026 | D6: Обновлено в сентябре 2026 года | E6: تم التحديث في سبتمبر 2026 | I6: Arabic | L6: ALA | M6: Åland Islands | N6: Îles d’Åland | O6: Islas Åland | P6: Аландских островов | Q6: جزر ألاند | T6: ALA | U6: English
A7: Follow the links below to find the following information: | B7: Siga los enlaces a continuación para encontrar la siguiente información: | C7: Suivez les liens ci-dessous pour trouver les informations suivantes : | D7: Для нахождения следующей информации используйте указанные ниже ссылки: | E7: اتبع الروابط أدناه للعثور على المعلومات التالية: | I7: Other | L7: ALB | M7: Albania | N7: Albanie | O7: Albania | P7: Албания | Q7: ألبانيا | T7: ALB | U7: English | X7: {=CELL("filename")} -> C:\Users\johnstonr\WHOUNICEF Dropbox\WHOUNICEF Team Folder\Schools\2026 Report\Country files\Country files multilingual\Country files v09\[JMP_2026_WinS_MLI_Mali.xlsx]Introduction
A8: JMP Estimates: | B8: Estimaciones de JMP: | C8: Estimations JMP : | D8: Расчётные оценки СПМ: | E8: تقديرات JMP: | L8: AND | M8: Andorra | N8: Andorre | O8: Andorra | P8: Андорра | Q8: أندورا | T8: AND | U8: French | X8: =IFERROR(MID(X7,FIND(CHAR(1),SUBSTITUTE(X7,"\",CHAR(1),LEN(X7)-LEN(SUBSTITUTE(X7,"\",""))))+1,FIND(CHAR(1),SUBSTITUTE(X7,".",CHAR(1),LEN(X7)-LEN(SUBSTITUTE(X7,".",""))))-FIND(CHAR(1),SUBSTITUTE(X7,"\",CHAR(1),LEN(X7)-LEN(SUBSTITUTE(X7,"\",""))))-1),"") -> [JMP_2026_WinS_MLI_Mali
A9: WASH ladders for schools | B9: Escaleras WASH para las escuelas | C9: Échelles WASH en milieu scolaire | D9: Иерархические лестницы услуг WASH для школ | E9: سلالم المياه والصرف الصحي للمدارس | L9: ARE | M9: United Arab Emirates | N9: Émirats arabes unis | O9: Emiratos Árabes Unidos | P9: Объединенные Арабские Эмираты | Q9: الإمارات العربية المتحدة | T9: ARE | U9: Arabic | X9: Template
A10: Trends in basic WASH in schools | B10: Tendencias en WASH básico en las escuelas | C10: Tendances : services de base WASH en milieu scolaire | D10: Тенденции в базовых уровнях WASH в школах | E10: الاتجاهات الأساسية في مجال المياه والصرف الصحي والنظافة الصحية في المدارس | I10: Buttons | L10: ARG | M10: Argentina | N10: Argentine | O10: Argentina | P10: Аргентина | Q10: الأرجنتين | T10: ARG | U10: Spanish | W10: countryname | X10: IF($G$4="English",VLOOKUP($G$8,Key!$L$2:$S$247,2,FALSE),IF($G$4="Spanish",VLOOKUP($G$8,Key!$L$2:$S$247,4,FALSE),IF($G$4="French",VLOOKUP($G$8,Key!$L$2:$S$247,3,FALSE),IF($G$4="Russian",VLOOKUP($G$8,Key!$L$2:$S$247,5,FALSE),IF($G$4="Arabic",VLOOKUP($G$8,Key!$L$2:$S$247,5,FALSE),IF($G$4="Chinese",VLOOKUP($G$8,Key!$L$2:$S$247,6,FALSE),IF($G$4="Other",VLOOKUP($G$8,Key!$L$2:$S$247,7,FALSE))))))))
A11: Estimates (2000-2025) for schools | B11: Estimaciones (2000-2025) para las escuelas | C11: Estimations (2000-2025) en milieu scolaire | D11: Расчётные оценки (2000-2025 гг.) для школ | E11: تقديرات (2000 - 2025) للمدارس | I11: =HLOOKUP(Introduction!$G$4,nametranslations,18,FALSE) -> Notes sur la façon de lire le fichier pays | L11: ARM | M11: Armenia | N11: Arménie | O11: Armenia | P11: Армения | Q11: أرمينيا | T11: ARM | U11: English
A12: Data inputs: | B12: Entradas de datos: | C12: Entrées de données : | D12: Наборы входных данных: | E12: مدخلات البيانات: | I12: =HLOOKUP(Introduction!$G$4,nametranslations,24,FALSE) -> Total | L12: ASM | M12: American Samoa | N12: Samoa américaines | O12: Samoa Americana | P12: Американское Самоа | Q12: ساموا الأمريكية | T12: ASM | U12: English | W12: iso3 | X12: MID(A2,A3+1,3) | Z12: where A2=cell("filename") | AC12: A3=FIND("~",SUBSTITUTE(A2,"_","~",3)) | AH12: {=MID(CELL("filename"),FIND("~",SUBSTITUTE(CELL("filename"),"_","~",3))+1,3)} -> MLI
A13: Data summary | B13: Resumen de datos | C13: Résumé des données | D13: Перечень данных | E13: ملخص البيانات | I13: =HLOOKUP(Introduction!$G$4,nametranslations,25,FALSE) -> Rural | L13: ATF | M13: French Southern Territories | N13: Terres australes françaises | O13: Territorio de las Tierras Australes Francesas | P13: Южные земли (французская заморская территория) | Q13: الأراضي الفرنسية الجنوبية الجنوبية | T13: ATF | U13: French
A14: Water Data | B14: Datos de agua | C14: Données sur l'eau | D14: Данные о водоснабжении | E14: بيانات المياه | I14: =HLOOKUP(Introduction!$G$4,nametranslations,26,FALSE) -> Urbain | L14: ATG | M14: Antigua and Barbuda | N14: Antigua-et-Barbuda | O14: Antigua y Barbuda | P14: Антигуа и Барбуда | Q14: أنتيغوا وبربودا | T14: ATG | U14: English
A15: Sanitation Data | B15: Datos de saneamiento | C15: Données sur l'assainissement | D15: Данные о санитарии | E15: بيانات الصرف الصحي | I15: =HLOOKUP(Introduction!$G$4,nametranslations,27,FALSE) -> Pré-primaire | L15: AUS | M15: Australia | N15: Australie | O15: Australia | P15: Австралия | Q15: أستراليا | T15: AUS | U15: English
A16: Hygiene Data | B16: Datos de higiene | C16: Données sur l'hygiène | D16: Данные о средствах гигиены | E16: بيانات النظافة | I16: =HLOOKUP(Introduction!$G$4,nametranslations,28,FALSE) -> Primaire | L16: AUT | M16: Austria | N16: Autriche | O16: Austria | P16: Австрия | Q16: النمسا | T16: AUT | U16: English
A17: Population Data | B17: Datos de población | C17: Données démographiques | D17: Данные о численности населения | E17: بيانات السكان | I17: =HLOOKUP(Introduction!$G$4,nametranslations,29,FALSE) -> Secondaire | L17: AZE | M17: Azerbaijan | N17: Azerbaïdjan | O17: Azerbaiyán | P17: Азербайджан | Q17: أذربيجان | T17: AZE | U17: English
A18: Notes on how to read the country file | B18: Notas sobre cómo leer el archivo de país | C18: Notes sur la façon de lire le fichier pays | D18: Заметки о том, как читать страновой файл | E18: ملاحظات حول كيفية قراءة ملف الدولة | L18: BDI | M18: Burundi | N18: Burundi | O18: Burundi | P18: Бурунди | Q18: بوروندي | T18: BDI | U18: French
A19: Ladders tab glossary (if not already translated above) | L19: BEL | M19: Belgium | N19: Belgique | O19: Bélgica | P19: Бельгия | Q19: بلجيكا | T19: BEL | U19: French
A20: Water, sanitation and hygiene ladders for schools | B20: Escaleras de agua, saneamiento e higiene para las escuelas | C20: Echelles d'eau, d'assainissement et d'hygiène en milieu scolaire | D20: Иерархические лестницы услуг водоснабжения и санитарии и обеспеченности средствами гигиены для школ | E20: سلالم المياه والصرف الصحي والنظافة للمدارس | L20: BEN | M20: Benin | N20: Bénin | O20: Benin | P20: Бенин | Q20: بنن | T20: BEN | U20: French
A21: Water | B21: Agua | C21: Eau | D21: Водоснабжение | E21: ماء | L21: BES | M21: Bonaire, Sint Eustatius and Saba | N21: Bonaire, Saint-Eustache et Saba | O21: Bonaire, San Eustaquio y Saba | P21: Бонайре, Синт-Эстатиус и Саба | Q21: بونير وسانت يوستاشيوس وسابا | T21: BES | U21: English
A22: Sanitation | B22: Saneamiento | C22: Assainissement | D22: Санитария | E22: الصرف الصحي | L22: BFA | M22: Burkina Faso | N22: Burkina Faso | O22: Burkina Faso | P22: Буркина-Фасо | Q22: بوركينا فاسو | T22: BFA | U22: French
A23: Hygiene | B23: Higiene | C23: Hygiène | D23: Гигиена | E23: صحة | L23: BGD | M23: Bangladesh | N23: Bangladesh | O23: Bangladesh | P23: Бангладеш | Q23: بنغلاديش | T23: BGD | U23: English
A24: Total | B24: Total | C24: Total | D24: Во всей стране | E24: المجموع | I24: Chart titles/ladders | L24: BGR | M24: Bulgaria | N24: Bulgarie | O24: Bulgaria | P24: Болгария | Q24: بلغاريا | T24: BGR | U24: English
A25: Rural | B25: Rural | C25: Rural | D25: Сельские | E25: ريفي | I25: =HLOOKUP(Introduction!$G$4,nametranslations,36,FALSE) -> Proportion des écoles (%) | L25: BHR | M25: Bahrain | N25: Bahreïn | O25: Bahrein | P25: Бахрейн | Q25: البحرين | T25: BHR | U25: Arabic
A26: Urban | B26: Urbano | C26: Urbain | D26: Городские | E26: الحضاري | I26: Total | L26: BHS | M26: Bahamas | N26: Bahamas | O26: Bahamas | P26: Багамские Острова | Q26: جزر البهاما | T26: BHS | U26: English
A27: Pre-primary | B27: Preprimaria | C27: Pré-primaire | D27: Дошкольные учреждения | E27: المرحلة الابتدائية | I27: =HLOOKUP(Introduction!$G$4,nametranslations,25,FALSE) -> Rural | L27: BIH | M27: Bosnia and Herzegovina | N27: Bosnie-Herzégovine | O27: Bosnia y Herzegovina | P27: Босния и Герцеговина | Q27: البوسنة والهرسك | T27: BIH | U27: English
A28: Primary | B28: Primaria | C28: Primaire | D28: Начальные | E28: خبرات | I28: =HLOOKUP(Introduction!$G$4,nametranslations,26,FALSE) -> Urbain | L28: BLM | M28: Saint Barthélemy | N28: Saint-Barthélemy | O28: San Barthélemy | P28: Сен-Бартелеми | Q28: سان بارتليمي | T28: BLM | U28: French
A29: Secondary | B29: Secundaria | C29: Secondaire | D29: Средние | E29: ثانوي | I29: =HLOOKUP(Introduction!$G$4,nametranslations,27,FALSE) -> Pré-primaire | L29: BLR | M29: Belarus | N29: Bélarus | O29: Belarús | P29: Беларусь | Q29: بيلاروس | T29: BLR | U29: English
A30: Basic service | B30: Servicio básico | C30: Service de base | D30: Базовый уровень услуг | E30: الخدمة الأساسية | I30: =HLOOKUP(Introduction!$G$4,nametranslations,28,FALSE) -> Primaire | L30: BLZ | M30: Belize | N30: Belize | O30: Belice | P30: Белиз | Q30: بليز | T30: BLZ | U30: English
A31: Limited service | B31: Servicio limitado | C31: Service limité | D31: Ограниченный уровень | E31: خدمة محدودة | I31: =HLOOKUP(Introduction!$G$4,nametranslations,29,FALSE) -> Secondaire | L31: BMU | M31: Bermuda | N31: Bermudes | O31: Bermuda | P31: Бермудские острова | Q31: برمودا | T31: BMU | U31: English
A32: No service | B32: Sin servicio | C32: Pas de service | D32: Отсутствие услуг | E32: لاتوجد خدمة | L32: BOL | M32: Bolivia (Plurinational State of) | N32: Bolivie (État plurinational de) | O32: Bolivia (Estado Plurinacional de) | P32: Боливия (Многонациональное Государство) | Q32: بوليفيا (دولة - المتعددة القوميات) | T32: BOL | U32: Spanish
A33: Insufficient data | B33: Datos insuficientes | C33: Données insuffisantes | D33: Недостаточно данных | E33: البيانات غير كافية | L33: BRA | M33: Brazil | N33: Brésil | O33: Brasil | P33: Бразилия | Q33: البرازيل | T33: BRA | U33: English
A34: Source: WHO/UNICEF JMP (2026) | B34: Fuente: OMS/UNICEF JMP (2026) | C34: Source : OMS/UNICEF JMP (2026) | D34: Источник: СПМ ВОЗ/ЮНИСЕФ (2026 г.) | E34: المصدر: WHO/UNICEF JMP (2024) | L34: BRB | M34: Barbados | N34: Barbade | O34: Barbados | P34: Барбадос | Q34: بربادوس | T34: BRB | U34: English
A35: No basic service estimate available | B35: No hay estimaciones de servicio básico disponible | C35: Aucune estimation de service de base disponible | D35: Оценок базового уровня услуг нет | E35: لا يتوفر تقدير الخدمة الأساسية | L35: BRN | M35: Brunei Darussalam | N35: Brunéi Darussalam | O35: Brunei Darussalam | P35: Бруней-Даруссалам | Q35: بروني دار السلام | T35: BRN | U35: English
A36: Proportion of Schools (%) | B36: Proporción de escuelas (%) | C36: Proportion des écoles (%) | D36: Доля школ (%) | E36: نسبة المدارس (٪) | L36: BTN | M36: Bhutan | N36: Bhoutan | O36: Bhután | P36: Бутан | Q36: بوتان | T36: BTN | U36: English
A37: Charts tab glossary (if not already translated above) | L37: BWA | M37: Botswana | N37: Botswana | O37: Botswana | P37: Ботсвана | Q37: بوتسوانا | T37: BWA | U37: English
A38: Water, sanitation and hygiene services in schools | B38: Servicios de agua, saneamiento e higiene en las escuelas | C38: Services d'eau, d'assainissement et d'hygiène en milieu scolaire | D38: Услуги водоснабжения и санитарии и обеспеченность средствами гигиены в школах | E38: خدمات المياه والصرف الصحي والنظافة في المدارس | L38: CAF | M38: Central African Republic | N38: République centrafricaine | O38: República Centroafricana | P38: Центральноафриканская Республика | Q38: جمهورية أفريقيا الوسطى | T38: CAF | U38: French
A39: Water: total | B39: Agua: total | C39: Eau : total | D39: Вода: всего | E39: الماء: المجموع | L39: CAN | M39: Canada | N39: Canada | O39: Canadá | P39: Канада | Q39: كندا | T39: CAN | U39: English
A40: Water: urban | B40: Agua: urbano | C40: Eau : urbain | D40: Водоснабжение: городские | E40: المياه: حضرية | L40: CCK | M40: Cocos (Keeling) Islands | N40: Îles des Cocos (Keeling) | O40: Islas Cocos (Keeling) | P40: Кокосовых (Килинг) островов | Q40: جزر كوكس (كيلينغ) | T40: CCK | U40: English
...

Sheet Introduction
G3: Choose language
C4: =HLOOKUP(Introduction!$G$4,Key!A:G,3,FALSE) -> Programme commun OMS/UNICEF de suivi de l’approvisionnement en eau, de l’assainissement et de l’hygiène | G4: =+VLOOKUP(Introduction!$G$8,ISO3language,2,FALSE) -> French
C6: =HLOOKUP(Introduction!$G$4,Key!A:G,4,FALSE) -> Estimations sur l'eau, l'assainissement, l'hygiène en milieu scolaire
C7: =IF($G$4="English",VLOOKUP($G$8,Key!$L$2:$S$247,2,FALSE),IF($G$4="Spanish",VLOOKUP($G$8,Key!$L$2:$S$247,4,FALSE),IF($G$4="French",VLOOKUP($G$8,Key!$L$2:$S$247,3,FALSE),IF($G$4="Russian",VLOOKUP($G$8,Key!$L$2:$S$247,5,FALSE),IF($G$4="Arabic",VLOOKUP($G$8,Key!$L$2:$S$247,6,FALSE),IF($G$4="Other",VLOOKUP($G$8,Key!$L$2:$S$247,7,FALSE))))))) -> Mali | G7: ISO3 CODE
G8: MLI
C9: =HLOOKUP(Introduction!$G$4,Key!A:G,6,FALSE) -> Mis à jour en septembre 2026
C11: =HLOOKUP(Introduction!$G$4,Key!A:G,7,FALSE) -> Suivez les liens ci-dessous pour trouver les informations suivantes :
C13: =HLOOKUP(Introduction!$G$4,Key!A:G,8,FALSE) -> Estimations JMP :
C14: =HLOOKUP(Introduction!$G$4,Key!A:G,9,FALSE) -> Échelles WASH en milieu scolaire
C15: =HLOOKUP(Introduction!$G$4,Key!A:G,10,FALSE) -> Tendances : services de base WASH en milieu scolaire
C16: =HLOOKUP(Introduction!$G$4,Key!A:G,11,FALSE) -> Estimations (2000-2025) en milieu scolaire
C18: =HLOOKUP(Introduction!$G$4,Key!A:G,12,FALSE) -> Entrées de données :
C19: =HLOOKUP(Introduction!$G$4,Key!A:G,13,FALSE) -> Résumé des données
C20: =HLOOKUP(Introduction!$G$4,Key!A:G,14,FALSE) -> Données sur l'eau
C21: =HLOOKUP(Introduction!$G$4,Key!A:G,15,FALSE) -> Données sur l'assainissement
C22: =HLOOKUP(Introduction!$G$4,Key!A:G,16,FALSE) -> Données sur l'hygiène
C23: =HLOOKUP(Introduction!$G$4,Key!A:G,17,FALSE) -> Données démographiques
L46: =+IF(ISNUMBER(M39), "", "Insufficient data to estimate safely managed sanitation services at national level") -> Insufficient data to estimate safely managed sanitation services at national level

Sheet Regressions
A1: Ladders
A2: Drinking water | J2: Sanitation | S2: Hygiene
B3: Year | C3: National | D3: Rural | E3: Urban | F3: Pre-Primary | G3: Primary | H3: Secondary | K3: Year | L3: National | M3: Rural | N3: Urban | O3: Pre-Primary | P3: Primary | Q3: Secondary | T3: Year | U3: National | V3: Rural | W3: Urban | X3: Pre-Primary | Y3: Primary | Z3: Secondary
A4: Basic service | B4: 2025 | C4: 61.17063 | G4: 61.17063 | J4: Basic service | K4: 2025 | L4: 31.576842 | M4: 27.89324 | N4: 23.474444 | P4: 30.36655 | S4: Basic service | T4: 2025 | U4: 44.258111 | Y4: 46.820173 | Z4: 52.53668
A5: Limited service | B5: 2025 | C5: 17.385106 | G5: 19.579549 | J5: Limited service | K5: 2025 | L5: 34.577004 | P5: 35.787296 | S5: Limited service | T5: 2025
A6: No service | B6: 2025 | C6: 21.444264 | G6: 19.249821 | J6: No service | K6: 2025 | L6: 33.846154 | P6: 33.846154 | S6: No service | T6: 2025
A7: Insufficient data | B7: 2025 | C7: 0 | D7: 100 | E7: 100 | F7: 100 | G7: 0 | H7: 100 | J7: Insufficient data | K7: 2025 | L7: 0 | M7: 72.10676 | N7: 76.525556 | O7: 100 | P7: 0 | Q7: 100 | S7: Insufficient data | T7: 2025 | U7: 55.741889 | V7: 100 | W7: 100 | X7: 100 | Y7: 53.179827 | Z7: 47.46332
A12: Estimates (based on data summary tab)
A13: country | B13: year | C13: setting | D13: pop_ | E13: wat_fac_ | F13: wat_imp_ | G13: wat_bas_ | H13: wat_lim_ | I13: wat_none_ | J13: wat_nd_ | K13: san_fac_ | L13: san_imp_ | M13: san_bas_ | N13: san_lim_ | O13: san_none_ | P13: san_nd_ | Q13: hyg_fac_ | R13: hyg_wat_ | S13: hyg_bas_ | T13: hyg_lim_ | U13: hyg_none_ | V13: hyg_nd_
A14: Mali | B14: 2000 | C14: National | D14: 5038309 | J14: 100 | P14: 100 | V14: 100
A15: Mali | B15: 2001 | C15: National | D15: 5159348 | E15: 35.335269 | J15: 100 | M15: 10.447075 | P15: 89.552925 | V15: 100
A16: Mali | B16: 2002 | C16: National | D16: 5290805 | E16: 35.335269 | J16: 100 | M16: 10.447075 | P16: 89.552925 | V16: 100
A17: Mali | B17: 2003 | C17: National | D17: 5437368 | E17: 35.335269 | J17: 100 | M17: 10.447075 | P17: 89.552925 | V17: 100
A18: Mali | B18: 2004 | C18: National | D18: 5593567 | E18: 35.335269 | J18: 100 | M18: 10.447075 | P18: 89.552925 | V18: 100
A19: Mali | B19: 2005 | C19: National | D19: 5760052 | E19: 35.335269 | F19: 35.335269 | I19: 64.664731 | J19: 35.335269 | K19: 64.988814 | M19: 10.447075 | P19: 89.552925 | V19: 100
A20: Mali | B20: 2006 | C20: National | D20: 5937258 | E20: 38.602186 | F20: 38.602186 | I20: 61.397814 | J20: 38.602186 | K20: 64.988814 | M20: 11.503563 | P20: 88.496437 | V20: 100
A21: Mali | B21: 2007 | C21: National | D21: 6129953 | E21: 41.869103 | F21: 41.869103 | I21: 58.130897 | J21: 41.869103 | K21: 64.988814 | M21: 12.560052 | P21: 87.439948 | V21: 100
A22: Mali | B22: 2008 | C22: National | D22: 6337210 | E22: 45.13602 | F22: 45.13602 | I22: 54.86398 | J22: 45.13602 | K22: 64.988814 | M22: 13.61654 | P22: 86.38346 | V22: 100
A23: Mali | B23: 2009 | C23: National | D23: 6560832 | E23: 48.402938 | F23: 46.656893 | I23: 53.343107 | J23: 46.656893 | K23: 64.988814 | M23: 14.673028 | P23: 85.326972 | V23: 100
A24: Mali | B24: 2010 | C24: National | D24: 6796469 | E24: 51.669855 | F24: 48.650571 | I24: 51.349429 | J24: 48.650571 | K24: 66.726752 | M24: 15.729517 | P24: 84.270483 | V24: 100
A25: Mali | B25: 2011 | C25: National | D25: 7041889 | E25: 54.936772 | F25: 50.644249 | G25: 50.644249 | H25: 0 | I25: 49.355751 | J25: 0 | K25: 68.464691 | L25: 68.464691 | M25: 16.786005 | N25: 51.678686 | O25: 31.535309 | P25: 0 | Q25: 91.4425 | S25: 71.084685 | V25: 28.915315
A26: Mali | B26: 2012 | C26: National | D26: 7298795 | E26: 58.203689 | F26: 52.637926 | G26: 52.637926 | H26: 0 | I26: 47.362074 | J26: 0 | K26: 70.202629 | L26: 70.202629 | M26: 17.842493 | N26: 52.360136 | O26: 29.797371 | P26: 0 | Q26: 91.4425 | S26: 71.084685 | V26: 28.915315
A27: Mali | B27: 2013 | C27: National | D27: 7553728 | E27: 61.470606 | F27: 54.631604 | G27: 54.631604 | H27: 0 | I27: 45.368396 | J27: 0 | K27: 71.940567 | L27: 71.940567 | M27: 18.898982 | N27: 53.041585 | O27: 28.059433 | P27: 0 | Q27: 91.4425 | R27: 80.993151 | S27: 71.084685 | T27: 9.9084655 | U27: 19.006849 | V27: 0
A28: Mali | B28: 2014 | C28: National | D28: 7837671 | E28: 64.737523 | F28: 56.625282 | G28: 56.625282 | H28: 0 | I28: 43.374718 | J28: 0 | K28: 73.678505 | L28: 73.678505 | M28: 19.95547 | N28: 53.723035 | O28: 26.321495 | P28: 0 | Q28: 91.4425 | R28: 80.993151 | S28: 71.084685 | T28: 9.9084655 | U28: 19.006849 | V28: 0
A29: Mali | B29: 2015 | C29: National | D29: 8132266 | E29: 68.00444 | F29: 58.618959 | G29: 58.618959 | H29: 0 | I29: 41.381041 | J29: 0 | K29: 75.416444 | L29: 75.416444 | M29: 21.011958 | N29: 54.404485 | O29: 24.583556 | P29: 0 | Q29: 91.4425 | R29: 80.993151 | S29: 71.084685 | T29: 9.9084655 | U29: 19.006849 | V29: 0
A30: Mali | B30: 2016 | C30: National | D30: 8435608 | E30: 71.271357 | F30: 60.612637 | G30: 60.612637 | H30: 0 | I30: 39.387363 | J30: 0 | K30: 77.154382 | L30: 77.154382 | M30: 22.068447 | N30: 55.085935 | O30: 22.845618 | P30: 0 | Q30: 87.22125 | R30: 80.993151 | S30: 68.402028 | T30: 12.591123 | U30: 19.006849 | V30: 0
A31: Mali | B31: 2017 | C31: National | D31: 8034044 | E31: 74.538274 | F31: 62.606315 | G31: 62.606315 | H31: 0 | I31: 37.393685 | J31: 0 | K31: 78.89232 | L31: 78.89232 | M31: 23.124935 | N31: 55.767385 | O31: 21.10768 | P31: 0 | Q31: 83 | R31: 80.993151 | S31: 65.71937 | T31: 15.27378 | U31: 19.006849 | V31: 0
A32: Mali | B32: 2018 | C32: National | D32: 8320522 | E32: 77.805191 | F32: 64.599993 | G32: 64.599993 | H32: 0 | I32: 35.400007 | J32: 0 | K32: 80.630258 | L32: 79.056731 | M32: 24.181424 | N32: 54.875307 | O32: 20.943269 | P32: 0 | Q32: 78.77875 | R32: 78.77875 | S32: 63.036713 | T32: 15.742037 | U32: 21.22125 | V32: 0
A33: Mali | B33: 2019 | C33: National | D33: 8603233 | E33: 81.072109 | F33: 66.59367 | G33: 66.59367 | H33: 0 | I33: 33.40633 | J33: 0 | K33: 82.368197 | L33: 77.213462 | M33: 25.237912 | N33: 51.97555 | O33: 22.786538 | P33: 0 | Q33: 74.5575 | R33: 74.5575 | S33: 60.354056 | T33: 14.203444 | U33: 25.4425 | V33: 0
A34: Mali | B34: 2020 | C34: National | D34: 8886185 | E34: 84.339026 | F34: 68.587348 | G34: 66.737145 | H34: 1.8502025 | I34: 31.412652 | J34: 0 | K34: 84.106135 | L34: 75.370192 | M34: 26.2944 | N34: 49.075792 | O34: 24.629808 | P34: 0 | Q34: 70.33625 | R34: 70.33625 | S34: 57.671398 | T34: 12.664852 | U34: 29.66375 | V34: 0
A35: Mali | B35: 2021 | C35: National | D35: 9173043 | E35: 87.605943 | F35: 70.581026 | G35: 65.623842 | H35: 4.9571833 | I35: 29.418974 | J35: 0 | K35: 85.844073 | L35: 73.526923 | M35: 27.350889 | N35: 46.176034 | O35: 26.473077 | P35: 0 | Q35: 66.115 | R35: 66.115 | S35: 54.988741 | T35: 11.126259 | U35: 33.885 | V35: 0
A36: Mali | B36: 2022 | C36: National | D36: 9457713 | E36: 90.87286 | F36: 72.574703 | G36: 64.510539 | H36: 8.0641641 | I36: 27.425297 | J36: 0 | K36: 87.582011 | L36: 71.683654 | M36: 28.407377 | N36: 43.276277 | O36: 28.316346 | P36: 0 | Q36: 61.89375 | S36: 52.306083 | V36: 47.693917
A37: Mali | B37: 2023 | C37: National | D37: 9730054 | E37: 94.139777 | F37: 74.568381 | G37: 63.397236 | H37: 11.171145 | I37: 25.431619 | J37: 0 | K37: 89.31995 | L37: 69.840385 | M37: 29.463865 | N37: 40.376519 | O37: 30.159615 | P37: 0 | Q37: 57.6725 | S37: 49.623426 | V37: 50.376574
A38: Mali | B38: 2024 | C38: National | D38: 9767093 | E38: 97.406694 | F38: 76.562059 | G38: 62.283933 | H38: 14.278126 | I38: 23.437941 | J38: 0 | K38: 91.057888 | L38: 67.997115 | M38: 30.520354 | N38: 37.476762 | O38: 32.002885 | P38: 0 | Q38: 53.45125 | S38: 46.940769 | V38: 53.059231
A39: Mali | B39: 2025 | C39: National | D39: 9973308 | E39: 100 | F39: 78.555736 | G39: 61.17063 | H39: 17.385106 | I39: 21.444264 | J39: 0 | K39: 92.795826 | L39: 66.153846 | M39: 31.576842 | N39: 34.577004 | O39: 33.846154 | P39: 0 | Q39: 49.23 | S39: 44.258111 | V39: 55.741889
A40: Mali | B40: 2026 | C40: National | E40: 100 | F40: 80.549414 | G40: 60.057327 | H40: 20.492087 | I40: 19.450586 | J40: 0 | K40: 94.533765 | L40: 64.310577 | M40: 32.63333 | N40: 31.677246 | O40: 35.689423 | P40: 0 | Q40: 45.00875 | S40: 41.575454 | V40: 58.424546
A41: Mali | B41: 2027 | C41: National | E41: 100 | F41: 82.543092 | G41: 58.944024 | H41: 23.599068 | I41: 17.456908 | J41: 0 | K41: 96.271703 | L41: 62.467308 | M41: 33.689819 | N41: 28.777489 | O41: 37.532692 | P41: 0 | Q41: 40.7875 | S41: 38.892796 | V41: 61.107204
A42: Mali | B42: 2028 | C42: National | E42: 100 | F42: 82.543092 | G42: 58.944024 | H42: 23.599068 | I42: 17.456908 | J42: 0 | K42: 96.271703 | L42: 62.467308 | M42: 33.689819 | N42: 28.777489 | O42: 37.532692 | P42: 0 | Q42: 40.7875 | S42: 38.892796 | V42: 61.107204
A43: Mali | B43: 2029 | C43: National | E43: 100 | F43: 82.543092 | G43: 58.944024 | H43: 23.599068 | I43: 17.456908 | J43: 0 | K43: 96.271703 | L43: 62.467308 | M43: 33.689819 | N43: 28.777489 | O43: 37.532692 | P43: 0 | Q43: 40.7875 | S43: 38.892796 | V43: 61.107204
A44: Mali | B44: 2030 | C44: National | E44: 100 | F44: 82.543092 | G44: 58.944024 | H44: 23.599068 | I44: 17.456908 | J44: 0 | K44: 96.271703 | L44: 62.467308 | M44: 33.689819 | N44: 28.777489 | O44: 37.532692 | P44: 0 | Q44: 40.7875 | S44: 38.892796 | V44: 61.107204
...

Sheet Ladders
A1: =HLOOKUP(Introduction!$G$4,nametranslations,20,FALSE) -> Echelles d'eau, d'assainissement et d'hygiène en milieu scolaire | B1: =HLOOKUP([1]Introduction!$G$4,nametranslations,5,FALSE) -> Mali | C1: =HLOOKUP([1]Introduction!$G$4,nametranslations,5,FALSE) -> Mali | D1: =HLOOKUP([1]Introduction!$G$4,nametranslations,5,FALSE) -> Mali | E1: =HLOOKUP([1]Introduction!$G$4,nametranslations,5,FALSE) -> Mali | F1: =HLOOKUP([1]Introduction!$G$4,nametranslations,5,FALSE) -> Mali | G1: =HLOOKUP([1]Introduction!$G$4,nametranslations,5,FALSE) -> Mali | H1: =HLOOKUP([1]Introduction!$G$4,nametranslations,5,FALSE) -> Mali | I1: =HLOOKUP([1]Introduction!$G$4,nametranslations,5,FALSE) -> Mali | ... V1: =HLOOKUP([1]Introduction!$G$4,nametranslations,5,FALSE) -> Mali
A2: =HLOOKUP([1]Introduction!$G$4,nametranslations,5,FALSE) -> Mali | B2: =HLOOKUP([1]Introduction!$G$4,nametranslations,5,FALSE) -> Mali | C2: =HLOOKUP([1]Introduction!$G$4,nametranslations,5,FALSE) -> Mali | D2: =HLOOKUP([1]Introduction!$G$4,nametranslations,5,FALSE) -> Mali | E2: =HLOOKUP([1]Introduction!$G$4,nametranslations,5,FALSE) -> Mali | F2: =HLOOKUP([1]Introduction!$G$4,nametranslations,5,FALSE) -> Mali | G2: =HLOOKUP([1]Introduction!$G$4,nametranslations,5,FALSE) -> Mali | H2: =HLOOKUP([1]Introduction!$G$4,nametranslations,5,FALSE) -> Mali | ... V2: =HLOOKUP([1]Introduction!$G$4,nametranslations,5,FALSE) -> Mali
B4: =HLOOKUP(Introduction!$G$4,nametranslations,85,FALSE) -> Eau de boisson | I4: =HLOOKUP(Introduction!$G$4,nametranslations,22,FALSE) -> Assainissement | P4: =HLOOKUP(Introduction!$G$4,nametranslations,23,FALSE) -> Hygiène
C25: =+IF(OR((C28=Key!$I$26&"*"),(D28=Key!$I$28&"*"),(E28=Key!$I$27&"*"),(F28=Key!$I$29&"*"),(G28=Key!$I$30&"*"),(H28=Key!$I$31&"*"),(C28=Key!$I$26&"*^"),(D28=Key!$I$28&"*^"),(E28=Key!$I$27&"*^"),(F28="*^"),(G28=Key!$I$30&"*^"),(H28=Key!$I$31&"*^")),"*"&HLOOKUP(Introduction!$G$4,nametranslations,35,FALSE),"") -> *Aucune estimation de service de base disponible | J25: =+IF(OR((J28=Key!$I$26&"*"),(K28=Key!$I$28&"*"),(L28=Key!$I$27&"*"),(M28=Key!$I$29&"*"),(N28=Key!$I$30&"*"),(O28=Key!$I$31&"*"),(J28=Key!$I$26&"*^"),(K28=Key!$I$28&"*^"),(L28=Key!$I$27&"*^"),(M28="*^"),(N28=Key!$I$30&"*^"),(O28=Key!$I$31&"*^")),"*"&HLOOKUP(Introduction!$G$4,nametranslations,35,FALSE),"") -> *Aucune estimation de service de base disponible | Q25: =+IF(OR((Q28=Key!$I$26&"*"),(R28=Key!$I$28&"*"),(S28=Key!$I$27&"*"),(T28=Key!$I$29&"*"),(U28=Key!$I$30&"*"),(V28=Key!$I$31&"*"),(Q28=Key!$I$26&"*^"),(R28=Key!$I$28&"*^"),(S28=Key!$I$27&"*^"),(T28="*^"),(U28=Key!$I$30&"*^"),(V28=Key!$I$31&"*^")),"*"&HLOOKUP(Introduction!$G$4,nametranslations,35,FALSE),"") -> *Aucune estimation de service de base disponible
C26: =+IF(OR((C28=Key!$I$26&"*^"),(D28=Key!$I$28&"*^"),(E28=Key!$I$27&"*^"),(F28=Key!$I$29&"*^"),(G28=Key!$I$30&"*^"),(H28=Key!$I$31&"^")),HLOOKUP(Introduction!$G$4,nametranslations,155,FALSE),"") | J26: =+IF(OR((J28=Key!$I$26&"*^"),(K28=Key!$I$28&"*^"),(L28=Key!$I$27&"*^"),(M28=Key!$I$29&"*^"),(N28=Key!$I$30&"*^"),(O28=Key!$I$31&"^")),HLOOKUP(Introduction!$G$4,nametranslations,155,FALSE),"") | Q26: =+IF(OR((Q28=Key!$I$26&"*^"),(R28=Key!$I$28&"*^"),(S28=Key!$I$27&"*^"),(T28=Key!$I$29&"*^"),(U28=Key!$I$30&"*^"),(V28=Key!$I$31&"^")),HLOOKUP(Introduction!$G$4,nametranslations,156,FALSE),"")
B27: =+Introduction!C7 -> Mali | C27: =HLOOKUP(Introduction!$G$4,nametranslations,21,FALSE) -> Eau | D27: =HLOOKUP([1]Introduction!$G$4,nametranslations,21,FALSE) -> Eau | E27: =HLOOKUP([1]Introduction!$G$4,nametranslations,21,FALSE) -> Eau | F27: =HLOOKUP([1]Introduction!$G$4,nametranslations,21,FALSE) -> Eau | G27: =HLOOKUP([1]Introduction!$G$4,nametranslations,21,FALSE) -> Eau | H27: =HLOOKUP([1]Introduction!$G$4,nametranslations,21,FALSE) -> Eau | I27: =+B27 -> Mali | J27: =HLOOKUP(Introduction!$G$4,nametranslations,22,FALSE) -> Assainissement | K27: =HLOOKUP([1]Introduction!$G$4,nametranslations,21,FALSE) -> Eau | L27: =HLOOKUP([1]Introduction!$G$4,nametranslations,21,FALSE) -> Eau | M27: =HLOOKUP([1]Introduction!$G$4,nametranslations,21,FALSE) -> Eau | N27: =HLOOKUP([1]Introduction!$G$4,nametranslations,21,FALSE) -> Eau | O27: =HLOOKUP([1]Introduction!$G$4,nametranslations,21,FALSE) -> Eau | P27: =+B27 -> Mali | Q27: =HLOOKUP(Introduction!$G$4,nametranslations,23,FALSE) -> Hygiène | R27: =HLOOKUP([1]Introduction!$G$4,nametranslations,21,FALSE) -> Eau | S27: =HLOOKUP([1]Introduction!$G$4,nametranslations,21,FALSE) -> Eau | T27: =HLOOKUP([1]Introduction!$G$4,nametranslations,21,FALSE) -> Eau | U27: =HLOOKUP([1]Introduction!$G$4,nametranslations,21,FALSE) -> Eau | V27: =HLOOKUP([1]Introduction!$G$4,nametranslations,21,FALSE) -> Eau
C28: =IF(AND(C30=0.0000000001,C31=0.0000000001,C32=0.0000000001), Key!$I$26&"*",IF(AND(C30=0.0000000001,ISNUMBER(C32)),Key!I26&"*", Key!$I$26)) -> Total | D28: =IF(AND(D30=0.0000000001,D31=0.0000000001,D32=0.0000000001), Key!$I$28&"*",IF(AND(D30=0.0000000001,ISNUMBER(D32)),Key!$I$28&"*", Key!$I$28)) -> Urbain* | E28: =IF(AND(E30=0.0000000001,E31=0.0000000001,E32=0.0000000001), Key!$I$27&"*",IF(AND(E30=0.0000000001,ISNUMBER(E32)),Key!$I$27&"*", Key!$I$27)) -> Rural* | F28: =IF(AND(F30=0.0000000001,F31=0.0000000001,F32=0.0000000001), Key!$I$29&"*",IF(AND(F30=0.0000000001,ISNUMBER(F32)),Key!$I$29&"*", Key!$I$29)) -> Pré-primaire* | G28: =IF(AND(G30=0.0000000001,G31=0.0000000001,G32=0.0000000001), Key!$I$30&"*",IF(AND(G30=0.0000000001,ISNUMBER(G32)),Key!$I$30&"*", Key!$I$30)) -> Primaire | H28: =IF(AND(H30=0.0000000001,H31=0.0000000001,H32=0.0000000001), Key!$I$31&"*",IF(AND(H30=0.0000000001,ISNUMBER(H32)),Key!$I$31&"*", Key!$I$31)) -> Secondaire* | J28: =IF(AND(J30=0.0000000001,J31=0.0000000001,J32=0.0000000001), Key!$I$26&"*",IF(AND(J30=0.0000000001,ISNUMBER(J32)),Key!I26&"*", Key!$I$26)) -> Total | K28: =IF(AND(K30=0.0000000001,K31=0.0000000001,K32=0.0000000001), Key!$I$28&"*",IF(AND(K30=0.0000000001,ISNUMBER(K32)),Key!$I$28&"*", Key!$I$28)) -> Urbain | L28: =IF(AND(L30=0.0000000001,L31=0.0000000001,L32=0.0000000001), Key!$I$27&"*",IF(AND(L30=0.0000000001,ISNUMBER(L32)),Key!$I$27&"*", Key!$I$27)) -> Rural | M28: =IF(AND(M30=0.0000000001,M31=0.0000000001,M32=0.0000000001), Key!$I$29&"*",IF(AND(M30=0.0000000001,ISNUMBER(M32)),Key!$I$29&"*", Key!$I$29)) -> Pré-primaire* | N28: =IF(AND(N30=0.0000000001,N31=0.0000000001,N32=0.0000000001), Key!$I$30&"*",IF(AND(N30=0.0000000001,ISNUMBER(N32)),Key!$I$30&"*", Key!$I$30)) -> Primaire | O28: =IF(AND(O30=0.0000000001,O31=0.0000000001,O32=0.0000000001), Key!$I$31&"*",IF(AND(O30=0.0000000001,ISNUMBER(O32)),Key!$I$31&"*", Key!$I$31)) -> Secondaire* | Q28: =IF(AND(Q30=0.0000000001,Q31=0.0000000001,Q32=0.0000000001), Key!$I$26&"*",IF(AND(Q30=0.0000000001,ISNUMBER(Q32)),Key!I26&"*", Key!$I$26)) -> Total | R28: =IF(AND(R30=0.0000000001,R31=0.0000000001,R32=0.0000000001), Key!$I$28&"*",IF(AND(R30=0.0000000001,ISNUMBER(R32)),Key!$I$28&"*", Key!$I$28)) -> Urbain* | S28: =IF(AND(S30=0.0000000001,S31=0.0000000001,S32=0.0000000001), Key!$I$27&"*",IF(AND(S30=0.0000000001,ISNUMBER(S32)),Key!$I$27&"*", Key!$I$27)) -> Rural* | T28: =IF(AND(T30=0.0000000001,T31=0.0000000001,T32=0.0000000001), Key!$I$29&"*",IF(AND(T30=0.0000000001,ISNUMBER(T32)),Key!$I$29&"*", Key!$I$29)) -> Pré-primaire* | U28: =IF(AND(U30=0.0000000001,U31=0.0000000001,U32=0.0000000001), Key!$I$30&"*",IF(AND(U30=0.0000000001,ISNUMBER(U32)),Key!$I$30&"*", Key!$I$30)) -> Primaire | V28: =IF(AND(V30=0.0000000001,V31=0.0000000001,V32=0.0000000001), Key!$I$31&"*",IF(AND(V30=0.0000000001,ISNUMBER(V32)),Key!$I$31&"*", Key!$I$31)) -> Secondaire
C29: =IF(ISNUMBER(Regressions!B4), Regressions!B4, "-") -> 2025 | D29: =C29 -> 2025 | E29: =D29 -> 2025 | F29: =E29 -> 2025 | G29: =F29 -> 2025 | H29: =F29 -> 2025 | J29: =IF(ISNUMBER(Regressions!K4), Regressions!K4, "-") -> 2025 | K29: =J29 -> 2025 | L29: =K29 -> 2025 | M29: =L29 -> 2025 | N29: =M29 -> 2025 | O29: =M29 -> 2025 | Q29: =IF(ISNUMBER(Regressions!T4), Regressions!T4, "-") -> 2025 | R29: =Q29 -> 2025 | S29: =R29 -> 2025 | T29: =S29 -> 2025 | U29: =T29 -> 2025 | V29: =T29 -> 2025
A30: =+Key!I46 -> Service de base | B30: Basic Service | C30: =IF(ISNUMBER(Regressions!C4), Regressions!C4, 0.0000000001) -> 61.17063 | D30: =IF(ISNUMBER(Regressions!D4), Regressions!D4, 0.0000000001) -> 1e-10 | E30: =IF(ISNUMBER(Regressions!E4), Regressions!E4, 0.0000000001) -> 1e-10 | F30: =IF(ISNUMBER(Regressions!F4), Regressions!F4, 0.0000000001) -> 1e-10 | G30: =IF(ISNUMBER(Regressions!G4), Regressions!G4, 0.0000000001) -> 61.17063 | H30: =IF(ISNUMBER(Regressions!H4), Regressions!H4, 0.0000000001) -> 1e-10 | I30: Basic Service | J30: =IF(ISNUMBER(Regressions!L4), Regressions!L4,0.0000000001) -> 31.576842 | K30: =IF(ISNUMBER(Regressions!M4), Regressions!M4,0.0000000001) -> 27.89324 | L30: =IF(ISNUMBER(Regressions!N4), Regressions!N4,0.0000000001) -> 23.474444 | M30: =IF(ISNUMBER(Regressions!O4), Regressions!O4,0.0000000001) -> 1e-10 | N30: =IF(ISNUMBER(Regressions!P4), Regressions!P4,0.0000000001) -> 30.36655 | O30: =IF(ISNUMBER(Regressions!Q4), Regressions!Q4,0.0000000001) -> 1e-10 | P30: Basic Service | Q30: =IF(ISNUMBER(Regressions!U4), Regressions!U4,0.0000000001) -> 44.258111 | R30: =IF(ISNUMBER(Regressions!V4), Regressions!V4,0.0000000001) -> 1e-10 | S30: =IF(ISNUMBER(Regressions!W4), Regressions!W4,0.0000000001) -> 1e-10 | T30: =IF(ISNUMBER(Regressions!X4), Regressions!X4,0.0000000001) -> 1e-10 | U30: =IF(ISNUMBER(Regressions!Y4), Regressions!Y4,0.0000000001) -> 46.820173 | V30: =IF(ISNUMBER(Regressions!Z4), Regressions!Z4,0.0000000001) -> 52.53668
A31: =+Key!I47 -> Service limité | B31: Limited Service | C31: =IF(ISNUMBER(Regressions!C5), Regressions!C5, 0.0000000001) -> 17.385106 | D31: =IF(ISNUMBER(Regressions!D5), Regressions!D5, 0.0000000001) -> 1e-10 | E31: =IF(ISNUMBER(Regressions!E5), Regressions!E5, 0.0000000001) -> 1e-10 | F31: =IF(ISNUMBER(Regressions!F5), Regressions!F5, 0.0000000001) -> 1e-10 | G31: =IF(ISNUMBER(Regressions!G5), Regressions!G5, 0.0000000001) -> 19.579549 | H31: =IF(ISNUMBER(Regressions!H5), Regressions!H5, 0.0000000001) -> 1e-10 | I31: Limited Service | J31: =IF(ISNUMBER(Regressions!L5), Regressions!L5,0.0000000001) -> 34.577004 | K31: =IF(ISNUMBER(Regressions!M5), Regressions!M5,0.0000000001) -> 1e-10 | L31: =IF(ISNUMBER(Regressions!N5), Regressions!N5,0.0000000001) -> 1e-10 | M31: =IF(ISNUMBER(Regressions!O5), Regressions!O5,0.0000000001) -> 1e-10 | N31: =IF(ISNUMBER(Regressions!P5), Regressions!P5,0.0000000001) -> 35.787296 | O31: =IF(ISNUMBER(Regressions!Q5), Regressions!Q5,0.0000000001) -> 1e-10 | P31: Limited Service | Q31: =IF(ISNUMBER(Regressions!U5), Regressions!U5,0.0000000001) -> 1e-10 | R31: =IF(ISNUMBER(Regressions!V5), Regressions!V5,0.0000000001) -> 1e-10 | S31: =IF(ISNUMBER(Regressions!W5), Regressions!W5,0.0000000001) -> 1e-10 | T31: =IF(ISNUMBER(Regressions!X5), Regressions!X5,0.0000000001) -> 1e-10 | U31: =IF(ISNUMBER(Regressions!Y5), Regressions!Y5,0.0000000001) -> 1e-10 | V31: =IF(ISNUMBER(Regressions!Z5), Regressions!Z5,0.0000000001) -> 1e-10
A32: =+Key!I48 -> Pas de service | B32: No Service | C32: =IF(ISNUMBER(Regressions!C6), Regressions!C6, 0.0000000001) -> 21.444264 | D32: =IF(ISNUMBER(Regressions!D6), Regressions!D6, 0.0000000001) -> 1e-10 | E32: =IF(ISNUMBER(Regressions!E6), Regressions!E6, 0.0000000001) -> 1e-10 | F32: =IF(ISNUMBER(Regressions!F6), Regressions!F6, 0.0000000001) -> 1e-10 | G32: =IF(ISNUMBER(Regressions!G6), Regressions!G6, 0.0000000001) -> 19.249821 | H32: =IF(ISNUMBER(Regressions!H6), Regressions!H6, 0.0000000001) -> 1e-10 | I32: No Service | J32: =IF(ISNUMBER(Regressions!L6), Regressions!L6,0.0000000001) -> 33.846154 | K32: =IF(ISNUMBER(Regressions!M6), Regressions!M6,0.0000000001) -> 1e-10 | L32: =IF(ISNUMBER(Regressions!N6), Regressions!N6,0.0000000001) -> 1e-10 | M32: =IF(ISNUMBER(Regressions!O6), Regressions!O6,0.0000000001) -> 1e-10 | N32: =IF(ISNUMBER(Regressions!P6), Regressions!P6,0.0000000001) -> 33.846154 | O32: =IF(ISNUMBER(Regressions!Q6), Regressions!Q6,0.0000000001) -> 1e-10 | P32: No Service | Q32: =IF(ISNUMBER(Regressions!U6), Regressions!U6,0.0000000001) -> 1e-10 | R32: =IF(ISNUMBER(Regressions!V6), Regressions!V6,0.0000000001) -> 1e-10 | S32: =IF(ISNUMBER(Regressions!W6), Regressions!W6,0.0000000001) -> 1e-10 | T32: =IF(ISNUMBER(Regressions!X6), Regressions!X6,0.0000000001) -> 1e-10 | U32: =IF(ISNUMBER(Regressions!Y6), Regressions!Y6,0.0000000001) -> 1e-10 | V32: =IF(ISNUMBER(Regressions!Z6), Regressions!Z6,0.0000000001) -> 1e-10
A33: =+Key!I49 -> Données insuffisantes | B33: Insufficient Data | C33: =IF(ISNUMBER(Regressions!C7), Regressions!C7, 0.0000000001) -> 0 | D33: =IF(ISNUMBER(Regressions!D7), Regressions!D7, 0.0000000001) -> 100 | E33: =IF(ISNUMBER(Regressions!E7), Regressions!E7, 0.0000000001) -> 100 | F33: =IF(ISNUMBER(Regressions!F7), Regressions!F7, 0.0000000001) -> 100 | G33: =IF(ISNUMBER(Regressions!G7), Regressions!G7, 0.0000000001) -> 0 | H33: =IF(ISNUMBER(Regressions!H7), Regressions!H7, 0.0000000001) -> 100 | I33: Insufficient Data | J33: =IF(ISNUMBER(Regressions!L7), Regressions!L7,0.0000000001) -> 0 | K33: =IF(ISNUMBER(Regressions!M7), Regressions!M7,0.0000000001) -> 72.10676 | L33: =IF(ISNUMBER(Regressions!N7), Regressions!N7,0.0000000001) -> 76.525556 | M33: =IF(ISNUMBER(Regressions!O7), Regressions!O7,0.0000000001) -> 100 | N33: =IF(ISNUMBER(Regressions!P7), Regressions!P7,0.0000000001) -> 0 | O33: =IF(ISNUMBER(Regressions!Q7), Regressions!Q7,0.0000000001) -> 100 | P33: Insufficient Data | Q33: =IF(ISNUMBER(Regressions!U7), Regressions!U7,0.0000000001) -> 55.741889 | R33: =IF(ISNUMBER(Regressions!V7), Regressions!V7,0.0000000001) -> 100 | S33: =IF(ISNUMBER(Regressions!W7), Regressions!W7,0.0000000001) -> 100 | T33: =IF(ISNUMBER(Regressions!X7), Regressions!X7,0.0000000001) -> 100 | U33: =IF(ISNUMBER(Regressions!Y7), Regressions!Y7,0.0000000001) -> 53.179827 | V33: =IF(ISNUMBER(Regressions!Z7), Regressions!Z7,0.0000000001) -> 47.46332
B34: =HLOOKUP(Introduction!$G$4,nametranslations,34,FALSE) -> Source : OMS/UNICEF JMP (2026)
B36: =+Key!I46 -> Service de base | C36: =+HLOOKUP(Introduction!$G$4,Key!A:G,158,FALSE) -> Eau de boisson provenant d’un point d’eau amélioré, disponible dans l’établissement scolaire au moment de l’enquête | I36: =+Key!I46 -> Service de base | J36: =+HLOOKUP(Introduction!$G$4,Key!A:G,162,FALSE) -> Installations d’assainissement améliorées non mixtes et utilisables (disponibles, fonctionnelles et privées) dans l’établissement scolaire au moment de l’enquête | P36: =+Key!I46 -> Service de base | Q36: =+HLOOKUP(Introduction!$G$4,Key!A:G,165,FALSE) -> Installations de lavage des mains disposant d’eau et de savon dans l’établissement scolaire au moment de l’enquête
B37: =+Key!I47 -> Service limité | C37: =+HLOOKUP(Introduction!$G$4,Key!A:G,159,FALSE) -> Eau de boisson provenant d’un point d’eau amélioré, mais non disponible dans l’établissement scolaire au moment de l’enquête | I37: =+Key!I47 -> Service limité | J37: =+HLOOKUP(Introduction!$G$4,Key!A:G,163,FALSE) -> Installations d’assainissement améliorées présentes, mais mixtes ou non utilisables, dans l’établissement scolaire au moment de l’enquête | P37: =+Key!I47 -> Service limité | Q37: =+HLOOKUP(Introduction!$G$4,Key!A:G,166,FALSE) -> Installations de lavage des mains disposant d’eau, mais pas de savon, dans l’établissement scolaire au moment de l’enquête
B38: =+Key!I48 -> Pas de service | C38: =+HLOOKUP(Introduction!$G$4,Key!A:G,160,FALSE) -> Eau de boisson provenant d’un point d’eau non amélioré, ou absence de point d’eau dans l’établissement scolairee | I38: =+Key!I48 -> Pas de service | J38: =+HLOOKUP(Introduction!$G$4,Key!A:G,164,FALSE) -> Installations d’assainissement non améliorées ou absence d’installations d’assainissement dans l’établissement scolaire | P38: =+Key!I48 -> Pas de service | Q38: =+HLOOKUP(Introduction!$G$4,Key!A:G,167,FALSE) -> Absence d’installations de lavage des mains ou absence d’eau dans l’établissement scolaire
B39: =+Key!I49 -> Données insuffisantes | C39: =+HLOOKUP(Introduction!$G$4,Key!A:G,161,FALSE) -> Données disponibles insuffisantes pour générer des estimations pour une année de référence donnée | I39: =+Key!I49 -> Données insuffisantes | J39: =+HLOOKUP(Introduction!$G$4,Key!A:G,161,FALSE) -> Données disponibles insuffisantes pour générer des estimations pour une année de référence donnée | P39: =+Key!I49 -> Données insuffisantes | Q39: =+HLOOKUP(Introduction!$G$4,Key!A:G,161,FALSE) -> Données disponibles insuffisantes pour générer des estimations pour une année de référence donnée

Sheet Charts
A2: =HLOOKUP(Introduction!$G$4,nametranslations,38,FALSE) -> Services d'eau, d'assainissement et d'hygiène en milieu scolaire
A23: =+HLOOKUP(Introduction!$G$4,nametranslations,34,FALSE) -> Source : OMS/UNICEF JMP (2026)
A44: =+HLOOKUP(Introduction!$G$4,nametranslations,34,FALSE) -> Source : OMS/UNICEF JMP (2026)
A65: =+HLOOKUP(Introduction!$G$4,nametranslations,34,FALSE) -> Source : OMS/UNICEF JMP (2026)

Sheet Chart Data
A1: =HLOOKUP(Introduction!$G$4,nametranslations,83,FALSE) -> Synthèse des données des enquêtes et recensements nationaux
D2: =HLOOKUP(Introduction!$G$4,nametranslations,85,FALSE) -> Eau de boisson | V2: =HLOOKUP(Introduction!$G$4,nametranslations,86,FALSE) -> Assainissement | AZ2: =HLOOKUP(Introduction!$G$4,nametranslations,87,FALSE) -> Hygiène
D3: =+Key!$A$24 -> Total | G3: =+Key!$A$26 -> Urban | J3: =+Key!$A$25 -> Rural | M3: =+Key!$A$27 -> Pre-primary | P3: =+Key!$A$28 -> Primary | S3: =+Key!$A$29 -> Secondary | V3: =+Key!$A$24 -> Total | Y3: =+Key!$A$26 -> Urban | AB3: =+Key!$A$25 -> Rural | AE3: =+Key!$A$27 -> Pre-primary | AH3: =+Key!$A$28 -> Primary | AK3: =+Key!$A$29 -> Secondary | AP3: Primary | AU3: Secondary | AZ3: =+Key!$A$24 -> Total | BC3: =+Key!$A$26 -> Urban | BF3: =+Key!$A$25 -> Rural | BI3: =+Key!$A$27 -> Pre-primary | BL3: =+Key!$A$28 -> Primary | BO3: =+Key!$A$29 -> Secondary
A4: Source | B4: =HLOOKUP(Introduction!$G$4,nametranslations,88,FALSE) -> Type de source de données | C4: Year | D4: Facility | E4: Improved | F4: Basic (Improved & available) | G4: Facility | H4: Improved | I4: Basic (Improved & available) | J4: Facility | K4: Improved | L4: Basic (Improved & available) | M4: Facility | N4: Improved | O4: Basic (Improved & available) | P4: Facility | Q4: Improved | R4: Basic (Improved & available) | S4: Facility | T4: Improved | U4: Basic (Improved & available) | V4: Facility | W4: Improved | X4: Improved & usable | Y4: Improved & single-sex | Z4: Basic (Improved, usable & single-sex) | AA4: Facility | AB4: Improved | AC4: Improved & usable | AD4: Improved & single-sex | AE4: Basic (Improved, usable & single-sex) | AF4: Facility | AG4: Improved | AH4: Improved & usable | AI4: Improved & single-sex | AJ4: Basic (Improved, usable & single-sex) | AK4: Facility | AL4: Improved | AM4: Improved & usable | AN4: Improved & single-sex | AO4: Basic (Improved, usable & single-sex) | AP4: Facility | AQ4: Improved | AR4: Improved & usable | AS4: Improved & single-sex | AT4: Basic (Improved, usable & single-sex) | AU4: Facility | AV4: Improved | AW4: Improved & usable | AX4: Improved & single-sex | AY4: Basic (Improved, usable & single-sex) | AZ4: Facility | BA4: Facility with water | BB4: Facility with water & soap | BC4: Facility | BD4: Facility with water | BE4: Facility with water & soap | BF4: Facility | BG4: Facility with water | BH4: Facility with water & soap | BI4: Facility | BJ4: Facility with water | BK4: Facility with water & soap | BL4: Facility | BM4: Facility with water | BN4: Facility with water & soap | BO4: Facility | BP4: Facility with water | BQ4: Facility with water & soap
A5: source | B5: type | C5: year | D5: w_fac_n | E5: w_imp_n | F5: w_bas_n | G5: w_fac_u | H5: w_imp_u | I5: w_bas_u | J5: w_fac_r | K5: w_imp_r | L5: w_bas_r | M5: w_fac_pp | N5: w_imp_pp | O5: w_bas_pp | P5: w_fac_p | Q5: w_imp_p | R5: w_bas_p | S5: w_fac_s | T5: w_imp_s | U5: w_bas_s | V5: s_fac_n | W5: s_imp_n | X5: s_ss_n | Y5: s_us_n | Z5: s_bas_n | AA5: s_fac_u | AB5: s_imp_u | AC5: s_ss_u | AD5: s_us_u | AE5: s_bas_u | AF5: s_fac_r | AG5: s_imp_r | AH5: s_ss_r | AI5: s_us_r | AJ5: s_bas_r | AK5: s_fac_pp | AL5: s_imp_pp | AM5: s_ss_pp | AN5: s_us_pp | AO5: s_bas_pp | AP5: s_fac_p | AQ5: s_imp_p | AR5: s_ss_p | AS5: s_us_p | AT5: s_bas_p | AU5: s_fac_s | AV5: s_imp_s | AW5: s_ss_s | AX5: s_us_s | AY5: s_bas_s | AZ5: h_fac_n | BA5: h_wat_n | BB5: h_bas_n | BC5: h_fac_u | BD5: h_wat_u | BE5: h_bas_u | BF5: h_fac_r | BG5: h_wat_r | BH5: h_bas_r | BI5: h_fac_pp | BJ5: h_wat_pp | BK5: h_bas_pp | BL5: h_fac_p | BM5: h_wat_p | BN5: h_bas_p | BO5: h_fac_s | BP5: h_wat_s | BQ5: h_bas_s
A6: =+RIGHT('Data Summary'!A6,LEN('Data Summary'!A6)-9) -> EMIS | B6: =+IF(ISTEXT('Data Summary'!B6),'Data Summary'!B6,"") -> EMIS | C6: =+VALUE('Data Summary'!C6) -> 2006 | D6: =+IF(AND(ISNUMBER('Water Data'!D4),'Data Summary'!BS6="Yes"),100-'Water Data'!D4,NA()) -> #N/A | E6: =+IF(AND(ISNUMBER('Water Data'!D6),'Data Summary'!BT6="Yes"),'Water Data'!D6,NA()) -> #N/A | F6: =+IF(AND(ISNUMBER('Water Data'!D9),'Data Summary'!BU6="Yes"),'Water Data'!D9,NA()) -> #N/A | G6: =+IF(AND(ISNUMBER('Water Data'!E4),'Data Summary'!BV6="Yes"),100-'Water Data'!E4,NA()) -> #N/A | H6: =+IF(AND(ISNUMBER('Water Data'!E6),'Data Summary'!BW6="Yes"),'Water Data'!E6,NA()) -> #N/A | I6: =+IF(AND(ISNUMBER('Water Data'!E9),'Data Summary'!BX6="Yes"),'Water Data'!E9,NA()) -> #N/A | J6: =+IF(AND(ISNUMBER('Water Data'!F4),'Data Summary'!BY6="Yes"),100-'Water Data'!F4,NA()) -> #N/A | K6: =+IF(AND(ISNUMBER('Water Data'!F6),'Data Summary'!BZ6="Yes"),'Water Data'!F6,NA()) -> #N/A | L6: =+IF(AND(ISNUMBER('Water Data'!F9),'Data Summary'!CA6="Yes"),'Water Data'!F9,NA()) -> #N/A | M6: =+IF(AND(ISNUMBER('Water Data'!G4),'Data Summary'!CB6="Yes"),100-'Water Data'!G4,NA()) -> #N/A | N6: =+IF(AND(ISNUMBER('Water Data'!G6),'Data Summary'!CC6="Yes"),'Water Data'!G6,NA()) -> #N/A | O6: =+IF(AND(ISNUMBER('Water Data'!G9),'Data Summary'!CD6="Yes"),'Water Data'!G9,NA()) -> #N/A | P6: =+IF(AND(ISNUMBER('Water Data'!H4),'Data Summary'!CE6="Yes"),100-'Water Data'!H4,NA()) -> #N/A | Q6: =+IF(AND(ISNUMBER('Water Data'!H6),'Data Summary'!CF6="Yes"),'Water Data'!H6,NA()) -> #N/A | R6: =+IF(AND(ISNUMBER('Water Data'!H9),'Data Summary'!CG6="Yes"),'Water Data'!H9,NA()) -> #N/A | S6: =+IF(AND(ISNUMBER('Water Data'!I4),'Data Summary'!CH6="Yes"),100-'Water Data'!I4,NA()) -> #N/A | T6: =+IF(AND(ISNUMBER('Water Data'!I6),'Data Summary'!CI6="Yes"),'Water Data'!I6,NA()) -> #N/A | U6: =+IF(AND(ISNUMBER('Water Data'!I9),'Data Summary'!CJ6="Yes"),'Water Data'!I9,NA()) -> #N/A | V6: =+IF(AND(ISNUMBER('Sanitation Data'!D4),'Data Summary'!CK6="Yes"),100-'Sanitation Data'!D4,NA()) -> #N/A | W6: =+IF(AND(ISNUMBER('Sanitation Data'!D6),'Data Summary'!CL6="Yes"),'Sanitation Data'!D6,NA()) -> #N/A | X6: =+IF(AND(ISNUMBER('Sanitation Data'!D10),'Data Summary'!CM6="Yes"),'Sanitation Data'!D10,NA()) -> #N/A | Y6: =+IF(AND(ISNUMBER('Sanitation Data'!D11),'Data Summary'!CN6="Yes"),'Sanitation Data'!D11,NA()) -> #N/A | Z6: =+IF(AND(ISNUMBER('Sanitation Data'!D12),'Data Summary'!CO6="Yes"),'Sanitation Data'!D12,NA()) -> #N/A | AA6: =+IF(AND(ISNUMBER('Sanitation Data'!E4),'Data Summary'!CP6="Yes"),100-'Sanitation Data'!E4,NA()) -> #N/A | AB6: =+IF(AND(ISNUMBER('Sanitation Data'!E6),'Data Summary'!CQ6="Yes"),'Sanitation Data'!E6,NA()) -> #N/A | AC6: =+IF(AND(ISNUMBER('Sanitation Data'!E10),'Data Summary'!CR6="Yes"),'Sanitation Data'!E10,NA()) -> #N/A | AD6: =+IF(AND(ISNUMBER('Sanitation Data'!E11),'Data Summary'!CS6="Yes"),'Sanitation Data'!E11,NA()) -> #N/A | AE6: =+IF(AND(ISNUMBER('Sanitation Data'!E12),'Data Summary'!CT6="Yes"),'Sanitation Data'!E12,NA()) -> #N/A | AF6: =+IF(AND(ISNUMBER('Sanitation Data'!F4),'Data Summary'!CU6="Yes"),100-'Sanitation Data'!F4,NA()) -> #N/A | AG6: =+IF(AND(ISNUMBER('Sanitation Data'!F6),'Data Summary'!CV6="Yes"),'Sanitation Data'!F6,NA()) -> #N/A | AH6: =+IF(AND(ISNUMBER('Sanitation Data'!F10),'Data Summary'!CW6="Yes"),'Sanitation Data'!F10,NA()) -> #N/A | AI6: =+IF(AND(ISNUMBER('Sanitation Data'!F11),'Data Summary'!CX6="Yes"),'Sanitation Data'!F11,NA()) -> #N/A | AJ6: =+IF(AND(ISNUMBER('Sanitation Data'!F12),'Data Summary'!CY6="Yes"),'Sanitation Data'!F12,NA()) -> #N/A | AK6: =+IF(AND(ISNUMBER('Sanitation Data'!G4),'Data Summary'!CZ6="Yes"),100-'Sanitation Data'!G4,NA()) -> #N/A | AL6: =+IF(AND(ISNUMBER('Sanitation Data'!G6),'Data Summary'!DA6="Yes"),'Sanitation Data'!G6,NA()) -> #N/A | AM6: =+IF(AND(ISNUMBER('Sanitation Data'!G10),'Data Summary'!DB6="Yes"),'Sanitation Data'!G10,NA()) -> #N/A | AN6: =+IF(AND(ISNUMBER('Sanitation Data'!G11),'Data Summary'!DC6="Yes"),'Sanitation Data'!G11,NA()) -> #N/A | AO6: =+IF(AND(ISNUMBER('Sanitation Data'!G12),'Data Summary'!DD6="Yes"),'Sanitation Data'!G12,NA()) -> #N/A | AP6: =+IF(AND(ISNUMBER('Sanitation Data'!H4),'Data Summary'!DE6="Yes"),100-'Sanitation Data'!H4,NA()) -> #N/A | AQ6: =+IF(AND(ISNUMBER('Sanitation Data'!H6),'Data Summary'!DF6="Yes"),'Sanitation Data'!H6,NA()) -> #N/A | AR6: =+IF(AND(ISNUMBER('Sanitation Data'!H10),'Data Summary'!DG6="Yes"),'Sanitation Data'!H10,NA()) -> #N/A | AS6: =+IF(AND(ISNUMBER('Sanitation Data'!H11),'Data Summary'!DH6="Yes"),'Sanitation Data'!H11,NA()) -> #N/A | AT6: =+IF(AND(ISNUMBER('Sanitation Data'!H12),'Data Summary'!DI6="Yes"),'Sanitation Data'!H12,NA()) -> #N/A | AU6: =+IF(AND(ISNUMBER('Sanitation Data'!I4),'Data Summary'!DJ6="Yes"),100-'Sanitation Data'!I4,NA()) -> #N/A | AV6: =+IF(AND(ISNUMBER('Sanitation Data'!I6),'Data Summary'!DK6="Yes"),'Sanitation Data'!I6,NA()) -> #N/A | AW6: =+IF(AND(ISNUMBER('Sanitation Data'!I10),'Data Summary'!DL6="Yes"),'Sanitation Data'!I10,NA()) -> #N/A | AX6: =+IF(AND(ISNUMBER('Sanitation Data'!I11),'Data Summary'!DM6="Yes"),'Sanitation Data'!I11,NA()) -> #N/A | AY6: =+IF(AND(ISNUMBER('Sanitation Data'!I12),'Data Summary'!DN6="Yes"),'Sanitation Data'!I12,NA()) -> #N/A | AZ6: =+IF(AND(ISNUMBER('Hygiene Data'!D5),'Data Summary'!DO6="Yes"),'Hygiene Data'!D5,NA()) -> #N/A | BA6: =+IF(AND(ISNUMBER('Hygiene Data'!D7),'Data Summary'!DP6="Yes"),'Hygiene Data'!D7,NA()) -> #N/A | BB6: =+IF(AND(ISNUMBER('Hygiene Data'!D9),'Data Summary'!DQ6="Yes"),'Hygiene Data'!D9,NA()) -> #N/A | BC6: =+IF(AND(ISNUMBER('Hygiene Data'!E5),'Data Summary'!DR6="Yes"),'Hygiene Data'!E5,NA()) -> #N/A | BD6: =+IF(AND(ISNUMBER('Hygiene Data'!E7),'Data Summary'!DS6="Yes"),'Hygiene Data'!E7,NA()) -> #N/A | BE6: =+IF(AND(ISNUMBER('Hygiene Data'!E9),'Data Summary'!DT6="Yes"),'Hygiene Data'!E9,NA()) -> #N/A | BF6: =+IF(AND(ISNUMBER('Hygiene Data'!F5),'Data Summary'!DU6="Yes"),'Hygiene Data'!F5,NA()) -> #N/A | BG6: =+IF(AND(ISNUMBER('Hygiene Data'!F7),'Data Summary'!DV6="Yes"),'Hygiene Data'!F7,NA()) -> #N/A | BH6: =+IF(AND(ISNUMBER('Hygiene Data'!F9),'Data Summary'!DW6="Yes"),'Hygiene Data'!F9,NA()) -> #N/A | BI6: =+IF(AND(ISNUMBER('Hygiene Data'!G5),'Data Summary'!DX6="Yes"),'Hygiene Data'!G5,NA()) -> #N/A | BJ6: =+IF(AND(ISNUMBER('Hygiene Data'!G7),'Data Summary'!DY6="Yes"),'Hygiene Data'!G7,NA()) -> #N/A | BK6: =+IF(AND(ISNUMBER('Hygiene Data'!G9),'Data Summary'!DZ6="Yes"),'Hygiene Data'!G9,NA()) -> #N/A | BL6: =+IF(AND(ISNUMBER('Hygiene Data'!H5),'Data Summary'!EA6="Yes"),'Hygiene Data'!H5,NA()) -> #N/A | BM6: =+IF(AND(ISNUMBER('Hygiene Data'!H7),'Data Summary'!EB6="Yes"),'Hygiene Data'!H7,NA()) -> #N/A | BN6: =+IF(AND(ISNUMBER('Hygiene Data'!H9),'Data Summary'!EC6="Yes"),'Hygiene Data'!H9,NA()) -> #N/A | BO6: =+IF(AND(ISNUMBER('Hygiene Data'!I5),'Data Summary'!ED6="Yes"),'Hygiene Data'!I5,NA()) -> #N/A | BP6: =+IF(AND(ISNUMBER('Hygiene Data'!I7),'Data Summary'!EE6="Yes"),'Hygiene Data'!I7,NA()) -> #N/A | BQ6: =+IF(AND(ISNUMBER('Hygiene Data'!I9),'Data Summary'!EF6="Yes"),'Hygiene Data'!I9,NA()) -> #N/A
