Workbook
Name ISO3language: [1]Key!$T:$U
Name ISO3language: [1]Key!$T:$U
Name ISO3language: Key!$T:$U
Name myrangeH0: 'Hygiene Data'!$B$1:$K$2
Name myrangeH1: 'Hygiene Data'!$L$1:$U$2
Name myrangeH10: 'Hygiene Data'!$CX$1:$DG$2
Name myrangeH11: 'Hygiene Data'!$CX$1:$DE$3
Name myrangeH2: 'Hygiene Data'!$V$1:$AE$2
Name myrangeH3: 'Hygiene Data'!$AF$1:$AO$2
Name myrangeH4: 'Hygiene Data'!$AP$1:$AY$2
Name myrangeH5: 'Hygiene Data'!$AZ$1:$BI$2
Name myrangeH6: 'Hygiene Data'!$BJ$1:$BS$2
Name myrangeH7: 'Hygiene Data'!$BT$1:$CC$2
Name myrangeH8: 'Hygiene Data'!$CD$1:$CM$2
Name myrangeH9: 'Hygiene Data'!$CN$1:$CW$2
Name myrangeS0: 'Sanitation Data'!$B$1:$K$2
Name myrangeS1: 'Sanitation Data'!$L$1:$U$2
Name myrangeS10: 'Sanitation Data'!$CX$1:$DG$2
Name myrangeS11: 'Sanitation Data'!$CX$1:$DE$3
Name myrangeS2: 'Sanitation Data'!$V$1:$AE$2
Name myrangeS3: 'Sanitation Data'!$AF$1:$AO$2
Name myrangeS4: 'Sanitation Data'!$AP$1:$AY$2
Name myrangeS5: 'Sanitation Data'!$AZ$1:$BI$2
Name myrangeS6: 'Sanitation Data'!$BJ$1:$BS$2
Name myrangeS7: 'Sanitation Data'!$BT$1:$CC$2
Name myrangeS8: 'Sanitation Data'!$CD$1:$CM$2
Name myrangeS9: 'Sanitation Data'!$CN$1:$CW$2
Name myrangeW0: 'Water Data'!$B$1:$K$2
Name myrangeW1: 'Water Data'!$L$1:$U$2
Name myrangeW10: 'Water Data'!$CX$1:$DG$2
Name myrangew11: 'Water Data'!$CX$1:$DE$3
Name myrangeW2: 'Water Data'!$V$1:$AE$2
Name myrangeW3: 'Water Data'!$AF$1:$AO$2
Name myrangeW4: 'Water Data'!$AP$1:$AY$2
Name myrangeW5: 'Water Data'!$AZ$1:$BI$2
Name myrangeW6: 'Water Data'!$BJ$1:$BS$2
Name myrangeW7: 'Water Data'!$BT$1:$CC$2
Name myrangeW8: 'Water Data'!$CD$1:$CM$2
Name myrangeW9: 'Water Data'!$CN$1:$CW$2
Name nametranslations: [1]Key!$A:$G
Name nametranslations: [1]Key!$A:$G
Name nametranslations: Key!$A:$G
Name RURAL_SANITATION: #REF!
Name RURAL_SANITATION: #REF!
Name RURAL_SANITATION: #REF!
Name RURAL_WATER: #REF!
Name RURAL_WATER: #REF!
Name translationcountries: [1]Key!$M:$U
Name translationcountries: [1]Key!$M:$U
Name translationcountries: Key!$M:$U

Sheet Key
A1: English | B1: Spanish | C1: French | D1: Russian | E1: Arabic | F1: Other | I1: Language | L1: ISO3 | M1: name | N1: name_FR | O1: name_ES | P1: name_RU | Q1: name_AR | R1: name_CH | S1: name_other | T1: ISO3 | U1: Language
A2: Introduction tab glossary | I2: English | L2: ABW | M2: Aruba | N2: Aruba | O2: Aruba | P2: Аруба | Q2: أروبا | T2: ABW | U2: English
A3: Joint Monitoring Programme for Water Supply, Sanitation and Hygiene | B3: Programa Conjunto OMS/UNICEF de Monitoreo del Abastecimiento del Agua, el Saneamiento y la Higiene | C3: Programme commun OMS/UNICEF de suivi de l’approvisionnement en eau, de l’assainissement et de l’hygiène | D3: Совместная программа по мониторингу водоснабжения, санитарии и гигиены (СПМ) | E3: برنامج الرصد المشترك بين منظمة الصحة العالمية واليونيسف إلمدادات المياه والمرافق الصحي | I3: Spanish | L3: AFG | M3: Afghanistan | N3: Afghanistan | O3: Afganistán | P3: Афганистан | Q3: أفغانستان | T3: AFG | U3: English | W3: Introduction!G4 | X3: VLOOKUP(Introduction!$G$8,ISO3language,2,FALSE)
A4: Estimates on water, sanitation, hygiene in schools | B4: Estimaciones sobre servicios de agua, saneamiento, higiene en las escuelas | C4: Estimations sur l'eau, l'assainissement, l'hygiène en milieu scolaire | D4: Расчётные оценки услуг водоснабжения, санитарии, обеспечения средствами гигиены в школах | E4: التقديرات لتقدم في خدمات مياه الشرب والصرف الصحي والنظافة الصحية في المدارس | I4: French | L4: AGO | M4: Angola | N4: Angola | O4: Angola | P4: Ангола | Q4: أنغولا | T4: AGO | U4: French
A5: =+Introduction!C7 -> Madagascar | B5: =VLOOKUP($A$5,translationcountries,3,FALSE) -> Madagascar | C5: =VLOOKUP($A$5,translationcountries,2,FALSE) -> Madagascar | D5: =VLOOKUP($A$5,translationcountries,4,FALSE) -> Мадагаскар | E5: =VLOOKUP($A$5,translationcountries,5,FALSE) -> مدغشقر | F5: =VLOOKUP($A$5,translationcountries,6,FALSE) -> 0 | I5: Russian | L5: AIA | M5: Anguilla | N5: Anguilla | O5: Anguila | P5: Ангилья | Q5: أنغويلا | T5: AIA | U5: English
A6: Updated September 2026 | B6: Actualizado en septiembre de 2026 | C6: Mis à jour en septembre 2026 | D6: Обновлено в сентябре 2026 года | E6: تم التحديث في سبتمبر 2026 | I6: Arabic | L6: ALA | M6: Åland Islands | N6: Îles d’Åland | O6: Islas Åland | P6: Аландских островов | Q6: جزر ألاند | T6: ALA | U6: English
A7: Follow the links below to find the following information: | B7: Siga los enlaces a continuación para encontrar la siguiente información: | C7: Suivez les liens ci-dessous pour trouver les informations suivantes : | D7: Для нахождения следующей информации используйте указанные ниже ссылки: | E7: اتبع الروابط أدناه للعثور على المعلومات التالية: | I7: Other | L7: ALB | M7: Albania | N7: Albanie | O7: Albania | P7: Албания | Q7: ألبانيا | T7: ALB | U7: English | X7: {=CELL("filename")} -> C:\Users\johnstonr\WHOUNICEF Dropbox\WHOUNICEF Team Folder\Schools\2026 Report\Country files\Country files multilingual\Country files v09\[JMP_2026_WinS_MDG_Madagascar.xlsx]Introduction
A8: JMP Estimates: | B8: Estimaciones de JMP: | C8: Estimations JMP : | D8: Расчётные оценки СПМ: | E8: تقديرات JMP: | L8: AND | M8: Andorra | N8: Andorre | O8: Andorra | P8: Андорра | Q8: أندورا | T8: AND | U8: French | X8: =IFERROR(MID(X7,FIND(CHAR(1),SUBSTITUTE(X7,"\",CHAR(1),LEN(X7)-LEN(SUBSTITUTE(X7,"\",""))))+1,FIND(CHAR(1),SUBSTITUTE(X7,".",CHAR(1),LEN(X7)-LEN(SUBSTITUTE(X7,".",""))))-FIND(CHAR(1),SUBSTITUTE(X7,"\",CHAR(1),LEN(X7)-LEN(SUBSTITUTE(X7,"\",""))))-1),"") -> [JMP_2026_WinS_MDG_Madagascar
A9: WASH ladders for schools | B9: Escaleras WASH para las escuelas | C9: Échelles WASH en milieu scolaire | D9: Иерархические лестницы услуг WASH для школ | E9: سلالم المياه والصرف الصحي للمدارس | L9: ARE | M9: United Arab Emirates | N9: Émirats arabes unis | O9: Emiratos Árabes Unidos | P9: Объединенные Арабские Эмираты | Q9: الإمارات العربية المتحدة | T9: ARE | U9: Arabic | X9: Template
A10: Trends in basic WASH in schools | B10: Tendencias en WASH básico en las escuelas | C10: Tendances : services de base WASH en milieu scolaire | D10: Тенденции в базовых уровнях WASH в школах | E10: الاتجاهات الأساسية في مجال المياه والصرف الصحي والنظافة الصحية في المدارس | I10: Buttons | L10: ARG | M10: Argentina | N10: Argentine | O10: Argentina | P10: Аргентина | Q10: الأرجنتين | T10: ARG | U10: Spanish | W10: countryname | X10: IF($G$4="English",VLOOKUP($G$8,Key!$L$2:$S$247,2,FALSE),IF($G$4="Spanish",VLOOKUP($G$8,Key!$L$2:$S$247,4,FALSE),IF($G$4="French",VLOOKUP($G$8,Key!$L$2:$S$247,3,FALSE),IF($G$4="Russian",VLOOKUP($G$8,Key!$L$2:$S$247,5,FALSE),IF($G$4="Arabic",VLOOKUP($G$8,Key!$L$2:$S$247,5,FALSE),IF($G$4="Chinese",VLOOKUP($G$8,Key!$L$2:$S$247,6,FALSE),IF($G$4="Other",VLOOKUP($G$8,Key!$L$2:$S$247,7,FALSE))))))))
A11: Estimates (2000-2025) for schools | B11: Estimaciones (2000-2025) para las escuelas | C11: Estimations (2000-2025) en milieu scolaire | D11: Расчётные оценки (2000-2025 гг.) для школ | E11: تقديرات (2000 - 2025) للمدارس | I11: =HLOOKUP(Introduction!$G$4,nametranslations,18,FALSE) -> Notes sur la façon de lire le fichier pays | L11: ARM | M11: Armenia | N11: Arménie | O11: Armenia | P11: Армения | Q11: أرمينيا | T11: ARM | U11: English
A12: Data inputs: | B12: Entradas de datos: | C12: Entrées de données : | D12: Наборы входных данных: | E12: مدخلات البيانات: | I12: =HLOOKUP(Introduction!$G$4,nametranslations,24,FALSE) -> Total | L12: ASM | M12: American Samoa | N12: Samoa américaines | O12: Samoa Americana | P12: Американское Самоа | Q12: ساموا الأمريكية | T12: ASM | U12: English | W12: iso3 | X12: MID(A2,A3+1,3) | Z12: where A2=cell("filename") | AC12: A3=FIND("~",SUBSTITUTE(A2,"_","~",3)) | AH12: {=MID(CELL("filename"),FIND("~",SUBSTITUTE(CELL("filename"),"_","~",3))+1,3)} -> MDG
A13: Data summary | B13: Resumen de datos | C13: Résumé des données | D13: Перечень данных | E13: ملخص البيانات | I13: =HLOOKUP(Introduction!$G$4,nametranslations,25,FALSE) -> Rural | L13: ATF | M13: French Southern Territories | N13: Terres australes françaises | O13: Territorio de las Tierras Australes Francesas | P13: Южные земли (французская заморская территория) | Q13: الأراضي الفرنسية الجنوبية الجنوبية | T13: ATF | U13: French
A14: Water Data | B14: Datos de agua | C14: Données sur l'eau | D14: Данные о водоснабжении | E14: بيانات المياه | I14: =HLOOKUP(Introduction!$G$4,nametranslations,26,FALSE) -> Urbain | L14: ATG | M14: Antigua and Barbuda | N14: Antigua-et-Barbuda | O14: Antigua y Barbuda | P14: Антигуа и Барбуда | Q14: أنتيغوا وبربودا | T14: ATG | U14: English
A15: Sanitation Data | B15: Datos de saneamiento | C15: Données sur l'assainissement | D15: Данные о санитарии | E15: بيانات الصرف الصحي | I15: =HLOOKUP(Introduction!$G$4,nametranslations,27,FALSE) -> Pré-primaire | L15: AUS | M15: Australia | N15: Australie | O15: Australia | P15: Австралия | Q15: أستراليا | T15: AUS | U15: English
A16: Hygiene Data | B16: Datos de higiene | C16: Données sur l'hygiène | D16: Данные о средствах гигиены | E16: بيانات النظافة | I16: =HLOOKUP(Introduction!$G$4,nametranslations,28,FALSE) -> Primaire | L16: AUT | M16: Austria | N16: Autriche | O16: Austria | P16: Австрия | Q16: النمسا | T16: AUT | U16: English
A17: Population Data | B17: Datos de población | C17: Données démographiques | D17: Данные о численности населения | E17: بيانات السكان | I17: =HLOOKUP(Introduction!$G$4,nametranslations,29,FALSE) -> Secondaire | L17: AZE | M17: Azerbaijan | N17: Azerbaïdjan | O17: Azerbaiyán | P17: Азербайджан | Q17: أذربيجان | T17: AZE | U17: English
A18: Notes on how to read the country file | B18: Notas sobre cómo leer el archivo de país | C18: Notes sur la façon de lire le fichier pays | D18: Заметки о том, как читать страновой файл | E18: ملاحظات حول كيفية قراءة ملف الدولة | L18: BDI | M18: Burundi | N18: Burundi | O18: Burundi | P18: Бурунди | Q18: بوروندي | T18: BDI | U18: French
A19: Ladders tab glossary (if not already translated above) | L19: BEL | M19: Belgium | N19: Belgique | O19: Bélgica | P19: Бельгия | Q19: بلجيكا | T19: BEL | U19: French
A20: Water, sanitation and hygiene ladders for schools | B20: Escaleras de agua, saneamiento e higiene para las escuelas | C20: Echelles d'eau, d'assainissement et d'hygiène en milieu scolaire | D20: Иерархические лестницы услуг водоснабжения и санитарии и обеспеченности средствами гигиены для школ | E20: سلالم المياه والصرف الصحي والنظافة للمدارس | L20: BEN | M20: Benin | N20: Bénin | O20: Benin | P20: Бенин | Q20: بنن | T20: BEN | U20: French
A21: Water | B21: Agua | C21: Eau | D21: Водоснабжение | E21: ماء | L21: BES | M21: Bonaire, Sint Eustatius and Saba | N21: Bonaire, Saint-Eustache et Saba | O21: Bonaire, San Eustaquio y Saba | P21: Бонайре, Синт-Эстатиус и Саба | Q21: بونير وسانت يوستاشيوس وسابا | T21: BES | U21: English
A22: Sanitation | B22: Saneamiento | C22: Assainissement | D22: Санитария | E22: الصرف الصحي | L22: BFA | M22: Burkina Faso | N22: Burkina Faso | O22: Burkina Faso | P22: Буркина-Фасо | Q22: بوركينا فاسو | T22: BFA | U22: French
A23: Hygiene | B23: Higiene | C23: Hygiène | D23: Гигиена | E23: صحة | L23: BGD | M23: Bangladesh | N23: Bangladesh | O23: Bangladesh | P23: Бангладеш | Q23: بنغلاديش | T23: BGD | U23: English
A24: Total | B24: Total | C24: Total | D24: Во всей стране | E24: المجموع | I24: Chart titles/ladders | L24: BGR | M24: Bulgaria | N24: Bulgarie | O24: Bulgaria | P24: Болгария | Q24: بلغاريا | T24: BGR | U24: English
A25: Rural | B25: Rural | C25: Rural | D25: Сельские | E25: ريفي | I25: =HLOOKUP(Introduction!$G$4,nametranslations,36,FALSE) -> Proportion des écoles (%) | L25: BHR | M25: Bahrain | N25: Bahreïn | O25: Bahrein | P25: Бахрейн | Q25: البحرين | T25: BHR | U25: Arabic
A26: Urban | B26: Urbano | C26: Urbain | D26: Городские | E26: الحضاري | I26: Total | L26: BHS | M26: Bahamas | N26: Bahamas | O26: Bahamas | P26: Багамские Острова | Q26: جزر البهاما | T26: BHS | U26: English
A27: Pre-primary | B27: Preprimaria | C27: Pré-primaire | D27: Дошкольные учреждения | E27: المرحلة الابتدائية | I27: =HLOOKUP(Introduction!$G$4,nametranslations,25,FALSE) -> Rural | L27: BIH | M27: Bosnia and Herzegovina | N27: Bosnie-Herzégovine | O27: Bosnia y Herzegovina | P27: Босния и Герцеговина | Q27: البوسنة والهرسك | T27: BIH | U27: English
A28: Primary | B28: Primaria | C28: Primaire | D28: Начальные | E28: خبرات | I28: =HLOOKUP(Introduction!$G$4,nametranslations,26,FALSE) -> Urbain | L28: BLM | M28: Saint Barthélemy | N28: Saint-Barthélemy | O28: San Barthélemy | P28: Сен-Бартелеми | Q28: سان بارتليمي | T28: BLM | U28: French
A29: Secondary | B29: Secundaria | C29: Secondaire | D29: Средние | E29: ثانوي | I29: =HLOOKUP(Introduction!$G$4,nametranslations,27,FALSE) -> Pré-primaire | L29: BLR | M29: Belarus | N29: Bélarus | O29: Belarús | P29: Беларусь | Q29: بيلاروس | T29: BLR | U29: English
A30: Basic service | B30: Servicio básico | C30: Service de base | D30: Базовый уровень услуг | E30: الخدمة الأساسية | I30: =HLOOKUP(Introduction!$G$4,nametranslations,28,FALSE) -> Primaire | L30: BLZ | M30: Belize | N30: Belize | O30: Belice | P30: Белиз | Q30: بليز | T30: BLZ | U30: English
A31: Limited service | B31: Servicio limitado | C31: Service limité | D31: Ограниченный уровень | E31: خدمة محدودة | I31: =HLOOKUP(Introduction!$G$4,nametranslations,29,FALSE) -> Secondaire | L31: BMU | M31: Bermuda | N31: Bermudes | O31: Bermuda | P31: Бермудские острова | Q31: برمودا | T31: BMU | U31: English
A32: No service | B32: Sin servicio | C32: Pas de service | D32: Отсутствие услуг | E32: لاتوجد خدمة | L32: BOL | M32: Bolivia (Plurinational State of) | N32: Bolivie (État plurinational de) | O32: Bolivia (Estado Plurinacional de) | P32: Боливия (Многонациональное Государство) | Q32: بوليفيا (دولة - المتعددة القوميات) | T32: BOL | U32: Spanish
A33: Insufficient data | B33: Datos insuficientes | C33: Données insuffisantes | D33: Недостаточно данных | E33: البيانات غير كافية | L33: BRA | M33: Brazil | N33: Brésil | O33: Brasil | P33: Бразилия | Q33: البرازيل | T33: BRA | U33: English
A34: Source: WHO/UNICEF JMP (2026) | B34: Fuente: OMS/UNICEF JMP (2026) | C34: Source : OMS/UNICEF JMP (2026) | D34: Источник: СПМ ВОЗ/ЮНИСЕФ (2026 г.) | E34: المصدر: WHO/UNICEF JMP (2024) | L34: BRB | M34: Barbados | N34: Barbade | O34: Barbados | P34: Барбадос | Q34: بربادوس | T34: BRB | U34: English
A35: No basic service estimate available | B35: No hay estimaciones de servicio básico disponible | C35: Aucune estimation de service de base disponible | D35: Оценок базового уровня услуг нет | E35: لا يتوفر تقدير الخدمة الأساسية | L35: BRN | M35: Brunei Darussalam | N35: Brunéi Darussalam | O35: Brunei Darussalam | P35: Бруней-Даруссалам | Q35: بروني دار السلام | T35: BRN | U35: English
A36: Proportion of Schools (%) | B36: Proporción de escuelas (%) | C36: Proportion des écoles (%) | D36: Доля школ (%) | E36: نسبة المدارس (٪) | L36: BTN | M36: Bhutan | N36: Bhoutan | O36: Bhután | P36: Бутан | Q36: بوتان | T36: BTN | U36: English
A37: Charts tab glossary (if not already translated above) | L37: BWA | M37: Botswana | N37: Botswana | O37: Botswana | P37: Ботсвана | Q37: بوتسوانا | T37: BWA | U37: English
A38: Water, sanitation and hygiene services in schools | B38: Servicios de agua, saneamiento e higiene en las escuelas | C38: Services d'eau, d'assainissement et d'hygiène en milieu scolaire | D38: Услуги водоснабжения и санитарии и обеспеченность средствами гигиены в школах | E38: خدمات المياه والصرف الصحي والنظافة في المدارس | L38: CAF | M38: Central African Republic | N38: République centrafricaine | O38: República Centroafricana | P38: Центральноафриканская Республика | Q38: جمهورية أفريقيا الوسطى | T38: CAF | U38: French
A39: Water: total | B39: Agua: total | C39: Eau : total | D39: Вода: всего | E39: الماء: المجموع | L39: CAN | M39: Canada | N39: Canada | O39: Canadá | P39: Канада | Q39: كندا | T39: CAN | U39: English
A40: Water: urban | B40: Agua: urbano | C40: Eau : urbain | D40: Водоснабжение: городские | E40: المياه: حضرية | L40: CCK | M40: Cocos (Keeling) Islands | N40: Îles des Cocos (Keeling) | O40: Islas Cocos (Keeling) | P40: Кокосовых (Килинг) островов | Q40: جزر كوكس (كيلينغ) | T40: CCK | U40: English
...

Sheet Introduction
G3: Choose language
C4: =HLOOKUP(Introduction!$G$4,Key!A:G,3,FALSE) -> Programme commun OMS/UNICEF de suivi de l’approvisionnement en eau, de l’assainissement et de l’hygiène | G4: =+VLOOKUP(Introduction!$G$8,ISO3language,2,FALSE) -> French
C6: =HLOOKUP(Introduction!$G$4,Key!A:G,4,FALSE) -> Estimations sur l'eau, l'assainissement, l'hygiène en milieu scolaire
C7: =IF($G$4="English",VLOOKUP($G$8,Key!$L$2:$S$247,2,FALSE),IF($G$4="Spanish",VLOOKUP($G$8,Key!$L$2:$S$247,4,FALSE),IF($G$4="French",VLOOKUP($G$8,Key!$L$2:$S$247,3,FALSE),IF($G$4="Russian",VLOOKUP($G$8,Key!$L$2:$S$247,5,FALSE),IF($G$4="Arabic",VLOOKUP($G$8,Key!$L$2:$S$247,6,FALSE),IF($G$4="Other",VLOOKUP($G$8,Key!$L$2:$S$247,7,FALSE))))))) -> Madagascar | G7: ISO3 CODE
G8: MDG
C9: =HLOOKUP(Introduction!$G$4,Key!A:G,6,FALSE) -> Mis à jour en septembre 2026
C11: =HLOOKUP(Introduction!$G$4,Key!A:G,7,FALSE) -> Suivez les liens ci-dessous pour trouver les informations suivantes :
C13: =HLOOKUP(Introduction!$G$4,Key!A:G,8,FALSE) -> Estimations JMP :
C14: =HLOOKUP(Introduction!$G$4,Key!A:G,9,FALSE) -> Échelles WASH en milieu scolaire
C15: =HLOOKUP(Introduction!$G$4,Key!A:G,10,FALSE) -> Tendances : services de base WASH en milieu scolaire
C16: =HLOOKUP(Introduction!$G$4,Key!A:G,11,FALSE) -> Estimations (2000-2025) en milieu scolaire
C18: =HLOOKUP(Introduction!$G$4,Key!A:G,12,FALSE) -> Entrées de données :
C19: =HLOOKUP(Introduction!$G$4,Key!A:G,13,FALSE) -> Résumé des données
C20: =HLOOKUP(Introduction!$G$4,Key!A:G,14,FALSE) -> Données sur l'eau
C21: =HLOOKUP(Introduction!$G$4,Key!A:G,15,FALSE) -> Données sur l'assainissement
C22: =HLOOKUP(Introduction!$G$4,Key!A:G,16,FALSE) -> Données sur l'hygiène
C23: =HLOOKUP(Introduction!$G$4,Key!A:G,17,FALSE) -> Données démographiques
L46: =+IF(ISNUMBER(M39), "", "Insufficient data to estimate safely managed sanitation services at national level") -> Insufficient data to estimate safely managed sanitation services at national level

Sheet Regressions
A1: Ladders
A2: Drinking water | J2: Sanitation | S2: Hygiene
B3: Year | C3: National | D3: Rural | E3: Urban | F3: Pre-Primary | G3: Primary | H3: Secondary | K3: Year | L3: National | M3: Rural | N3: Urban | O3: Pre-Primary | P3: Primary | Q3: Secondary | T3: Year | U3: National | V3: Rural | W3: Urban | X3: Pre-Primary | Y3: Primary | Z3: Secondary
A4: Basic service | B4: 2025 | C4: 30.6 | D4: 59.9 | E4: 24.5 | F4: 31.9 | G4: 29.3 | H4: 44.2 | J4: Basic service | K4: 2025 | L4: 30.911825 | M4: 44.87 | N4: 27.91 | O4: 28.6 | P4: 23.398421 | Q4: 43.935256 | S4: Basic service | T4: 2025 | U4: 12.4 | V4: 17.6 | W4: 11.2 | X4: 13.8 | Y4: 13.3 | Z4: 11.8
A5: Limited service | B5: 2025 | C5: 16.073468 | D5: 5.8 | E5: 5.9 | F5: 6.8 | G5: 11.378565 | H5: 11.948484 | J5: Limited service | K5: 2025 | L5: 15.188175 | M5: 23.13 | N5: 14.19 | O5: 20.2 | P5: 21.301579 | Q5: 14.564744 | S5: Limited service | T5: 2025 | U5: 5.8 | V5: 11.7 | W5: 4.9 | X5: 5.8 | Y5: 5.3 | Z5: 10.6
A6: No service | B6: 2025 | C6: 53.326532 | D6: 34.3 | E6: 69.6 | F6: 61.3 | G6: 59.321435 | H6: 43.851516 | J6: No service | K6: 2025 | L6: 53.9 | M6: 32 | N6: 57.9 | O6: 51.2 | P6: 55.3 | Q6: 41.5 | S6: No service | T6: 2025 | U6: 81.8 | V6: 70.7 | W6: 83.9 | X6: 80.4 | Y6: 81.4 | Z6: 77.6
A7: Insufficient data | B7: 2025 | C7: 0 | D7: 0 | E7: 0 | F7: 0 | G7: 0 | H7: 0 | J7: Insufficient data | K7: 2025 | L7: 0 | M7: 0 | N7: 0 | O7: 0 | P7: 0 | Q7: 0 | S7: Insufficient data | T7: 2025 | U7: 0 | V7: 0 | W7: 0 | X7: 0 | Y7: 0 | Z7: 0
A12: Estimates (based on data summary tab)
A13: country | B13: year | C13: setting | D13: pop_ | E13: wat_fac_ | F13: wat_imp_ | G13: wat_bas_ | H13: wat_lim_ | I13: wat_none_ | J13: wat_nd_ | K13: san_fac_ | L13: san_imp_ | M13: san_bas_ | N13: san_lim_ | O13: san_none_ | P13: san_nd_ | Q13: hyg_fac_ | R13: hyg_wat_ | S13: hyg_bas_ | T13: hyg_lim_ | U13: hyg_none_ | V13: hyg_nd_
A14: Madagascar | B14: 2000 | C14: National | D14: 6436968 | J14: 100 | P14: 100 | V14: 100
A15: Madagascar | B15: 2001 | C15: National | D15: 6656235 | J15: 100 | P15: 100 | V15: 100
A16: Madagascar | B16: 2002 | C16: National | D16: 6877219 | J16: 100 | P16: 100 | V16: 100
A17: Madagascar | B17: 2003 | C17: National | D17: 7097279 | J17: 100 | P17: 100 | V17: 100
A18: Madagascar | B18: 2004 | C18: National | D18: 7311934 | J18: 100 | P18: 100 | V18: 100
A19: Madagascar | B19: 2005 | C19: National | D19: 7528727 | F19: 25.416349 | I19: 74.583651 | J19: 25.416349 | P19: 100 | V19: 100
A20: Madagascar | B20: 2006 | C20: National | D20: 7738506 | F20: 25.416349 | I20: 74.583651 | J20: 25.416349 | P20: 100 | V20: 100
A21: Madagascar | B21: 2007 | C21: National | D21: 7948551 | F21: 25.416349 | I21: 74.583651 | J21: 25.416349 | K21: 71.64526 | P21: 100 | V21: 100
A22: Madagascar | B22: 2008 | C22: National | D22: 8157690 | F22: 25.416349 | I22: 74.583651 | J22: 25.416349 | K22: 71.64526 | P22: 100 | V22: 100
A23: Madagascar | B23: 2009 | C23: National | D23: 8365851 | F23: 25.416349 | I23: 74.583651 | J23: 25.416349 | K23: 71.64526 | P23: 100 | V23: 100
A24: Madagascar | B24: 2010 | C24: National | D24: 8576250 | F24: 26.744919 | I24: 73.255081 | J24: 26.744919 | K24: 71.64526 | M24: 68.952167 | P24: 31.047833 | V24: 100
A25: Madagascar | B25: 2011 | C25: National | D25: 8786191 | F25: 28.073489 | I25: 71.926511 | J25: 28.073489 | K25: 71.64526 | M25: 68.952167 | P25: 31.047833 | V25: 100
A26: Madagascar | B26: 2012 | C26: National | D26: 8994036 | F26: 29.402059 | I26: 70.597941 | J26: 29.402059 | K26: 71.741462 | M26: 68.952167 | P26: 31.047833 | V26: 100
A27: Madagascar | B27: 2013 | C27: National | D27: 9199590 | F27: 30.730629 | I27: 69.269371 | J27: 30.730629 | K27: 71.837664 | M27: 68.952167 | P27: 31.047833 | V27: 100
A28: Madagascar | B28: 2014 | C28: National | D28: 9395686 | F28: 32.059199 | I28: 67.940801 | J28: 32.059199 | K28: 71.933866 | M28: 68.952167 | P28: 31.047833 | V28: 100
A29: Madagascar | B29: 2015 | C29: National | D29: 9578405 | F29: 33.387769 | I29: 66.612231 | J29: 33.387769 | K29: 72.030068 | M29: 65.493954 | P29: 34.506046 | V29: 100
A30: Madagascar | B30: 2016 | C30: National | D30: 9751818 | E30: 34.716339 | F30: 34.716339 | I30: 65.283661 | J30: 34.716339 | K30: 72.12627 | M30: 62.035741 | P30: 37.964259 | Q30: 59.23943 | V30: 100
A31: Madagascar | B31: 2017 | C31: National | D31: 9925754 | E31: 36.044909 | F31: 36.044909 | I31: 63.955091 | J31: 36.044909 | K31: 72.222472 | M31: 58.577528 | P31: 41.422472 | Q31: 59.23943 | V31: 100
A32: Madagascar | B32: 2018 | C32: National | D32: 10096549 | E32: 37.373479 | F32: 37.373479 | I32: 62.626521 | J32: 37.373479 | K32: 72.318674 | M32: 55.119315 | P32: 44.880685 | Q32: 59.23943 | V32: 100
A33: Madagascar | B33: 2019 | C33: National | D33: 10274961 | E33: 38.702049 | F33: 38.702049 | I33: 61.297951 | J33: 38.702049 | K33: 72.414876 | M33: 51.661102 | P33: 48.338898 | Q33: 59.23943 | V33: 100
A34: Madagascar | B34: 2020 | C34: National | D34: 10463906 | E34: 40.030619 | F34: 40.030619 | I34: 59.969381 | J34: 40.030619 | K34: 72.511078 | M34: 48.20289 | P34: 51.79711 | Q34: 59.23943 | V34: 100
A35: Madagascar | B35: 2021 | C35: National | D35: 10658114 | E35: 41.359189 | F35: 41.359189 | I35: 58.640811 | J35: 41.359189 | K35: 72.60728 | M35: 44.744677 | P35: 55.255323 | Q35: 55.098024 | V35: 100
A36: Madagascar | B36: 2022 | C36: National | D36: 10849996 | E36: 42.687758 | F36: 42.687758 | G36: 30.6 | H36: 12.087758 | I36: 57.312242 | J36: 0 | K36: 72.703482 | L36: 46.1 | M36: 41.286464 | N36: 4.8135363 | O36: 53.9 | P36: 0 | Q36: 50.956618 | R36: 18.2 | S36: 12.4 | T36: 5.8 | U36: 81.8 | V36: 0
A37: Madagascar | B37: 2023 | C37: National | D37: 11126256 | E37: 44.016328 | F37: 44.016328 | G37: 30.6 | H37: 13.416328 | I37: 55.983672 | J37: 0 | K37: 72.799683 | L37: 46.1 | M37: 37.828251 | N37: 8.2717493 | O37: 53.9 | P37: 0 | Q37: 46.815211 | R37: 18.2 | S37: 12.4 | T37: 5.8 | U37: 81.8 | V37: 0
A38: Madagascar | B38: 2024 | C38: National | E38: 45.964826 | F38: 45.344898 | G38: 30.6 | H38: 14.744898 | I38: 54.655102 | J38: 0 | K38: 72.895885 | L38: 46.1 | M38: 34.370038 | N38: 11.729962 | O38: 53.9 | P38: 0 | Q38: 42.673805 | R38: 18.2 | S38: 12.4 | T38: 5.8 | U38: 81.8 | V38: 0
A39: Madagascar | B39: 2025 | C39: National | E39: 54.358506 | F39: 46.673468 | G39: 30.6 | H39: 16.073468 | I39: 53.326532 | J39: 0 | K39: 72.992087 | L39: 46.1 | M39: 30.911825 | N39: 15.188175 | O39: 53.9 | P39: 0 | Q39: 38.532399 | R39: 18.2 | S39: 12.4 | T39: 5.8 | U39: 81.8 | V39: 0
A40: Madagascar | B40: 2026 | C40: National | E40: 62.752186 | F40: 48.002038 | G40: 30.6 | H40: 17.402038 | I40: 51.997962 | J40: 0 | K40: 73.088289 | L40: 46.1 | M40: 27.453612 | N40: 18.646388 | O40: 53.9 | P40: 0 | Q40: 34.390993 | R40: 18.2 | S40: 12.4 | T40: 5.8 | U40: 81.8 | V40: 0
A41: Madagascar | B41: 2027 | C41: National | E41: 71.145865 | F41: 49.330608 | G41: 30.6 | H41: 18.730608 | I41: 50.669392 | J41: 0 | K41: 73.184491 | L41: 46.1 | M41: 23.995399 | N41: 22.104601 | O41: 53.9 | P41: 0 | Q41: 30.249587 | R41: 18.2 | S41: 12.4 | T41: 5.8 | U41: 81.8 | V41: 0
A42: Madagascar | B42: 2028 | C42: National | E42: 79.539545 | F42: 50.659178 | G42: 30.6 | H42: 20.059178 | I42: 49.340822 | J42: 0 | K42: 73.280693 | L42: 46.1 | M42: 20.537186 | N42: 25.562814 | O42: 53.9 | P42: 0 | Q42: 26.10818 | R42: 18.2 | S42: 12.4 | T42: 5.8 | U42: 81.8 | V42: 0
A43: Madagascar | B43: 2029 | C43: National | E43: 79.539545 | F43: 50.659178 | G43: 30.6 | H43: 20.059178 | I43: 49.340822 | J43: 0 | K43: 73.280693 | L43: 46.1 | M43: 20.537186 | N43: 25.562814 | O43: 53.9 | P43: 0 | Q43: 26.10818 | R43: 18.2 | S43: 12.4 | T43: 5.8 | U43: 81.8 | V43: 0
A44: Madagascar | B44: 2030 | C44: National | E44: 79.539545 | F44: 50.659178 | G44: 30.6 | H44: 20.059178 | I44: 49.340822 | J44: 0 | K44: 73.280693 | L44: 46.1 | M44: 20.537186 | N44: 25.562814 | O44: 53.9 | P44: 0 | Q44: 26.10818 | R44: 18.2 | S44: 12.4 | T44: 5.8 | U44: 81.8 | V44: 0
...

Sheet Ladders
A1: =HLOOKUP(Introduction!$G$4,nametranslations,20,FALSE) -> Echelles d'eau, d'assainissement et d'hygiène en milieu scolaire | B1: =HLOOKUP([1]Introduction!$G$4,nametranslations,5,FALSE) -> Madagascar | C1: =HLOOKUP([1]Introduction!$G$4,nametranslations,5,FALSE) -> Madagascar | D1: =HLOOKUP([1]Introduction!$G$4,nametranslations,5,FALSE) -> Madagascar | E1: =HLOOKUP([1]Introduction!$G$4,nametranslations,5,FALSE) -> Madagascar | F1: =HLOOKUP([1]Introduction!$G$4,nametranslations,5,FALSE) -> Madagascar | G1: =HLOOKUP([1]Introduction!$G$4,nametranslations,5,FALSE) -> Madagascar | H1: =HLOOKUP([1]Introduction!$G$4,nametranslations,5,FALSE) -> Madagascar | I1: =HLOOKUP([1]Introduction!$G$4,nametranslations,5,FALSE) -> Madagascar | ... V1: =HLOOKUP([1]Introduction!$G$4,nametranslations,5,FALSE) -> Madagascar
A2: =HLOOKUP([1]Introduction!$G$4,nametranslations,5,FALSE) -> Madagascar | B2: =HLOOKUP([1]Introduction!$G$4,nametranslations,5,FALSE) -> Madagascar | C2: =HLOOKUP([1]Introduction!$G$4,nametranslations,5,FALSE) -> Madagascar | D2: =HLOOKUP([1]Introduction!$G$4,nametranslations,5,FALSE) -> Madagascar | E2: =HLOOKUP([1]Introduction!$G$4,nametranslations,5,FALSE) -> Madagascar | F2: =HLOOKUP([1]Introduction!$G$4,nametranslations,5,FALSE) -> Madagascar | G2: =HLOOKUP([1]Introduction!$G$4,nametranslations,5,FALSE) -> Madagascar | H2: =HLOOKUP([1]Introduction!$G$4,nametranslations,5,FALSE) -> Madagascar | ... V2: =HLOOKUP([1]Introduction!$G$4,nametranslations,5,FALSE) -> Madagascar
B4: =HLOOKUP(Introduction!$G$4,nametranslations,85,FALSE) -> Eau de boisson | I4: =HLOOKUP(Introduction!$G$4,nametranslations,22,FALSE) -> Assainissement | P4: =HLOOKUP(Introduction!$G$4,nametranslations,23,FALSE) -> Hygiène
C25: =+IF(OR((C28=Key!$I$26&"*"),(D28=Key!$I$28&"*"),(E28=Key!$I$27&"*"),(F28=Key!$I$29&"*"),(G28=Key!$I$30&"*"),(H28=Key!$I$31&"*"),(C28=Key!$I$26&"*^"),(D28=Key!$I$28&"*^"),(E28=Key!$I$27&"*^"),(F28="*^"),(G28=Key!$I$30&"*^"),(H28=Key!$I$31&"*^")),"*"&HLOOKUP(Introduction!$G$4,nametranslations,35,FALSE),"") | J25: =+IF(OR((J28=Key!$I$26&"*"),(K28=Key!$I$28&"*"),(L28=Key!$I$27&"*"),(M28=Key!$I$29&"*"),(N28=Key!$I$30&"*"),(O28=Key!$I$31&"*"),(J28=Key!$I$26&"*^"),(K28=Key!$I$28&"*^"),(L28=Key!$I$27&"*^"),(M28="*^"),(N28=Key!$I$30&"*^"),(O28=Key!$I$31&"*^")),"*"&HLOOKUP(Introduction!$G$4,nametranslations,35,FALSE),"") | Q25: =+IF(OR((Q28=Key!$I$26&"*"),(R28=Key!$I$28&"*"),(S28=Key!$I$27&"*"),(T28=Key!$I$29&"*"),(U28=Key!$I$30&"*"),(V28=Key!$I$31&"*"),(Q28=Key!$I$26&"*^"),(R28=Key!$I$28&"*^"),(S28=Key!$I$27&"*^"),(T28="*^"),(U28=Key!$I$30&"*^"),(V28=Key!$I$31&"*^")),"*"&HLOOKUP(Introduction!$G$4,nametranslations,35,FALSE),"")
C26: =+IF(OR((C28=Key!$I$26&"*^"),(D28=Key!$I$28&"*^"),(E28=Key!$I$27&"*^"),(F28=Key!$I$29&"*^"),(G28=Key!$I$30&"*^"),(H28=Key!$I$31&"^")),HLOOKUP(Introduction!$G$4,nametranslations,155,FALSE),"") | J26: =+IF(OR((J28=Key!$I$26&"*^"),(K28=Key!$I$28&"*^"),(L28=Key!$I$27&"*^"),(M28=Key!$I$29&"*^"),(N28=Key!$I$30&"*^"),(O28=Key!$I$31&"^")),HLOOKUP(Introduction!$G$4,nametranslations,155,FALSE),"") | Q26: =+IF(OR((Q28=Key!$I$26&"*^"),(R28=Key!$I$28&"*^"),(S28=Key!$I$27&"*^"),(T28=Key!$I$29&"*^"),(U28=Key!$I$30&"*^"),(V28=Key!$I$31&"^")),HLOOKUP(Introduction!$G$4,nametranslations,156,FALSE),"")
B27: =+Introduction!C7 -> Madagascar | C27: =HLOOKUP(Introduction!$G$4,nametranslations,21,FALSE) -> Eau | D27: =HLOOKUP([1]Introduction!$G$4,nametranslations,21,FALSE) -> Eau | E27: =HLOOKUP([1]Introduction!$G$4,nametranslations,21,FALSE) -> Eau | F27: =HLOOKUP([1]Introduction!$G$4,nametranslations,21,FALSE) -> Eau | G27: =HLOOKUP([1]Introduction!$G$4,nametranslations,21,FALSE) -> Eau | H27: =HLOOKUP([1]Introduction!$G$4,nametranslations,21,FALSE) -> Eau | I27: =+B27 -> Madagascar | J27: =HLOOKUP(Introduction!$G$4,nametranslations,22,FALSE) -> Assainissement | K27: =HLOOKUP([1]Introduction!$G$4,nametranslations,21,FALSE) -> Eau | L27: =HLOOKUP([1]Introduction!$G$4,nametranslations,21,FALSE) -> Eau | M27: =HLOOKUP([1]Introduction!$G$4,nametranslations,21,FALSE) -> Eau | N27: =HLOOKUP([1]Introduction!$G$4,nametranslations,21,FALSE) -> Eau | O27: =HLOOKUP([1]Introduction!$G$4,nametranslations,21,FALSE) -> Eau | P27: =+B27 -> Madagascar | Q27: =HLOOKUP(Introduction!$G$4,nametranslations,23,FALSE) -> Hygiène | R27: =HLOOKUP([1]Introduction!$G$4,nametranslations,21,FALSE) -> Eau | S27: =HLOOKUP([1]Introduction!$G$4,nametranslations,21,FALSE) -> Eau | T27: =HLOOKUP([1]Introduction!$G$4,nametranslations,21,FALSE) -> Eau | U27: =HLOOKUP([1]Introduction!$G$4,nametranslations,21,FALSE) -> Eau | V27: =HLOOKUP([1]Introduction!$G$4,nametranslations,21,FALSE) -> Eau
C28: =IF(AND(C30=0.0000000001,C31=0.0000000001,C32=0.0000000001), Key!$I$26&"*",IF(AND(C30=0.0000000001,ISNUMBER(C32)),Key!I26&"*", Key!$I$26)) -> Total | D28: =IF(AND(D30=0.0000000001,D31=0.0000000001,D32=0.0000000001), Key!$I$28&"*",IF(AND(D30=0.0000000001,ISNUMBER(D32)),Key!$I$28&"*", Key!$I$28)) -> Urbain | E28: =IF(AND(E30=0.0000000001,E31=0.0000000001,E32=0.0000000001), Key!$I$27&"*",IF(AND(E30=0.0000000001,ISNUMBER(E32)),Key!$I$27&"*", Key!$I$27)) -> Rural | F28: =IF(AND(F30=0.0000000001,F31=0.0000000001,F32=0.0000000001), Key!$I$29&"*",IF(AND(F30=0.0000000001,ISNUMBER(F32)),Key!$I$29&"*", Key!$I$29)) -> Pré-primaire | G28: =IF(AND(G30=0.0000000001,G31=0.0000000001,G32=0.0000000001), Key!$I$30&"*",IF(AND(G30=0.0000000001,ISNUMBER(G32)),Key!$I$30&"*", Key!$I$30)) -> Primaire | H28: =IF(AND(H30=0.0000000001,H31=0.0000000001,H32=0.0000000001), Key!$I$31&"*",IF(AND(H30=0.0000000001,ISNUMBER(H32)),Key!$I$31&"*", Key!$I$31)) -> Secondaire | J28: =IF(AND(J30=0.0000000001,J31=0.0000000001,J32=0.0000000001), Key!$I$26&"*",IF(AND(J30=0.0000000001,ISNUMBER(J32)),Key!I26&"*", Key!$I$26)) -> Total | K28: =IF(AND(K30=0.0000000001,K31=0.0000000001,K32=0.0000000001), Key!$I$28&"*",IF(AND(K30=0.0000000001,ISNUMBER(K32)),Key!$I$28&"*", Key!$I$28)) -> Urbain | L28: =IF(AND(L30=0.0000000001,L31=0.0000000001,L32=0.0000000001), Key!$I$27&"*",IF(AND(L30=0.0000000001,ISNUMBER(L32)),Key!$I$27&"*", Key!$I$27)) -> Rural | M28: =IF(AND(M30=0.0000000001,M31=0.0000000001,M32=0.0000000001), Key!$I$29&"*",IF(AND(M30=0.0000000001,ISNUMBER(M32)),Key!$I$29&"*", Key!$I$29)) -> Pré-primaire | N28: =IF(AND(N30=0.0000000001,N31=0.0000000001,N32=0.0000000001), Key!$I$30&"*",IF(AND(N30=0.0000000001,ISNUMBER(N32)),Key!$I$30&"*", Key!$I$30)) -> Primaire | O28: =IF(AND(O30=0.0000000001,O31=0.0000000001,O32=0.0000000001), Key!$I$31&"*",IF(AND(O30=0.0000000001,ISNUMBER(O32)),Key!$I$31&"*", Key!$I$31)) -> Secondaire | Q28: =IF(AND(Q30=0.0000000001,Q31=0.0000000001,Q32=0.0000000001), Key!$I$26&"*",IF(AND(Q30=0.0000000001,ISNUMBER(Q32)),Key!I26&"*", Key!$I$26)) -> Total | R28: =IF(AND(R30=0.0000000001,R31=0.0000000001,R32=0.0000000001), Key!$I$28&"*",IF(AND(R30=0.0000000001,ISNUMBER(R32)),Key!$I$28&"*", Key!$I$28)) -> Urbain | S28: =IF(AND(S30=0.0000000001,S31=0.0000000001,S32=0.0000000001), Key!$I$27&"*",IF(AND(S30=0.0000000001,ISNUMBER(S32)),Key!$I$27&"*", Key!$I$27)) -> Rural | T28: =IF(AND(T30=0.0000000001,T31=0.0000000001,T32=0.0000000001), Key!$I$29&"*",IF(AND(T30=0.0000000001,ISNUMBER(T32)),Key!$I$29&"*", Key!$I$29)) -> Pré-primaire | U28: =IF(AND(U30=0.0000000001,U31=0.0000000001,U32=0.0000000001), Key!$I$30&"*",IF(AND(U30=0.0000000001,ISNUMBER(U32)),Key!$I$30&"*", Key!$I$30)) -> Primaire | V28: =IF(AND(V30=0.0000000001,V31=0.0000000001,V32=0.0000000001), Key!$I$31&"*",IF(AND(V30=0.0000000001,ISNUMBER(V32)),Key!$I$31&"*", Key!$I$31)) -> Secondaire
C29: =IF(ISNUMBER(Regressions!B4), Regressions!B4, "-") -> 2025 | D29: =C29 -> 2025 | E29: =D29 -> 2025 | F29: =E29 -> 2025 | G29: =F29 -> 2025 | H29: =F29 -> 2025 | J29: =IF(ISNUMBER(Regressions!K4), Regressions!K4, "-") -> 2025 | K29: =J29 -> 2025 | L29: =K29 -> 2025 | M29: =L29 -> 2025 | N29: =M29 -> 2025 | O29: =M29 -> 2025 | Q29: =IF(ISNUMBER(Regressions!T4), Regressions!T4, "-") -> 2025 | R29: =Q29 -> 2025 | S29: =R29 -> 2025 | T29: =S29 -> 2025 | U29: =T29 -> 2025 | V29: =T29 -> 2025
A30: =+Key!I46 -> Service de base | B30: Basic Service | C30: =IF(ISNUMBER(Regressions!C4), Regressions!C4, 0.0000000001) -> 30.6 | D30: =IF(ISNUMBER(Regressions!D4), Regressions!D4, 0.0000000001) -> 59.9 | E30: =IF(ISNUMBER(Regressions!E4), Regressions!E4, 0.0000000001) -> 24.5 | F30: =IF(ISNUMBER(Regressions!F4), Regressions!F4, 0.0000000001) -> 31.9 | G30: =IF(ISNUMBER(Regressions!G4), Regressions!G4, 0.0000000001) -> 29.3 | H30: =IF(ISNUMBER(Regressions!H4), Regressions!H4, 0.0000000001) -> 44.2 | I30: Basic Service | J30: =IF(ISNUMBER(Regressions!L4), Regressions!L4,0.0000000001) -> 30.911825 | K30: =IF(ISNUMBER(Regressions!M4), Regressions!M4,0.0000000001) -> 44.87 | L30: =IF(ISNUMBER(Regressions!N4), Regressions!N4,0.0000000001) -> 27.91 | M30: =IF(ISNUMBER(Regressions!O4), Regressions!O4,0.0000000001) -> 28.6 | N30: =IF(ISNUMBER(Regressions!P4), Regressions!P4,0.0000000001) -> 23.398421 | O30: =IF(ISNUMBER(Regressions!Q4), Regressions!Q4,0.0000000001) -> 43.935256 | P30: Basic Service | Q30: =IF(ISNUMBER(Regressions!U4), Regressions!U4,0.0000000001) -> 12.4 | R30: =IF(ISNUMBER(Regressions!V4), Regressions!V4,0.0000000001) -> 17.6 | S30: =IF(ISNUMBER(Regressions!W4), Regressions!W4,0.0000000001) -> 11.2 | T30: =IF(ISNUMBER(Regressions!X4), Regressions!X4,0.0000000001) -> 13.8 | U30: =IF(ISNUMBER(Regressions!Y4), Regressions!Y4,0.0000000001) -> 13.3 | V30: =IF(ISNUMBER(Regressions!Z4), Regressions!Z4,0.0000000001) -> 11.8
A31: =+Key!I47 -> Service limité | B31: Limited Service | C31: =IF(ISNUMBER(Regressions!C5), Regressions!C5, 0.0000000001) -> 16.073468 | D31: =IF(ISNUMBER(Regressions!D5), Regressions!D5, 0.0000000001) -> 5.8 | E31: =IF(ISNUMBER(Regressions!E5), Regressions!E5, 0.0000000001) -> 5.9 | F31: =IF(ISNUMBER(Regressions!F5), Regressions!F5, 0.0000000001) -> 6.8 | G31: =IF(ISNUMBER(Regressions!G5), Regressions!G5, 0.0000000001) -> 11.378565 | H31: =IF(ISNUMBER(Regressions!H5), Regressions!H5, 0.0000000001) -> 11.948484 | I31: Limited Service | J31: =IF(ISNUMBER(Regressions!L5), Regressions!L5,0.0000000001) -> 15.188175 | K31: =IF(ISNUMBER(Regressions!M5), Regressions!M5,0.0000000001) -> 23.13 | L31: =IF(ISNUMBER(Regressions!N5), Regressions!N5,0.0000000001) -> 14.19 | M31: =IF(ISNUMBER(Regressions!O5), Regressions!O5,0.0000000001) -> 20.2 | N31: =IF(ISNUMBER(Regressions!P5), Regressions!P5,0.0000000001) -> 21.301579 | O31: =IF(ISNUMBER(Regressions!Q5), Regressions!Q5,0.0000000001) -> 14.564744 | P31: Limited Service | Q31: =IF(ISNUMBER(Regressions!U5), Regressions!U5,0.0000000001) -> 5.8 | R31: =IF(ISNUMBER(Regressions!V5), Regressions!V5,0.0000000001) -> 11.7 | S31: =IF(ISNUMBER(Regressions!W5), Regressions!W5,0.0000000001) -> 4.9 | T31: =IF(ISNUMBER(Regressions!X5), Regressions!X5,0.0000000001) -> 5.8 | U31: =IF(ISNUMBER(Regressions!Y5), Regressions!Y5,0.0000000001) -> 5.3 | V31: =IF(ISNUMBER(Regressions!Z5), Regressions!Z5,0.0000000001) -> 10.6
A32: =+Key!I48 -> Pas de service | B32: No Service | C32: =IF(ISNUMBER(Regressions!C6), Regressions!C6, 0.0000000001) -> 53.326532 | D32: =IF(ISNUMBER(Regressions!D6), Regressions!D6, 0.0000000001) -> 34.3 | E32: =IF(ISNUMBER(Regressions!E6), Regressions!E6, 0.0000000001) -> 69.6 | F32: =IF(ISNUMBER(Regressions!F6), Regressions!F6, 0.0000000001) -> 61.3 | G32: =IF(ISNUMBER(Regressions!G6), Regressions!G6, 0.0000000001) -> 59.321435 | H32: =IF(ISNUMBER(Regressions!H6), Regressions!H6, 0.0000000001) -> 43.851516 | I32: No Service | J32: =IF(ISNUMBER(Regressions!L6), Regressions!L6,0.0000000001) -> 53.9 | K32: =IF(ISNUMBER(Regressions!M6), Regressions!M6,0.0000000001) -> 32 | L32: =IF(ISNUMBER(Regressions!N6), Regressions!N6,0.0000000001) -> 57.9 | M32: =IF(ISNUMBER(Regressions!O6), Regressions!O6,0.0000000001) -> 51.2 | N32: =IF(ISNUMBER(Regressions!P6), Regressions!P6,0.0000000001) -> 55.3 | O32: =IF(ISNUMBER(Regressions!Q6), Regressions!Q6,0.0000000001) -> 41.5 | P32: No Service | Q32: =IF(ISNUMBER(Regressions!U6), Regressions!U6,0.0000000001) -> 81.8 | R32: =IF(ISNUMBER(Regressions!V6), Regressions!V6,0.0000000001) -> 70.7 | S32: =IF(ISNUMBER(Regressions!W6), Regressions!W6,0.0000000001) -> 83.9 | T32: =IF(ISNUMBER(Regressions!X6), Regressions!X6,0.0000000001) -> 80.4 | U32: =IF(ISNUMBER(Regressions!Y6), Regressions!Y6,0.0000000001) -> 81.4 | V32: =IF(ISNUMBER(Regressions!Z6), Regressions!Z6,0.0000000001) -> 77.6
A33: =+Key!I49 -> Données insuffisantes | B33: Insufficient Data | C33: =IF(ISNUMBER(Regressions!C7), Regressions!C7, 0.0000000001) -> 0 | D33: =IF(ISNUMBER(Regressions!D7), Regressions!D7, 0.0000000001) -> 0 | E33: =IF(ISNUMBER(Regressions!E7), Regressions!E7, 0.0000000001) -> 0 | F33: =IF(ISNUMBER(Regressions!F7), Regressions!F7, 0.0000000001) -> 0 | G33: =IF(ISNUMBER(Regressions!G7), Regressions!G7, 0.0000000001) -> 0 | H33: =IF(ISNUMBER(Regressions!H7), Regressions!H7, 0.0000000001) -> 0 | I33: Insufficient Data | J33: =IF(ISNUMBER(Regressions!L7), Regressions!L7,0.0000000001) -> 0 | K33: =IF(ISNUMBER(Regressions!M7), Regressions!M7,0.0000000001) -> 0 | L33: =IF(ISNUMBER(Regressions!N7), Regressions!N7,0.0000000001) -> 0 | M33: =IF(ISNUMBER(Regressions!O7), Regressions!O7,0.0000000001) -> 0 | N33: =IF(ISNUMBER(Regressions!P7), Regressions!P7,0.0000000001) -> 0 | O33: =IF(ISNUMBER(Regressions!Q7), Regressions!Q7,0.0000000001) -> 0 | P33: Insufficient Data | Q33: =IF(ISNUMBER(Regressions!U7), Regressions!U7,0.0000000001) -> 0 | R33: =IF(ISNUMBER(Regressions!V7), Regressions!V7,0.0000000001) -> 0 | S33: =IF(ISNUMBER(Regressions!W7), Regressions!W7,0.0000000001) -> 0 | T33: =IF(ISNUMBER(Regressions!X7), Regressions!X7,0.0000000001) -> 0 | U33: =IF(ISNUMBER(Regressions!Y7), Regressions!Y7,0.0000000001) -> 0 | V33: =IF(ISNUMBER(Regressions!Z7), Regressions!Z7,0.0000000001) -> 0
B34: =HLOOKUP(Introduction!$G$4,nametranslations,34,FALSE) -> Source : OMS/UNICEF JMP (2026)
B36: =+Key!I46 -> Service de base | C36: =+HLOOKUP(Introduction!$G$4,Key!A:G,158,FALSE) -> Eau de boisson provenant d’un point d’eau amélioré, disponible dans l’établissement scolaire au moment de l’enquête | I36: =+Key!I46 -> Service de base | J36: =+HLOOKUP(Introduction!$G$4,Key!A:G,162,FALSE) -> Installations d’assainissement améliorées non mixtes et utilisables (disponibles, fonctionnelles et privées) dans l’établissement scolaire au moment de l’enquête | P36: =+Key!I46 -> Service de base | Q36: =+HLOOKUP(Introduction!$G$4,Key!A:G,165,FALSE) -> Installations de lavage des mains disposant d’eau et de savon dans l’établissement scolaire au moment de l’enquête
B37: =+Key!I47 -> Service limité | C37: =+HLOOKUP(Introduction!$G$4,Key!A:G,159,FALSE) -> Eau de boisson provenant d’un point d’eau amélioré, mais non disponible dans l’établissement scolaire au moment de l’enquête | I37: =+Key!I47 -> Service limité | J37: =+HLOOKUP(Introduction!$G$4,Key!A:G,163,FALSE) -> Installations d’assainissement améliorées présentes, mais mixtes ou non utilisables, dans l’établissement scolaire au moment de l’enquête | P37: =+Key!I47 -> Service limité | Q37: =+HLOOKUP(Introduction!$G$4,Key!A:G,166,FALSE) -> Installations de lavage des mains disposant d’eau, mais pas de savon, dans l’établissement scolaire au moment de l’enquête
B38: =+Key!I48 -> Pas de service | C38: =+HLOOKUP(Introduction!$G$4,Key!A:G,160,FALSE) -> Eau de boisson provenant d’un point d’eau non amélioré, ou absence de point d’eau dans l’établissement scolairee | I38: =+Key!I48 -> Pas de service | J38: =+HLOOKUP(Introduction!$G$4,Key!A:G,164,FALSE) -> Installations d’assainissement non améliorées ou absence d’installations d’assainissement dans l’établissement scolaire | P38: =+Key!I48 -> Pas de service | Q38: =+HLOOKUP(Introduction!$G$4,Key!A:G,167,FALSE) -> Absence d’installations de lavage des mains ou absence d’eau dans l’établissement scolaire
B39: =+Key!I49 -> Données insuffisantes | C39: =+HLOOKUP(Introduction!$G$4,Key!A:G,161,FALSE) -> Données disponibles insuffisantes pour générer des estimations pour une année de référence donnée | I39: =+Key!I49 -> Données insuffisantes | J39: =+HLOOKUP(Introduction!$G$4,Key!A:G,161,FALSE) -> Données disponibles insuffisantes pour générer des estimations pour une année de référence donnée | P39: =+Key!I49 -> Données insuffisantes | Q39: =+HLOOKUP(Introduction!$G$4,Key!A:G,161,FALSE) -> Données disponibles insuffisantes pour générer des estimations pour une année de référence donnée

Sheet Charts
A2: =HLOOKUP(Introduction!$G$4,nametranslations,38,FALSE) -> Services d'eau, d'assainissement et d'hygiène en milieu scolaire
A23: =+HLOOKUP(Introduction!$G$4,nametranslations,34,FALSE) -> Source : OMS/UNICEF JMP (2026)
A44: =+HLOOKUP(Introduction!$G$4,nametranslations,34,FALSE) -> Source : OMS/UNICEF JMP (2026)
A65: =+HLOOKUP(Introduction!$G$4,nametranslations,34,FALSE) -> Source : OMS/UNICEF JMP (2026)

Sheet Chart Data
A1: =HLOOKUP(Introduction!$G$4,nametranslations,83,FALSE) -> Synthèse des données des enquêtes et recensements nationaux
D2: =HLOOKUP(Introduction!$G$4,nametranslations,85,FALSE) -> Eau de boisson | V2: =HLOOKUP(Introduction!$G$4,nametranslations,86,FALSE) -> Assainissement | AZ2: =HLOOKUP(Introduction!$G$4,nametranslations,87,FALSE) -> Hygiène
D3: =+Key!$A$24 -> Total | G3: =+Key!$A$26 -> Urban | J3: =+Key!$A$25 -> Rural | M3: =+Key!$A$27 -> Pre-primary | P3: =+Key!$A$28 -> Primary | S3: =+Key!$A$29 -> Secondary | V3: =+Key!$A$24 -> Total | Y3: =+Key!$A$26 -> Urban | AB3: =+Key!$A$25 -> Rural | AE3: =+Key!$A$27 -> Pre-primary | AH3: =+Key!$A$28 -> Primary | AK3: =+Key!$A$29 -> Secondary | AP3: Primary | AU3: Secondary | AZ3: =+Key!$A$24 -> Total | BC3: =+Key!$A$26 -> Urban | BF3: =+Key!$A$25 -> Rural | BI3: =+Key!$A$27 -> Pre-primary | BL3: =+Key!$A$28 -> Primary | BO3: =+Key!$A$29 -> Secondary
A4: Source | B4: =HLOOKUP(Introduction!$G$4,nametranslations,88,FALSE) -> Type de source de données | C4: Year | D4: Facility | E4: Improved | F4: Basic (Improved & available) | G4: Facility | H4: Improved | I4: Basic (Improved & available) | J4: Facility | K4: Improved | L4: Basic (Improved & available) | M4: Facility | N4: Improved | O4: Basic (Improved & available) | P4: Facility | Q4: Improved | R4: Basic (Improved & available) | S4: Facility | T4: Improved | U4: Basic (Improved & available) | V4: Facility | W4: Improved | X4: Improved & usable | Y4: Improved & single-sex | Z4: Basic (Improved, usable & single-sex) | AA4: Facility | AB4: Improved | AC4: Improved & usable | AD4: Improved & single-sex | AE4: Basic (Improved, usable & single-sex) | AF4: Facility | AG4: Improved | AH4: Improved & usable | AI4: Improved & single-sex | AJ4: Basic (Improved, usable & single-sex) | AK4: Facility | AL4: Improved | AM4: Improved & usable | AN4: Improved & single-sex | AO4: Basic (Improved, usable & single-sex) | AP4: Facility | AQ4: Improved | AR4: Improved & usable | AS4: Improved & single-sex | AT4: Basic (Improved, usable & single-sex) | AU4: Facility | AV4: Improved | AW4: Improved & usable | AX4: Improved & single-sex | AY4: Basic (Improved, usable & single-sex) | AZ4: Facility | BA4: Facility with water | BB4: Facility with water & soap | BC4: Facility | BD4: Facility with water | BE4: Facility with water & soap | BF4: Facility | BG4: Facility with water | BH4: Facility with water & soap | BI4: Facility | BJ4: Facility with water | BK4: Facility with water & soap | BL4: Facility | BM4: Facility with water | BN4: Facility with water & soap | BO4: Facility | BP4: Facility with water | BQ4: Facility with water & soap
A5: source | B5: type | C5: year | D5: w_fac_n | E5: w_imp_n | F5: w_bas_n | G5: w_fac_u | H5: w_imp_u | I5: w_bas_u | J5: w_fac_r | K5: w_imp_r | L5: w_bas_r | M5: w_fac_pp | N5: w_imp_pp | O5: w_bas_pp | P5: w_fac_p | Q5: w_imp_p | R5: w_bas_p | S5: w_fac_s | T5: w_imp_s | U5: w_bas_s | V5: s_fac_n | W5: s_imp_n | X5: s_ss_n | Y5: s_us_n | Z5: s_bas_n | AA5: s_fac_u | AB5: s_imp_u | AC5: s_ss_u | AD5: s_us_u | AE5: s_bas_u | AF5: s_fac_r | AG5: s_imp_r | AH5: s_ss_r | AI5: s_us_r | AJ5: s_bas_r | AK5: s_fac_pp | AL5: s_imp_pp | AM5: s_ss_pp | AN5: s_us_pp | AO5: s_bas_pp | AP5: s_fac_p | AQ5: s_imp_p | AR5: s_ss_p | AS5: s_us_p | AT5: s_bas_p | AU5: s_fac_s | AV5: s_imp_s | AW5: s_ss_s | AX5: s_us_s | AY5: s_bas_s | AZ5: h_fac_n | BA5: h_wat_n | BB5: h_bas_n | BC5: h_fac_u | BD5: h_wat_u | BE5: h_bas_u | BF5: h_fac_r | BG5: h_wat_r | BH5: h_bas_r | BI5: h_fac_pp | BJ5: h_wat_pp | BK5: h_bas_pp | BL5: h_fac_p | BM5: h_wat_p | BN5: h_bas_p | BO5: h_fac_s | BP5: h_wat_s | BQ5: h_bas_s
A6: =+RIGHT('Data Summary'!A6,LEN('Data Summary'!A6)-9) -> UIS | B6: =+IF(ISTEXT('Data Summary'!B6),'Data Summary'!B6,"") -> Autre | C6: =+VALUE('Data Summary'!C6) -> 2011 | D6: =+IF(AND(ISNUMBER('Water Data'!D4),'Data Summary'!BS6="Yes"),100-'Water Data'!D4,NA()) -> #N/A | E6: =+IF(AND(ISNUMBER('Water Data'!D6),'Data Summary'!BT6="Yes"),'Water Data'!D6,NA()) -> 24.882503 | F6: =+IF(AND(ISNUMBER('Water Data'!D9),'Data Summary'!BU6="Yes"),'Water Data'!D9,NA()) -> #N/A | G6: =+IF(AND(ISNUMBER('Water Data'!E4),'Data Summary'!BV6="Yes"),100-'Water Data'!E4,NA()) -> #N/A | H6: =+IF(AND(ISNUMBER('Water Data'!E6),'Data Summary'!BW6="Yes"),'Water Data'!E6,NA()) -> #N/A | I6: =+IF(AND(ISNUMBER('Water Data'!E9),'Data Summary'!BX6="Yes"),'Water Data'!E9,NA()) -> #N/A | J6: =+IF(AND(ISNUMBER('Water Data'!F4),'Data Summary'!BY6="Yes"),100-'Water Data'!F4,NA()) -> #N/A | K6: =+IF(AND(ISNUMBER('Water Data'!F6),'Data Summary'!BZ6="Yes"),'Water Data'!F6,NA()) -> #N/A | L6: =+IF(AND(ISNUMBER('Water Data'!F9),'Data Summary'!CA6="Yes"),'Water Data'!F9,NA()) -> #N/A | M6: =+IF(AND(ISNUMBER('Water Data'!G4),'Data Summary'!CB6="Yes"),100-'Water Data'!G4,NA()) -> #N/A | N6: =+IF(AND(ISNUMBER('Water Data'!G6),'Data Summary'!CC6="Yes"),'Water Data'!G6,NA()) -> #N/A | O6: =+IF(AND(ISNUMBER('Water Data'!G9),'Data Summary'!CD6="Yes"),'Water Data'!G9,NA()) -> #N/A | P6: =+IF(AND(ISNUMBER('Water Data'!H4),'Data Summary'!CE6="Yes"),100-'Water Data'!H4,NA()) -> #N/A | Q6: =+IF(AND(ISNUMBER('Water Data'!H6),'Data Summary'!CF6="Yes"),'Water Data'!H6,NA()) -> 18.1 | R6: =+IF(AND(ISNUMBER('Water Data'!H9),'Data Summary'!CG6="Yes"),'Water Data'!H9,NA()) -> #N/A | S6: =+IF(AND(ISNUMBER('Water Data'!I4),'Data Summary'!CH6="Yes"),100-'Water Data'!I4,NA()) -> #N/A | T6: =+IF(AND(ISNUMBER('Water Data'!I6),'Data Summary'!CI6="Yes"),'Water Data'!I6,NA()) -> 30.4 | U6: =+IF(AND(ISNUMBER('Water Data'!I9),'Data Summary'!CJ6="Yes"),'Water Data'!I9,NA()) -> #N/A | V6: =+IF(AND(ISNUMBER('Sanitation Data'!D4),'Data Summary'!CK6="Yes"),100-'Sanitation Data'!D4,NA()) -> #N/A | W6: =+IF(AND(ISNUMBER('Sanitation Data'!D6),'Data Summary'!CL6="Yes"),'Sanitation Data'!D6,NA()) -> #N/A | X6: =+IF(AND(ISNUMBER('Sanitation Data'!D10),'Data Summary'!CM6="Yes"),'Sanitation Data'!D10,NA()) -> #N/A | Y6: =+IF(AND(ISNUMBER('Sanitation Data'!D11),'Data Summary'!CN6="Yes"),'Sanitation Data'!D11,NA()) -> #N/A | Z6: =+IF(AND(ISNUMBER('Sanitation Data'!D12),'Data Summary'!CO6="Yes"),'Sanitation Data'!D12,NA()) -> #N/A | AA6: =+IF(AND(ISNUMBER('Sanitation Data'!E4),'Data Summary'!CP6="Yes"),100-'Sanitation Data'!E4,NA()) -> #N/A | AB6: =+IF(AND(ISNUMBER('Sanitation Data'!E6),'Data Summary'!CQ6="Yes"),'Sanitation Data'!E6,NA()) -> #N/A | AC6: =+IF(AND(ISNUMBER('Sanitation Data'!E10),'Data Summary'!CR6="Yes"),'Sanitation Data'!E10,NA()) -> #N/A | AD6: =+IF(AND(ISNUMBER('Sanitation Data'!E11),'Data Summary'!CS6="Yes"),'Sanitation Data'!E11,NA()) -> #N/A | AE6: =+IF(AND(ISNUMBER('Sanitation Data'!E12),'Data Summary'!CT6="Yes"),'Sanitation Data'!E12,NA()) -> #N/A | AF6: =+IF(AND(ISNUMBER('Sanitation Data'!F4),'Data Summary'!CU6="Yes"),100-'Sanitation Data'!F4,NA()) -> #N/A | AG6: =+IF(AND(ISNUMBER('Sanitation Data'!F6),'Data Summary'!CV6="Yes"),'Sanitation Data'!F6,NA()) -> #N/A | AH6: =+IF(AND(ISNUMBER('Sanitation Data'!F10),'Data Summary'!CW6="Yes"),'Sanitation Data'!F10,NA()) -> #N/A | AI6: =+IF(AND(ISNUMBER('Sanitation Data'!F11),'Data Summary'!CX6="Yes"),'Sanitation Data'!F11,NA()) -> #N/A | AJ6: =+IF(AND(ISNUMBER('Sanitation Data'!F12),'Data Summary'!CY6="Yes"),'Sanitation Data'!F12,NA()) -> #N/A | AK6: =+IF(AND(ISNUMBER('Sanitation Data'!G4),'Data Summary'!CZ6="Yes"),100-'Sanitation Data'!G4,NA()) -> #N/A | AL6: =+IF(AND(ISNUMBER('Sanitation Data'!G6),'Data Summary'!DA6="Yes"),'Sanitation Data'!G6,NA()) -> #N/A | AM6: =+IF(AND(ISNUMBER('Sanitation Data'!G10),'Data Summary'!DB6="Yes"),'Sanitation Data'!G10,NA()) -> #N/A | AN6: =+IF(AND(ISNUMBER('Sanitation Data'!G11),'Data Summary'!DC6="Yes"),'Sanitation Data'!G11,NA()) -> #N/A | AO6: =+IF(AND(ISNUMBER('Sanitation Data'!G12),'Data Summary'!DD6="Yes"),'Sanitation Data'!G12,NA()) -> #N/A | AP6: =+IF(AND(ISNUMBER('Sanitation Data'!H4),'Data Summary'!DE6="Yes"),100-'Sanitation Data'!H4,NA()) -> 58.3 | AQ6: =+IF(AND(ISNUMBER('Sanitation Data'!H6),'Data Summary'!DF6="Yes"),'Sanitation Data'!H6,NA()) -> #N/A | AR6: =+IF(AND(ISNUMBER('Sanitation Data'!H10),'Data Summary'!DG6="Yes"),'Sanitation Data'!H10,NA()) -> #N/A | AS6: =+IF(AND(ISNUMBER('Sanitation Data'!H11),'Data Summary'!DH6="Yes"),'Sanitation Data'!H11,NA()) -> #N/A | AT6: =+IF(AND(ISNUMBER('Sanitation Data'!H12),'Data Summary'!DI6="Yes"),'Sanitation Data'!H12,NA()) -> #N/A | AU6: =+IF(AND(ISNUMBER('Sanitation Data'!I4),'Data Summary'!DJ6="Yes"),100-'Sanitation Data'!I4,NA()) -> #N/A | AV6: =+IF(AND(ISNUMBER('Sanitation Data'!I6),'Data Summary'!DK6="Yes"),'Sanitation Data'!I6,NA()) -> #N/A | AW6: =+IF(AND(ISNUMBER('Sanitation Data'!I10),'Data Summary'!DL6="Yes"),'Sanitation Data'!I10,NA()) -> #N/A | AX6: =+IF(AND(ISNUMBER('Sanitation Data'!I11),'Data Summary'!DM6="Yes"),'Sanitation Data'!I11,NA()) -> #N/A | AY6: =+IF(AND(ISNUMBER('Sanitation Data'!I12),'Data Summary'!DN6="Yes"),'Sanitation Data'!I12,NA()) -> #N/A | AZ6: =+IF(AND(ISNUMBER('Hygiene Data'!D5),'Data Summary'!DO6="Yes"),'Hygiene Data'!D5,NA()) -> #N/A | BA6: =+IF(AND(ISNUMBER('Hygiene Data'!D7),'Data Summary'!DP6="Yes"),'Hygiene Data'!D7,NA()) -> #N/A | BB6: =+IF(AND(ISNUMBER('Hygiene Data'!D9),'Data Summary'!DQ6="Yes"),'Hygiene Data'!D9,NA()) -> #N/A | BC6: =+IF(AND(ISNUMBER('Hygiene Data'!E5),'Data Summary'!DR6="Yes"),'Hygiene Data'!E5,NA()) -> #N/A | BD6: =+IF(AND(ISNUMBER('Hygiene Data'!E7),'Data Summary'!DS6="Yes"),'Hygiene Data'!E7,NA()) -> #N/A | BE6: =+IF(AND(ISNUMBER('Hygiene Data'!E9),'Data Summary'!DT6="Yes"),'Hygiene Data'!E9,NA()) -> #N/A | BF6: =+IF(AND(ISNUMBER('Hygiene Data'!F5),'Data Summary'!DU6="Yes"),'Hygiene Data'!F5,NA()) -> #N/A | BG6: =+IF(AND(ISNUMBER('Hygiene Data'!F7),'Data Summary'!DV6="Yes"),'Hygiene Data'!F7,NA()) -> #N/A | BH6: =+IF(AND(ISNUMBER('Hygiene Data'!F9),'Data Summary'!DW6="Yes"),'Hygiene Data'!F9,NA()) -> #N/A | BI6: =+IF(AND(ISNUMBER('Hygiene Data'!G5),'Data Summary'!DX6="Yes"),'Hygiene Data'!G5,NA()) -> #N/A | BJ6: =+IF(AND(ISNUMBER('Hygiene Data'!G7),'Data Summary'!DY6="Yes"),'Hygiene Data'!G7,NA()) -> #N/A | BK6: =+IF(AND(ISNUMBER('Hygiene Data'!G9),'Data Summary'!DZ6="Yes"),'Hygiene Data'!G9,NA()) -> #N/A | BL6: =+IF(AND(ISNUMBER('Hygiene Data'!H5),'Data Summary'!EA6="Yes"),'Hygiene Data'!H5,NA()) -> #N/A | BM6: =+IF(AND(ISNUMBER('Hygiene Data'!H7),'Data Summary'!EB6="Yes"),'Hygiene Data'!H7,NA()) -> #N/A | BN6: =+IF(AND(ISNUMBER('Hygiene Data'!H9),'Data Summary'!EC6="Yes"),'Hygiene Data'!H9,NA()) -> #N/A | BO6: =+IF(AND(ISNUMBER('Hygiene Data'!I5),'Data Summary'!ED6="Yes"),'Hygiene Data'!I5,NA()) -> #N/A | BP6: =+IF(AND(ISNUMBER('Hygiene Data'!I7),'Data Summary'!EE6="Yes"),'Hygiene Data'!I7,NA()) -> #N/A | BQ6: =+IF(AND(ISNUMBER('Hygiene Data'!I9),'Data Summary'!EF6="Yes"),'Hygiene Data'!I9,NA()) -> #N/A
