Workbook
Name ISO3language: [1]Key!$T:$U
Name ISO3language: [1]Key!$T:$U
Name ISO3language: Key!$T:$U
Name myrangeH0: 'Hygiene Data'!$B$1:$K$2
Name myrangeH1: 'Hygiene Data'!$L$1:$U$2
Name myrangeH10: 'Hygiene Data'!$CX$1:$DG$2
Name myrangeH11: 'Hygiene Data'!$DH$1:$DQ$2
Name myrangeH12: 'Hygiene Data'!$DR$1:$EA$2
Name myrangeH13: 'Hygiene Data'!$EB$1:$EK$2
Name myrangeH2: 'Hygiene Data'!$V$1:$AE$2
Name myrangeH3: 'Hygiene Data'!$AF$1:$AO$2
Name myrangeH4: 'Hygiene Data'!$AP$1:$AY$2
Name myrangeH5: 'Hygiene Data'!$AZ$1:$BI$2
Name myrangeH6: 'Hygiene Data'!$BJ$1:$BS$2
Name myrangeH7: 'Hygiene Data'!$BT$1:$CC$2
Name myrangeH8: 'Hygiene Data'!$CD$1:$CM$2
Name myrangeH9: 'Hygiene Data'!$CN$1:$CW$2
Name myrangeS0: 'Sanitation Data'!$B$1:$K$2
Name myrangeS1: 'Sanitation Data'!$L$1:$U$2
Name myrangeS10: 'Sanitation Data'!$CX$1:$DG$2
Name myrangeS11: 'Sanitation Data'!$DH$1:$DQ$2
Name myrangeS12: 'Sanitation Data'!$DR$1:$EA$2
Name myrangeS13: 'Sanitation Data'!$EB$1:$EK$2
Name myrangeS2: 'Sanitation Data'!$V$1:$AE$2
Name myrangeS3: 'Sanitation Data'!$AF$1:$AO$2
Name myrangeS4: 'Sanitation Data'!$AP$1:$AY$2
Name myrangeS5: 'Sanitation Data'!$AZ$1:$BI$2
Name myrangeS6: 'Sanitation Data'!$BJ$1:$BS$2
Name myrangeS7: 'Sanitation Data'!$BT$1:$CC$2
Name myrangeS8: 'Sanitation Data'!$CD$1:$CM$2
Name myrangeS9: 'Sanitation Data'!$CN$1:$CW$2
Name myrangeW0: 'Water Data'!$B$1:$K$2
Name myrangeW1: 'Water Data'!$L$1:$U$2
Name myrangeW10: 'Water Data'!$CX$1:$DG$2
Name myrangeW11: 'Water Data'!$DH$1:$DQ$2
Name myrangeW12: 'Water Data'!$DR$1:$EA$2
Name myrangeW13: 'Water Data'!$EB$1:$EK$2
Name myrangeW2: 'Water Data'!$V$1:$AE$2
Name myrangeW3: 'Water Data'!$AF$1:$AO$2
Name myrangeW4: 'Water Data'!$AP$1:$AY$2
Name myrangeW5: 'Water Data'!$AZ$1:$BI$2
Name myrangeW6: 'Water Data'!$BJ$1:$BS$2
Name myrangeW7: 'Water Data'!$BT$1:$CC$2
Name myrangeW8: 'Water Data'!$CD$1:$CM$2
Name myrangeW9: 'Water Data'!$CN$1:$CW$2
Name nametranslations: [1]Key!$A:$G
Name nametranslations: [1]Key!$A:$G
Name nametranslations: Key!$A:$G
Name RURAL_SANITATION: #REF!
Name RURAL_SANITATION: #REF!
Name RURAL_SANITATION: #REF!
Name RURAL_WATER: #REF!
Name RURAL_WATER: #REF!
Name translationcountries: [1]Key!$M:$U
Name translationcountries: [1]Key!$M:$U
Name translationcountries: Key!$M:$U

Sheet Key
A1: English | B1: Spanish | C1: French | D1: Russian | E1: Arabic | F1: Other | I1: Language | L1: ISO3 | M1: name | N1: name_FR | O1: name_ES | P1: name_RU | Q1: name_AR | R1: name_CH | S1: name_other | T1: ISO3 | U1: Language
A2: Introduction tab glossary | I2: English | L2: ABW | M2: Aruba | N2: Aruba | O2: Aruba | P2: Аруба | Q2: أروبا | T2: ABW | U2: English
A3: Joint Monitoring Programme for Water Supply, Sanitation and Hygiene | B3: Programa Conjunto OMS/UNICEF de Monitoreo del Abastecimiento del Agua, el Saneamiento y la Higiene | C3: Programme commun OMS/UNICEF de suivi de l’approvisionnement en eau, de l’assainissement et de l’hygiène | D3: Совместная программа по мониторингу водоснабжения, санитарии и гигиены (СПМ) | E3: برنامج الرصد المشترك بين منظمة الصحة العالمية واليونيسف إلمدادات المياه والمرافق الصحي | I3: Spanish | L3: AFG | M3: Afghanistan | N3: Afghanistan | O3: Afganistán | P3: Афганистан | Q3: أفغانستان | T3: AFG | U3: English | W3: Introduction!G4 | X3: VLOOKUP(Introduction!$G$8,ISO3language,2,FALSE)
A4: Estimates on water, sanitation, hygiene in schools | B4: Estimaciones sobre servicios de agua, saneamiento, higiene en las escuelas | C4: Estimations sur l'eau, l'assainissement, l'hygiène en milieu scolaire | D4: Расчётные оценки услуг водоснабжения, санитарии, обеспечения средствами гигиены в школах | E4: التقديرات لتقدم في خدمات مياه الشرب والصرف الصحي والنظافة الصحية في المدارس | I4: French | L4: AGO | M4: Angola | N4: Angola | O4: Angola | P4: Ангола | Q4: أنغولا | T4: AGO | U4: French
A5: =+Introduction!C7 -> Republic of Moldova | B5: =VLOOKUP($A$5,translationcountries,3,FALSE) -> República de Moldova | C5: =VLOOKUP($A$5,translationcountries,2,FALSE) -> République de Moldova | D5: =VLOOKUP($A$5,translationcountries,4,FALSE) -> Республика Молдова | E5: =VLOOKUP($A$5,translationcountries,5,FALSE) -> جمهورية مولدوفا | F5: =VLOOKUP($A$5,translationcountries,6,FALSE) -> 0 | I5: Russian | L5: AIA | M5: Anguilla | N5: Anguilla | O5: Anguila | P5: Ангилья | Q5: أنغويلا | T5: AIA | U5: English
A6: Updated September 2026 | B6: Actualizado en septiembre de 2026 | C6: Mis à jour en septembre 2026 | D6: Обновлено в сентябре 2026 года | E6: تم التحديث في سبتمبر 2026 | I6: Arabic | L6: ALA | M6: Åland Islands | N6: Îles d’Åland | O6: Islas Åland | P6: Аландских островов | Q6: جزر ألاند | T6: ALA | U6: English
A7: Follow the links below to find the following information: | B7: Siga los enlaces a continuación para encontrar la siguiente información: | C7: Suivez les liens ci-dessous pour trouver les informations suivantes : | D7: Для нахождения следующей информации используйте указанные ниже ссылки: | E7: اتبع الروابط أدناه للعثور على المعلومات التالية: | I7: Other | L7: ALB | M7: Albania | N7: Albanie | O7: Albania | P7: Албания | Q7: ألبانيا | T7: ALB | U7: English | X7: {=CELL("filename")} -> C:\Users\johnstonr\WHOUNICEF Dropbox\WHOUNICEF Team Folder\Schools\2026 Report\Country files\Country files multilingual\Country files v09\[JMP_2026_WinS_MDA_Republic_of_Moldova.xlsx]Introduction
A8: JMP Estimates: | B8: Estimaciones de JMP: | C8: Estimations JMP : | D8: Расчётные оценки СПМ: | E8: تقديرات JMP: | L8: AND | M8: Andorra | N8: Andorre | O8: Andorra | P8: Андорра | Q8: أندورا | T8: AND | U8: French | X8: =IFERROR(MID(X7,FIND(CHAR(1),SUBSTITUTE(X7,"\",CHAR(1),LEN(X7)-LEN(SUBSTITUTE(X7,"\",""))))+1,FIND(CHAR(1),SUBSTITUTE(X7,".",CHAR(1),LEN(X7)-LEN(SUBSTITUTE(X7,".",""))))-FIND(CHAR(1),SUBSTITUTE(X7,"\",CHAR(1),LEN(X7)-LEN(SUBSTITUTE(X7,"\",""))))-1),"") -> [JMP_2026_WinS_MDA_Republic_of_Moldova
A9: WASH ladders for schools | B9: Escaleras WASH para las escuelas | C9: Échelles WASH en milieu scolaire | D9: Иерархические лестницы услуг WASH для школ | E9: سلالم المياه والصرف الصحي للمدارس | L9: ARE | M9: United Arab Emirates | N9: Émirats arabes unis | O9: Emiratos Árabes Unidos | P9: Объединенные Арабские Эмираты | Q9: الإمارات العربية المتحدة | T9: ARE | U9: Arabic | X9: Template
A10: Trends in basic WASH in schools | B10: Tendencias en WASH básico en las escuelas | C10: Tendances : services de base WASH en milieu scolaire | D10: Тенденции в базовых уровнях WASH в школах | E10: الاتجاهات الأساسية في مجال المياه والصرف الصحي والنظافة الصحية في المدارس | I10: Buttons | L10: ARG | M10: Argentina | N10: Argentine | O10: Argentina | P10: Аргентина | Q10: الأرجنتين | T10: ARG | U10: Spanish | W10: countryname | X10: IF($G$4="English",VLOOKUP($G$8,Key!$L$2:$S$247,2,FALSE),IF($G$4="Spanish",VLOOKUP($G$8,Key!$L$2:$S$247,4,FALSE),IF($G$4="French",VLOOKUP($G$8,Key!$L$2:$S$247,3,FALSE),IF($G$4="Russian",VLOOKUP($G$8,Key!$L$2:$S$247,5,FALSE),IF($G$4="Arabic",VLOOKUP($G$8,Key!$L$2:$S$247,5,FALSE),IF($G$4="Chinese",VLOOKUP($G$8,Key!$L$2:$S$247,6,FALSE),IF($G$4="Other",VLOOKUP($G$8,Key!$L$2:$S$247,7,FALSE))))))))
A11: Estimates (2000-2025) for schools | B11: Estimaciones (2000-2025) para las escuelas | C11: Estimations (2000-2025) en milieu scolaire | D11: Расчётные оценки (2000-2025 гг.) для школ | E11: تقديرات (2000 - 2025) للمدارس | I11: =HLOOKUP(Introduction!$G$4,nametranslations,18,FALSE) -> Notes on how to read the country file | L11: ARM | M11: Armenia | N11: Arménie | O11: Armenia | P11: Армения | Q11: أرمينيا | T11: ARM | U11: English
A12: Data inputs: | B12: Entradas de datos: | C12: Entrées de données : | D12: Наборы входных данных: | E12: مدخلات البيانات: | I12: =HLOOKUP(Introduction!$G$4,nametranslations,24,FALSE) -> Total | L12: ASM | M12: American Samoa | N12: Samoa américaines | O12: Samoa Americana | P12: Американское Самоа | Q12: ساموا الأمريكية | T12: ASM | U12: English | W12: iso3 | X12: MID(A2,A3+1,3) | Z12: where A2=cell("filename") | AC12: A3=FIND("~",SUBSTITUTE(A2,"_","~",3)) | AH12: {=MID(CELL("filename"),FIND("~",SUBSTITUTE(CELL("filename"),"_","~",3))+1,3)} -> MDA
A13: Data summary | B13: Resumen de datos | C13: Résumé des données | D13: Перечень данных | E13: ملخص البيانات | I13: =HLOOKUP(Introduction!$G$4,nametranslations,25,FALSE) -> Rural | L13: ATF | M13: French Southern Territories | N13: Terres australes françaises | O13: Territorio de las Tierras Australes Francesas | P13: Южные земли (французская заморская территория) | Q13: الأراضي الفرنسية الجنوبية الجنوبية | T13: ATF | U13: French
A14: Water Data | B14: Datos de agua | C14: Données sur l'eau | D14: Данные о водоснабжении | E14: بيانات المياه | I14: =HLOOKUP(Introduction!$G$4,nametranslations,26,FALSE) -> Urban | L14: ATG | M14: Antigua and Barbuda | N14: Antigua-et-Barbuda | O14: Antigua y Barbuda | P14: Антигуа и Барбуда | Q14: أنتيغوا وبربودا | T14: ATG | U14: English
A15: Sanitation Data | B15: Datos de saneamiento | C15: Données sur l'assainissement | D15: Данные о санитарии | E15: بيانات الصرف الصحي | I15: =HLOOKUP(Introduction!$G$4,nametranslations,27,FALSE) -> Pre-primary | L15: AUS | M15: Australia | N15: Australie | O15: Australia | P15: Австралия | Q15: أستراليا | T15: AUS | U15: English
A16: Hygiene Data | B16: Datos de higiene | C16: Données sur l'hygiène | D16: Данные о средствах гигиены | E16: بيانات النظافة | I16: =HLOOKUP(Introduction!$G$4,nametranslations,28,FALSE) -> Primary | L16: AUT | M16: Austria | N16: Autriche | O16: Austria | P16: Австрия | Q16: النمسا | T16: AUT | U16: English
A17: Population Data | B17: Datos de población | C17: Données démographiques | D17: Данные о численности населения | E17: بيانات السكان | I17: =HLOOKUP(Introduction!$G$4,nametranslations,29,FALSE) -> Secondary | L17: AZE | M17: Azerbaijan | N17: Azerbaïdjan | O17: Azerbaiyán | P17: Азербайджан | Q17: أذربيجان | T17: AZE | U17: English
A18: Notes on how to read the country file | B18: Notas sobre cómo leer el archivo de país | C18: Notes sur la façon de lire le fichier pays | D18: Заметки о том, как читать страновой файл | E18: ملاحظات حول كيفية قراءة ملف الدولة | L18: BDI | M18: Burundi | N18: Burundi | O18: Burundi | P18: Бурунди | Q18: بوروندي | T18: BDI | U18: French
A19: Ladders tab glossary (if not already translated above) | L19: BEL | M19: Belgium | N19: Belgique | O19: Bélgica | P19: Бельгия | Q19: بلجيكا | T19: BEL | U19: French
A20: Water, sanitation and hygiene ladders for schools | B20: Escaleras de agua, saneamiento e higiene para las escuelas | C20: Echelles d'eau, d'assainissement et d'hygiène en milieu scolaire | D20: Иерархические лестницы услуг водоснабжения и санитарии и обеспеченности средствами гигиены для школ | E20: سلالم المياه والصرف الصحي والنظافة للمدارس | L20: BEN | M20: Benin | N20: Bénin | O20: Benin | P20: Бенин | Q20: بنن | T20: BEN | U20: French
A21: Water | B21: Agua | C21: Eau | D21: Водоснабжение | E21: ماء | L21: BES | M21: Bonaire, Sint Eustatius and Saba | N21: Bonaire, Saint-Eustache et Saba | O21: Bonaire, San Eustaquio y Saba | P21: Бонайре, Синт-Эстатиус и Саба | Q21: بونير وسانت يوستاشيوس وسابا | T21: BES | U21: English
A22: Sanitation | B22: Saneamiento | C22: Assainissement | D22: Санитария | E22: الصرف الصحي | L22: BFA | M22: Burkina Faso | N22: Burkina Faso | O22: Burkina Faso | P22: Буркина-Фасо | Q22: بوركينا فاسو | T22: BFA | U22: French
A23: Hygiene | B23: Higiene | C23: Hygiène | D23: Гигиена | E23: صحة | L23: BGD | M23: Bangladesh | N23: Bangladesh | O23: Bangladesh | P23: Бангладеш | Q23: بنغلاديش | T23: BGD | U23: English
A24: Total | B24: Total | C24: Total | D24: Во всей стране | E24: المجموع | I24: Chart titles/ladders | L24: BGR | M24: Bulgaria | N24: Bulgarie | O24: Bulgaria | P24: Болгария | Q24: بلغاريا | T24: BGR | U24: English
A25: Rural | B25: Rural | C25: Rural | D25: Сельские | E25: ريفي | I25: =HLOOKUP(Introduction!$G$4,nametranslations,36,FALSE) -> Proportion of Schools (%) | L25: BHR | M25: Bahrain | N25: Bahreïn | O25: Bahrein | P25: Бахрейн | Q25: البحرين | T25: BHR | U25: Arabic
A26: Urban | B26: Urbano | C26: Urbain | D26: Городские | E26: الحضاري | I26: Total | L26: BHS | M26: Bahamas | N26: Bahamas | O26: Bahamas | P26: Багамские Острова | Q26: جزر البهاما | T26: BHS | U26: English
A27: Pre-primary | B27: Preprimaria | C27: Pré-primaire | D27: Дошкольные учреждения | E27: المرحلة الابتدائية | I27: =HLOOKUP(Introduction!$G$4,nametranslations,25,FALSE) -> Rural | L27: BIH | M27: Bosnia and Herzegovina | N27: Bosnie-Herzégovine | O27: Bosnia y Herzegovina | P27: Босния и Герцеговина | Q27: البوسنة والهرسك | T27: BIH | U27: English
A28: Primary | B28: Primaria | C28: Primaire | D28: Начальные | E28: خبرات | I28: =HLOOKUP(Introduction!$G$4,nametranslations,26,FALSE) -> Urban | L28: BLM | M28: Saint Barthélemy | N28: Saint-Barthélemy | O28: San Barthélemy | P28: Сен-Бартелеми | Q28: سان بارتليمي | T28: BLM | U28: French
A29: Secondary | B29: Secundaria | C29: Secondaire | D29: Средние | E29: ثانوي | I29: =HLOOKUP(Introduction!$G$4,nametranslations,27,FALSE) -> Pre-primary | L29: BLR | M29: Belarus | N29: Bélarus | O29: Belarús | P29: Беларусь | Q29: بيلاروس | T29: BLR | U29: English
A30: Basic service | B30: Servicio básico | C30: Service de base | D30: Базовый уровень услуг | E30: الخدمة الأساسية | I30: =HLOOKUP(Introduction!$G$4,nametranslations,28,FALSE) -> Primary | L30: BLZ | M30: Belize | N30: Belize | O30: Belice | P30: Белиз | Q30: بليز | T30: BLZ | U30: English
A31: Limited service | B31: Servicio limitado | C31: Service limité | D31: Ограниченный уровень | E31: خدمة محدودة | I31: =HLOOKUP(Introduction!$G$4,nametranslations,29,FALSE) -> Secondary | L31: BMU | M31: Bermuda | N31: Bermudes | O31: Bermuda | P31: Бермудские острова | Q31: برمودا | T31: BMU | U31: English
A32: No service | B32: Sin servicio | C32: Pas de service | D32: Отсутствие услуг | E32: لاتوجد خدمة | L32: BOL | M32: Bolivia (Plurinational State of) | N32: Bolivie (État plurinational de) | O32: Bolivia (Estado Plurinacional de) | P32: Боливия (Многонациональное Государство) | Q32: بوليفيا (دولة - المتعددة القوميات) | T32: BOL | U32: Spanish
A33: Insufficient data | B33: Datos insuficientes | C33: Données insuffisantes | D33: Недостаточно данных | E33: البيانات غير كافية | L33: BRA | M33: Brazil | N33: Brésil | O33: Brasil | P33: Бразилия | Q33: البرازيل | T33: BRA | U33: English
A34: Source: WHO/UNICEF JMP (2026) | B34: Fuente: OMS/UNICEF JMP (2026) | C34: Source : OMS/UNICEF JMP (2026) | D34: Источник: СПМ ВОЗ/ЮНИСЕФ (2026 г.) | E34: المصدر: WHO/UNICEF JMP (2024) | L34: BRB | M34: Barbados | N34: Barbade | O34: Barbados | P34: Барбадос | Q34: بربادوس | T34: BRB | U34: English
A35: No basic service estimate available | B35: No hay estimaciones de servicio básico disponible | C35: Aucune estimation de service de base disponible | D35: Оценок базового уровня услуг нет | E35: لا يتوفر تقدير الخدمة الأساسية | L35: BRN | M35: Brunei Darussalam | N35: Brunéi Darussalam | O35: Brunei Darussalam | P35: Бруней-Даруссалам | Q35: بروني دار السلام | T35: BRN | U35: English
A36: Proportion of Schools (%) | B36: Proporción de escuelas (%) | C36: Proportion des écoles (%) | D36: Доля школ (%) | E36: نسبة المدارس (٪) | L36: BTN | M36: Bhutan | N36: Bhoutan | O36: Bhután | P36: Бутан | Q36: بوتان | T36: BTN | U36: English
A37: Charts tab glossary (if not already translated above) | L37: BWA | M37: Botswana | N37: Botswana | O37: Botswana | P37: Ботсвана | Q37: بوتسوانا | T37: BWA | U37: English
A38: Water, sanitation and hygiene services in schools | B38: Servicios de agua, saneamiento e higiene en las escuelas | C38: Services d'eau, d'assainissement et d'hygiène en milieu scolaire | D38: Услуги водоснабжения и санитарии и обеспеченность средствами гигиены в школах | E38: خدمات المياه والصرف الصحي والنظافة في المدارس | L38: CAF | M38: Central African Republic | N38: République centrafricaine | O38: República Centroafricana | P38: Центральноафриканская Республика | Q38: جمهورية أفريقيا الوسطى | T38: CAF | U38: French
A39: Water: total | B39: Agua: total | C39: Eau : total | D39: Вода: всего | E39: الماء: المجموع | L39: CAN | M39: Canada | N39: Canada | O39: Canadá | P39: Канада | Q39: كندا | T39: CAN | U39: English
A40: Water: urban | B40: Agua: urbano | C40: Eau : urbain | D40: Водоснабжение: городские | E40: المياه: حضرية | L40: CCK | M40: Cocos (Keeling) Islands | N40: Îles des Cocos (Keeling) | O40: Islas Cocos (Keeling) | P40: Кокосовых (Килинг) островов | Q40: جزر كوكس (كيلينغ) | T40: CCK | U40: English
A41: Water: rural | B41: Agua: rural | C41: Eau : rural | D41: Водоснабжение: сельские | E41: المياه: ريفية | L41: CHE | M41: Switzerland | N41: Suisse | O41: Suiza | P41: Швейцария | Q41: سويسرا | T41: CHE | U41: French
A42: Water: pre-primary | B42: Agua: preprimaria | C42: Eau : pré-primaire | D42: Водоснабжение: дошкольные учреждения | E42: الماء: المرحلة الابتدائية | L42: CHI | M42: Channel Islands | N42: Islas del Canal | O42: Îles anglo-normandes | P42: Нормандские острова | Q42: جزر القناة | T42: CHI | U42: English
A43: Water: primary | B43: Agua: primaria | C43: Eau : primaire | D43: Водоснабжение: начальные | E43: الماء: أساسي | L43: CHL | M43: Chile | N43: Chili | O43: Chile | P43: Чили | Q43: شيلي | T43: CHL | U43: Spanish
A44: Water: secondary | B44: Agua: secundaria | C44: Eau : secondaire | D44: Водоснабжение: средние | E44: الماء: ثانوي | L44: CHN | M44: China | N44: Chine | O44: China | P44: Китай | Q44: الصين | T44: CHN | U44: English
A45: Sanitation: total | B45: Saneamiento: total | C45: Assainissement : total | D45: Санитария: всего | E45: الصرف الصحي: الإجمالي | I45: Chart legenda | L45: CIV | M45: Côte d’Ivoire | N45: Côte d’Ivoire | O45: Côte d’Ivoire | P45: Кот-д'Ивуар | Q45: كوت ديفوار | T45: CIV | U45: French
A46: Sanitation: urban | B46: Saneamiento: urbano | C46: Assainissement : urbain | D46: Санитария: городские | E46: الصرف الصحي: حضري | I46: =HLOOKUP(Introduction!$G$4,nametranslations,30,FALSE) -> Basic service | L46: CMR | M46: Cameroon | N46: Cameroun | O46: Camerún | P46: Камерун | Q46: الكاميرون | T46: CMR | U46: French
A47: Sanitation: rural | B47: Saneamiento: rural | C47: Assainissement : rural | D47: Санитария: сельские | E47: الصرف الصحي: ريفي | I47: =HLOOKUP(Introduction!$G$4,nametranslations,31,FALSE) -> Limited service | L47: COD | M47: Democratic Republic of the Congo | N47: République démocratique du Congo | O47: República Democrática del Congo | P47: Демократическая Республика Конго | Q47: جمهورية الكونغو الديمقراطية | T47: COD | U47: French
A48: Sanitation: pre-primary | B48: Saneamiento: preprimaria | C48: Assainissement : pré-primaire | D48: Санитария: дошкольные учреждения | E48: الصرف الصحي: المرحلة الابتدائية | I48: =HLOOKUP(Introduction!$G$4,nametranslations,32,FALSE) -> No service | L48: COG | M48: Congo | N48: Congo | O48: Congo | P48: Конго | Q48: الكونغو | T48: COG | U48: French
A49: Sanitation: primary | B49: Saneamiento: primaria | C49: Assainissement : primaire | D49: Санитария: начальные | E49: الصرف الصحي: أساسي | I49: =HLOOKUP(Introduction!$G$4,nametranslations,33,FALSE) -> Insufficient data | L49: COK | M49: Cook Islands | N49: Îles Cook | O49: Islas Cook | P49: Острова Кука | Q49: جزر كوك | T49: COK | U49: English
A50: Sanitation: secondary | B50: Saneamiento: secundaria | C50: Assainissement : secondaire | D50: Санитария: средние | E50: الصرف الصحي: ثانوي | I50: =HLOOKUP(Introduction!$G$4,nametranslations,59,FALSE) -> Improved estimates | L50: COL | M50: Colombia | N50: Colombie | O50: Colombia | P50: Колумбия | Q50: كولومبيا | T50: COL | U50: Spanish
A51: Hygiene: total | B51: Higiene: total | C51: Hygiène : total | D51: Гигиена: общая | E51: النظافة: المجموع | I51: =HLOOKUP(Introduction!$G$4,nametranslations,60,FALSE) -> Improved datapoints | L51: COM | M51: Comoros | N51: Comores | O51: Comoras | P51: Коморские Острова | Q51: جزر القمر | T51: COM | U51: French
A52: Hygiene: urban | B52: Higiene: urbano | C52: Hygiène : urbain | D52: Средства гигиены: городские | E52: النظافة: حضري | I52: =HLOOKUP(Introduction!$G$4,nametranslations,61,FALSE) -> Basic estimates | L52: CPV | M52: Cabo Verde | N52: Cabo Verde | O52: Cabo Verde | P52: Кабо-Верде | Q52: كابو فيردي | T52: CPV | U52: French
A53: Hygiene: rural | B53: Higiene: rural | C53: Hygiène : rural | D53: Средства гигиены: сельские | E53: النظافة: ريفية | I53: =HLOOKUP(Introduction!$G$4,nametranslations,62,FALSE) -> Basic datapoints | L53: CRI | M53: Costa Rica | N53: Costa Rica | O53: Costa Rica | P53: Коста-Рика | Q53: كوستاريكا | T53: CRI | U53: Spanish
A54: Hygiene: pre-primary | B54: Higiene: preprimaria | C54: Hygiène : pré-primaire | D54: Средства гигиены: дошкольные учреждения | E54: النظافة: ما قبل الابتدائي | I54: =HLOOKUP(Introduction!$G$4,nametranslations,63,FALSE) -> With water estimates | L54: CUB | M54: Cuba | N54: Cuba | O54: Cuba | P54: Куба | Q54: كوبا | T54: CUB | U54: Spanish
A55: Hygiene: primary | B55: Higiene: primaria | C55: Hygiène : primaire | D55: Средства гигиены: начальные | E55: النظافة: أولية | I55: =HLOOKUP(Introduction!$G$4,nametranslations,64,FALSE) -> With water datapoints | L55: CUW | M55: Curaçao | N55: Curaçao | O55: Curazao | P55: Кюрасао | Q55: كوراساو | T55: CUW | U55: English
A56: Hygiene: secondary | B56: Higiene: secundaria | C56: Hygiène : secondaire | D56: Средства гигиены: средние | E56: النظافة: ثانوية | I56: =HLOOKUP(Introduction!$G$4,nametranslations,57,FALSE) -> Facility estimates | L56: CXR | M56: Christmas Island | N56: Île Christmas | O56: Isla Christmas | P56: остров Рождества | Q56: جزيرة عيد الميلاد | T56: CXR | U56: English
A57: Facility estimates | B57: Estimaciones: instalaciónes | C57: Estimations : installations | D57: Оценки приспособлений | E57: تقديرات المنشأة | I57: =HLOOKUP(Introduction!$G$4,nametranslations,58,FALSE) -> Facility datapoints | L57: CZE | M57: Czechia | N57: Tchéquie | O57: Chequia | P57: Чехия | Q57: تشيكيا | T57: CZE | U57: English
A58: Facility datapoints | B58: Puntos de datos: instalaciónes | C58: Points de données : installations | D58: Точки данных о приспособлениях | E58: نقاط بيانات المنشأة | I58: =HLOOKUP(Introduction!$G$4,nametranslations,59,FALSE) -> Improved estimates | L58: DEU | M58: Germany | N58: Allemagne | O58: Alemania | P58: Германия | Q58: ألمانيا | T58: DEU | U58: English
A59: Improved estimates | B59: Estimaciones: mejoradas | C59: Estimations : améliorée | D59: Оценки наличия улучшенных | E59: تقديرات محسنة | I59: =HLOOKUP(Introduction!$G$4,nametranslations,60,FALSE) -> Improved datapoints | L59: DJI | M59: Djibouti | N59: Djibouti | O59: Djibouti | P59: Джибути | Q59: جيبوتي | T59: DJI | U59: Arabic
A60: Improved datapoints | B60: Puntos de datos: mejorados | C60: Points de données : améliorées | D60: Точки данных о наличии улучшенных | E60: تحسين نقاط البيانات | I60: =HLOOKUP(Introduction!$G$4,nametranslations,61,FALSE) -> Basic estimates | L60: DMA | M60: Dominica | N60: Dominique | O60: Dominica | P60: Доминика | Q60: دومينيكا | T60: DMA | U60: English
A61: Basic estimates | B61: Estimaciones: básicas | C61: Estimations : de base | D61: Оценки базового уровня | E61: التقديرات الأساسية | I61: =HLOOKUP(Introduction!$G$4,nametranslations,62,FALSE) -> Basic datapoints | L61: DNK | M61: Denmark | N61: Danemark | O61: Dinamarca | P61: Дания | Q61: الدانمرك | T61: DNK | U61: English
A62: Basic datapoints | B62: Puntos de datos: básicos | C62: Points de données : services de base | D62: Точки данных о базовом уровне | E62: نقاط البيانات الأساسية | L62: DOM | M62: Dominican Republic | N62: République dominicaine | O62: República Dominicana | P62: Доминиканская Республика | Q62: الجمهورية الدومينيكية | T62: DOM | U62: Spanish
A63: With water estimates | B63: Estimaciones con agua | C63: Estimations : avec de l'eau | D63: С оценками водоснабжения | E63: مع تقديرات المياه | L63: DZA | M63: Algeria | N63: Algérie | O63: Argelia | P63: Алжир | Q63: الجزائر | T63: DZA | U63: Arabic
A64: With water datapoints | B64: Puntos de datos con agua | C64: Points de données : avec de l'eau | D64: С точками данных о водоснабжении | E64: مع نقاط بيانات المياه | L64: ECU | M64: Ecuador | N64: Équateur | O64: Ecuador | P64: Эквадор | Q64: إكوادور | T64: ECU | U64: Spanish
A65: Estimates tab glossary (if not already translated above) | L65: EGY | M65: Egypt | N65: Égypte | O65: Egipto | P65: Египет | Q65: مصر | T65: EGY | U65: Arabic
A66: Estimates | B66: Estimaciones | C66: Estimations | D66: Оценки | E66: تقديرات | L66: ERI | M66: Eritrea | N66: Érythrée | O66: Eritrea | P66: Эритрея | Q66: إريتريا | T66: ERI | U66: English
A67: School Age Population Source: United Nations Population Division & UNESCO | B67: Población en edad escolar Fuente: División de Población de las Naciones Unidas y UNESCO | C67: Population d'âge scolaire Source : Division de la population des Nations Unies et UNESCO | D67: Численность детей школьного возраста Источник: отдел народонаселения ООН и ЮНЕСКО | E67: السكان في سن المدرسة المصدر: قسم السكان بالأمم المتحدة واليونسكو | L67: ESH | M67: Western Sahara | N67: Sahara occidental | O67: Sáhara Occidental | P67: Западная Сахара | Q67: الصحراء الغربية | T67: ESH | U67: English
A68: Drinking Water (%) | B68: Agua para consumo (%) | C68: Eau de boisson (%) | D68: Питьевое водоснабжение (%) | E68: مياه الشرب (٪) | L68: ESP | M68: Spain | N68: Espagne | O68: España | P68: Испания | Q68: إسبانيا | T68: ESP | U68: Spanish
A69: Sanitation (%) | B69: Saneamiento (%) | C69: Assainissement (%) | D69: Санитария (%) | E69: الصرف الصحي (٪) | L69: EST | M69: Estonia | N69: Estonie | O69: Estonia | P69: Эстония | Q69: إستونيا | T69: EST | U69: English
A70: Hygiene (%) | B70: Higiene (%) | C70: Hygiène (%) | D70: Гигиена (%) | E70: صحة (٪) | L70: ETH | M70: Ethiopia | N70: Éthiopie | O70: Etiopía | P70: Эфиопия | Q70: إثيوبيا | T70: ETH | U70: English
A71: Country | B71: País | C71: Pays | D71: Страна | E71: بلد | I71: Chart titles/ladders | L71: FIN | M71: Finland | N71: Finlande | O71: Finlandia | P71: Финляндия | Q71: فنلندا | T71: FIN | U71: English
A72: Year | B72: Año | C72: Année | D72: Год | E72: عام | H72: 39 | I72: =HLOOKUP(Introduction!$G$4,nametranslations,H72,FALSE) -> Water: total | L72: FJI | M72: Fiji | N72: Fidji | O72: Fiji | P72: Фиджи | Q72: فيجي | T72: FJI | U72: English
A73: Setting | B73: Entorno | C73: Milieu | D73: Тип учреждения | E73: جلسة | H73: 40 | I73: =HLOOKUP(Introduction!$G$4,nametranslations,H73,FALSE) -> Water: urban | L73: FLK | M73: Falkland Islands (Malvinas) | N73: Îles Falkland (Malvinas) | O73: Islas Malvinas (Falkland) | P73: Фолклендские (Мальвинские) острова | Q73: جزر فوكلاند (مالفيناس) | T73: FLK | U73: English
A74: Facility | B74: Instalaciónes | C74: Installation | D74: Приспособление | E74: امكانية | H74: 41 | I74: =HLOOKUP(Introduction!$G$4,nametranslations,H74,FALSE) -> Water: rural | L74: FRA | M74: France | N74: France | O74: Francia | P74: Франция | Q74: فرنسا | T74: FRA | U74: French
A75: Improved | B75: Mejorado | C75: Ameliorée | D75: Улучшенные | E75: محسّن | H75: 42 | I75: =HLOOKUP(Introduction!$G$4,nametranslations,H75,FALSE) -> Water: pre-primary | L75: FRO | M75: Faroe Islands | N75: Îles Féroé | O75: Islas Feroe | P75: Фарерские острова | Q75: جزر فايرو | T75: FRO | U75: English
A76: Basic (improved & available) | B76: Basico (mejorado y disponible) | C76: De base (ameliorée et disponible) | D76: Базовый уровень (улучшенные, имеется в наличии вода) | E76: أساسي (محسن ومتوفر) | H76: 43 | I76: =HLOOKUP(Introduction!$G$4,nametranslations,H76,FALSE) -> Water: primary | L76: FSM | M76: Micronesia (Federated States of) | N76: Micronésie (États fédérés de) | O76: Micronesia (Estados Federados de) | P76: Микронезия (Федеративные Штаты) | Q76: ميكرونيزيا (ولايات - الموحدة) | T76: FSM | U76: English
A77: Limited | B77: Limitado | C77: Limité | D77: Ограниченный уровень | E77: محدود | H77: 44 | I77: =HLOOKUP(Introduction!$G$4,nametranslations,H77,FALSE) -> Water: secondary | L77: GAB | M77: Gabon | N77: Gabon | O77: Gabón | P77: Габон | Q77: غابون | T77: GAB | U77: French
A78: No service | B78: Sin servicio | C78: Pas de service | D78: Отсутствие услуг | E78: لاتوجد خدمة | H78: 45 | I78: =HLOOKUP(Introduction!$G$4,nametranslations,H78,FALSE) -> Sanitation: total | L78: GBR | M78: United Kingdom of Great Britain and Northern Ireland | N78: Royaume-Uni de Grande-Bretagne et d’Irlande du Nord | O78: Reino Unido de Gran Bretaña e Irlanda del Norte | P78: Соединенное Королевство Великобритании и Северной Ирландии | Q78: المملكة المتحدة لبريطانيا العظمى وآيرلندا الشمالية | T78: GBR | U78: English
A79: Basic (improved, usable & single-sex) | B79: Básico (mejorado, utilizable y de un solo sexo) | C79: De base (améliorée, utilisable et non mixte) | D79: Базовый уровень (улучшенные, пригодные для пользования и раздельные для девочек и для мальчиков) | E79: أساسي (محسّن ، صالح للاستخدام ، أحادي الجنس) | H79: 46 | I79: =HLOOKUP(Introduction!$G$4,nametranslations,H79,FALSE) -> Sanitation: urban | L79: GEO | M79: Georgia | N79: Géorgie | O79: Georgia | P79: Грузия | Q79: جورجيا | T79: GEO | U79: English
A80: Facility with water | B80: Instalaciónes con agua | C80: Installation avec de l'eau | D80: Приспособление с водой | E80: مرفق بالماء | H80: 47 | I80: =HLOOKUP(Introduction!$G$4,nametranslations,H80,FALSE) -> Sanitation: rural | L80: GGY | M80: Guernsey | N80: Guernesey | O80: Guernsey | P80: Гернси | Q80: غيرنسي | T80: GGY | U80: English
A81: Basic (facility with water & soap) | B81: Básico (instalación con agua y jabón) | C81: De base (installation avec de l'eau et du savon) | D81: Базовый уровень (приспособление с водой и мылом) | E81: أساسي (مرفق بالماء والصابون) | H81: 48 | I81: =HLOOKUP(Introduction!$G$4,nametranslations,H81,FALSE) -> Sanitation: pre-primary | L81: GHA | M81: Ghana | N81: Ghana | O81: Ghana | P81: Гана | Q81: غانا | T81: GHA | U81: English
A82: Data summary tab glossary (if not already translated above) | H82: 49 | I82: =HLOOKUP(Introduction!$G$4,nametranslations,H82,FALSE) -> Sanitation: primary | L82: GIB | M82: Gibraltar | N82: Gibraltar | O82: Gibraltar | P82: Гибралтар | Q82: جبل طارق | T82: GIB | U82: English
A83: Summary of data from national surveys and censuses | B83: Resumen de datos de encuestas y censos nacionales | C83: Synthèse des données des enquêtes et recensements nationaux | D83: Перечень данных из национальных обследований и переписей населения | E83: ملخص البيانات من المسوحات والتعدادات الوطنية | H83: 50 | I83: =HLOOKUP(Introduction!$G$4,nametranslations,H83,FALSE) -> Sanitation: secondary | L83: GIN | M83: Guinea | N83: Guinée | O83: Guinea | P83: Гвинея | Q83: غينيا | T83: GIN | U83: French
A84: [values in square brackets not used] | B84: [los valores entre corchetes no se utilizan] | C84: [valeurs entre crochets non utilisées] | D84: [величины в квадратных скобках не использовались] | E84: [القيم الموضوعة بين قوسين معقوفين غير مستخدمة] | H84: 51 | I84: =HLOOKUP(Introduction!$G$4,nametranslations,H84,FALSE) -> Hygiene: total | L84: GLP | M84: Guadeloupe | N84: Guadeloupe | O84: Guadalupe | P84: Гваделупа | Q84: غوادلوب | T84: GLP | U84: French
A85: Drinking Water | B85: Agua para consumo | C85: Eau de boisson | D85: Питьевое водоснабжение | E85: مياه الشرب (٪) | H85: 52 | I85: =HLOOKUP(Introduction!$G$4,nametranslations,H85,FALSE) -> Hygiene: urban | L85: GMB | M85: Gambia | N85: Gambie | O85: Gambia | P85: Гамбия | Q85: غامبيا | T85: GMB | U85: English
A86: Sanitation | B86: Saneamiento | C86: Assainissement | D86: Санитария | E86: الصرف الصحي | H86: 53 | I86: =HLOOKUP(Introduction!$G$4,nametranslations,H86,FALSE) -> Hygiene: rural | L86: GNB | M86: Guinea-Bissau | N86: Guinée-Bissau | O86: Guinea-Bissau | P86: Гвинея-Бисау | Q86: غينيا - بيساو | T86: GNB | U86: French
A87: Hygiene | B87: Higiene | C87: Hygiène | D87: Гигиена | E87: صحة | H87: 54 | I87: =HLOOKUP(Introduction!$G$4,nametranslations,H87,FALSE) -> Hygiene: pre-primary | L87: GNQ | M87: Equatorial Guinea | N87: Guinée équatoriale | O87: Guinea Ecuatorial | P87: Экваториальная Гвинея | Q87: غينيا الاستوائية | T87: GNQ | U87: French
A88: Type | B88: Tipo de fuente | C88: Type de source de données | D88: Тип | E88: نوع | H88: 55 | I88: =HLOOKUP(Introduction!$G$4,nametranslations,H88,FALSE) -> Hygiene: primary | L88: GRC | M88: Greece | N88: Grèce | O88: Grecia | P88: Греция | Q88: اليونان | T88: GRC | U88: French
A89: Source | B89: Fuente | C89: Source de données | D89: Источник | E89: مصدر | H89: 56 | I89: =HLOOKUP(Introduction!$G$4,nametranslations,H89,FALSE) -> Hygiene: secondary | L89: GRD | M89: Grenada | N89: Grenade | O89: Granada | P89: Гренада | Q89: غرينادا | T89: GRD | U89: English
A90: Improved & usable | B90: Mejorado y utilizable | C90: Améliorée et utilisable | D90: Улучшенные и пригодные для пользования | E90: محسن وقابل للاستخدام | L90: GRL | M90: Greenland | N90: Groenland | O90: Groenlandia | P90: Гренландия | Q90: غرينلند | T90: GRL | U90: English
A91: Improved & single-sex | B91: Mejorado y de un solo sexo | C91: Améliorée et non mixte | D91: Улучшенные и раздельные для девочек и для мальчиков | E91: محسّن ومخصص للجنس الواحد | L91: GTM | M91: Guatemala | N91: Guatemala | O91: Guatemala | P91: Гватемала | Q91: غواتيمالا | T91: GTM | U91: Spanish
A92: Handwashing facility | B92: Instalación para lavarse las manos | C92: Installation destinée au lavage des mains | D92: Приспособление для мытья рук | E92: مرفق غسيل اليدين | L92: GUF | M92: French Guiana | N92: Guyane française | O92: Guayana Francesa | P92: Французская Гвиана | Q92: غيانا الفرنسية | T92: GUF | U92: French
A93: Handwashing facility with water | B93: Instalación para lavarse las manos con agua | C93: Installation destinée au lavage des mains, avec de l'eau | D93: Приспособление для мытья рук с водой | E93: مرفق غسيل اليدين بالماء | L93: GUM | M93: Guam | N93: Guam | O93: Guam | P93: Гуам | Q93: غوام | T93: GUM | U93: English
A94: EMIS | B94: EMIS | C94: EMIS | D94: ИСУО | E94: EMIS | L94: GUY | M94: Guyana | N94: Guyana | O94: Guyana | P94: Гайана | Q94: غيانا | T94: GUY | U94: English
A95: Survey | B95: Encuesta | C95: Enquête | D95: Обследование | E95: الدراسة الاستقصائية | L95: HKG | M95: China, Hong Kong Special Administrative Region | N95: Chine, région administrative spéciale de Hong Kong | O95: China, región administrativa especial de Hong Kong | P95: Китай, Специальный административный район Гонконг | Q95: الصين، منطقة هونغ كونغ الإدارية الخاصة | T95: HKG | U95: English
A96: Census | B96: Censo | C96: Recensement | D96: Перепись населения | E96: التعداد | L96: HMD | M96: Heard Island and McDonald Islands | N96: Île Heard-et-Îles MacDonald | O96: Islas Heard y McDonald | P96: Остров Херд и острова Макдональд | Q96: جزيرة هيرد وجزر ماكدونالد | T96: HMD | U96: English
A97: Other | B97: Otro | C97: Autre | D97: Другое | E97: آخر | L97: HND | M97: Honduras | N97: Honduras | O97: Honduras | P97: Гондурас | Q97: هندوراس | T97: HND | U97: Spanish
A98: Survey with microdata | B98: Encuesta con microdatos | C98: Enquête avec microdonnées | D98: Обследование с микроданными | E98: المسح باستخدام البيانات الجزئية | L98: HRV | M98: Croatia | N98: Croatie | O98: Croacia | P98: Хорватия | Q98: كرواتيا | T98: HRV | U98: English
A99: Admin | B99: Admin | C99: Admin | D99: Административная отчётность | E99: إداري | L99: HTI | M99: Haiti | N99: Haïti | O99: Haití | P99: Гаити | Q99: هايتي | T99: HTI | U99: French
A100: Input tabs glossary (if not already translated above) | L100: HUN | M100: Hungary | N100: Hongrie | O100: Hungría | P100: Венгрия | Q100: هنغاريا | T100: HUN | U100: English
...

Sheet Introduction
G3: Choose language
C4: =HLOOKUP(Introduction!$G$4,Key!A:G,3,FALSE) -> Joint Monitoring Programme for Water Supply, Sanitation and Hygiene | G4: =+VLOOKUP(Introduction!$G$8,ISO3language,2,FALSE) -> English
C6: =HLOOKUP(Introduction!$G$4,Key!A:G,4,FALSE) -> Estimates on water, sanitation, hygiene in schools
C7: =IF($G$4="English",VLOOKUP($G$8,Key!$L$2:$S$247,2,FALSE),IF($G$4="Spanish",VLOOKUP($G$8,Key!$L$2:$S$247,4,FALSE),IF($G$4="French",VLOOKUP($G$8,Key!$L$2:$S$247,3,FALSE),IF($G$4="Russian",VLOOKUP($G$8,Key!$L$2:$S$247,5,FALSE),IF($G$4="Arabic",VLOOKUP($G$8,Key!$L$2:$S$247,6,FALSE),IF($G$4="Other",VLOOKUP($G$8,Key!$L$2:$S$247,7,FALSE))))))) -> Republic of Moldova | G7: ISO3 CODE
G8: MDA
C9: =HLOOKUP(Introduction!$G$4,Key!A:G,6,FALSE) -> Updated September 2026
C11: =HLOOKUP(Introduction!$G$4,Key!A:G,7,FALSE) -> Follow the links below to find the following information:
C13: =HLOOKUP(Introduction!$G$4,Key!A:G,8,FALSE) -> JMP Estimates:
C14: =HLOOKUP(Introduction!$G$4,Key!A:G,9,FALSE) -> WASH ladders for schools
C15: =HLOOKUP(Introduction!$G$4,Key!A:G,10,FALSE) -> Trends in basic WASH in schools
C16: =HLOOKUP(Introduction!$G$4,Key!A:G,11,FALSE) -> Estimates (2000-2025) for schools
C18: =HLOOKUP(Introduction!$G$4,Key!A:G,12,FALSE) -> Data inputs:
C19: =HLOOKUP(Introduction!$G$4,Key!A:G,13,FALSE) -> Data summary
C20: =HLOOKUP(Introduction!$G$4,Key!A:G,14,FALSE) -> Water Data
C21: =HLOOKUP(Introduction!$G$4,Key!A:G,15,FALSE) -> Sanitation Data
C22: =HLOOKUP(Introduction!$G$4,Key!A:G,16,FALSE) -> Hygiene Data
C23: =HLOOKUP(Introduction!$G$4,Key!A:G,17,FALSE) -> Population Data
L46: =+IF(ISNUMBER(M39), "", "Insufficient data to estimate safely managed sanitation services at national level") -> Insufficient data to estimate safely managed sanitation services at national level

Sheet Regressions
A1: Ladders
A2: Drinking water | J2: Sanitation | S2: Hygiene
B3: Year | C3: National | D3: Rural | E3: Urban | F3: Pre-Primary | G3: Primary | H3: Secondary | K3: Year | L3: National | M3: Rural | N3: Urban | O3: Pre-Primary | P3: Primary | Q3: Secondary | T3: Year | U3: National | V3: Rural | W3: Urban | X3: Pre-Primary | Y3: Primary | Z3: Secondary
A4: Basic service | B4: 2025 | C4: 88.081479 | J4: Basic service | K4: 2025 | L4: 96.03 | S4: Basic service | T4: 2025 | U4: 92.396506 | Y4: 96.518082 | Z4: 91.447541
A5: Limited service | B5: 2025 | C5: 0 | J5: Limited service | K5: 2025 | L5: 3.97 | S5: Limited service | T5: 2025 | U5: 7.6034945 | Y5: 3.4819176 | Z5: 8.5524594
A6: No service | B6: 2025 | C6: 11.918521 | G6: 0 | H6: 0 | J6: No service | K6: 2025 | L6: 0 | P6: 0 | Q6: 0 | S6: No service | T6: 2025 | U6: 0 | Y6: 0 | Z6: 0
A7: Insufficient data | B7: 2025 | C7: 0 | D7: 100 | E7: 100 | F7: 100 | G7: 100 | H7: 100 | J7: Insufficient data | K7: 2025 | L7: 0 | M7: 100 | N7: 100 | O7: 100 | P7: 100 | Q7: 100 | S7: Insufficient data | T7: 2025 | U7: 0 | V7: 100 | W7: 100 | X7: 100 | Y7: 0 | Z7: 0
A12: Estimates (based on data summary tab)
A13: country | B13: year | C13: setting | D13: pop_ | E13: wat_fac_ | F13: wat_imp_ | G13: wat_bas_ | H13: wat_lim_ | I13: wat_none_ | J13: wat_nd_ | K13: san_fac_ | L13: san_imp_ | M13: san_bas_ | N13: san_lim_ | O13: san_none_ | P13: san_nd_ | Q13: hyg_fac_ | R13: hyg_wat_ | S13: hyg_bas_ | T13: hyg_lim_ | U13: hyg_none_ | V13: hyg_nd_
A14: Republic of Moldova | B14: 2000 | C14: National | D14: 501102 | E14: 100 | J14: 100 | K14: 100 | O14: 0 | P14: 100 | V14: 100
A15: Republic of Moldova | B15: 2001 | C15: National | D15: 501102 | E15: 100 | J15: 100 | K15: 100 | O15: 0 | P15: 100 | V15: 100
A16: Republic of Moldova | B16: 2002 | C16: National | D16: 501102 | E16: 100 | J16: 100 | K16: 100 | O16: 0 | P16: 100 | V16: 100
A17: Republic of Moldova | B17: 2003 | C17: National | D17: 501102 | E17: 100 | J17: 100 | K17: 100 | O17: 0 | P17: 100 | V17: 100
A18: Republic of Moldova | B18: 2004 | C18: National | D18: 501102 | E18: 100 | F18: 90.740093 | G18: 79.266691 | H18: 11.473402 | I18: 9.2599068 | J18: 0 | K18: 100 | M18: 70.87 | N18: 29.13 | O18: 0 | P18: 0 | Q18: 98.673548 | R18: 82.368 | S18: 82.368 | T18: 0 | U18: 17.632 | V18: 0
A19: Republic of Moldova | B19: 2005 | C19: National | D19: 501102 | E19: 100 | F19: 90.740093 | G19: 79.266691 | H19: 11.473402 | I19: 9.2599068 | J19: 0 | K19: 100 | M19: 70.87 | N19: 29.13 | O19: 0 | P19: 0 | Q19: 98.673548 | R19: 82.368 | S19: 82.368 | T19: 0 | U19: 17.632 | V19: 0
A20: Republic of Moldova | B20: 2006 | C20: National | D20: 501102 | E20: 100 | F20: 90.740093 | G20: 79.266691 | H20: 11.473402 | I20: 9.2599068 | J20: 0 | K20: 100 | M20: 70.87 | N20: 29.13 | O20: 0 | P20: 0 | Q20: 98.673548 | R20: 82.368 | S20: 82.368 | T20: 0 | U20: 17.632 | V20: 0
A21: Republic of Moldova | B21: 2007 | C21: National | D21: 501102 | E21: 100 | F21: 90.740093 | G21: 79.266691 | H21: 11.473402 | I21: 9.2599068 | J21: 0 | K21: 100 | M21: 70.87 | N21: 29.13 | O21: 0 | P21: 0 | Q21: 98.673548 | R21: 82.368 | S21: 82.368 | T21: 0 | U21: 17.632 | V21: 0
A22: Republic of Moldova | B22: 2008 | C22: National | D22: 501102 | E22: 100 | F22: 90.740093 | G22: 79.266691 | H22: 11.473402 | I22: 9.2599068 | J22: 0 | K22: 100 | M22: 70.87 | N22: 29.13 | O22: 0 | P22: 0 | Q22: 98.673548 | R22: 82.368 | S22: 82.368 | T22: 0 | U22: 17.632 | V22: 0
A23: Republic of Moldova | B23: 2009 | C23: National | D23: 501102 | E23: 100 | F23: 90.583704 | G23: 79.939916 | H23: 10.643788 | I23: 9.4162958 | J23: 0 | K23: 100 | M23: 72.35 | N23: 27.65 | O23: 0 | P23: 0 | Q23: 98.787097 | R23: 84.192 | S23: 84.192 | T23: 0 | U23: 15.808 | V23: 0
A24: Republic of Moldova | B24: 2010 | C24: National | D24: 501102 | E24: 100 | F24: 90.427315 | G24: 80.613141 | H24: 9.8141737 | I24: 9.5726849 | J24: 0 | K24: 100 | M24: 73.83 | N24: 26.17 | O24: 0 | P24: 0 | Q24: 98.900645 | R24: 86.016 | S24: 86.016 | T24: 0 | U24: 13.984 | V24: 0
A25: Republic of Moldova | B25: 2011 | C25: National | D25: 501102 | E25: 100 | F25: 90.270926 | G25: 81.286366 | H25: 8.9845595 | I25: 9.729074 | J25: 0 | K25: 100 | M25: 75.31 | N25: 24.69 | O25: 0 | P25: 0 | Q25: 99.014194 | R25: 87.84 | S25: 86.79507 | T25: 1.0449298 | U25: 12.16 | V25: 0
A26: Republic of Moldova | B26: 2012 | C26: National | D26: 501102 | E26: 100 | F26: 90.114537 | G26: 81.959592 | H26: 8.1549454 | I26: 9.885463 | J26: 0 | K26: 100 | M26: 76.79 | N26: 23.21 | O26: 0 | P26: 0 | Q26: 99.127742 | R26: 89.664 | S26: 87.195173 | T26: 2.4688273 | U26: 10.336 | V26: 0
A27: Republic of Moldova | B27: 2013 | C27: National | D27: 502035 | E27: 100 | F27: 89.958148 | G27: 82.632817 | H27: 7.3253312 | I27: 10.041852 | J27: 0 | K27: 100 | M27: 78.27 | N27: 21.73 | O27: 0 | P27: 0 | Q27: 99.24129 | R27: 91.488 | S27: 87.595275 | T27: 3.8927248 | U27: 8.512 | V27: 0
A28: Republic of Moldova | B28: 2014 | C28: National | D28: 510929 | E28: 100 | F28: 89.801759 | G28: 83.306042 | H28: 6.495717 | I28: 10.198241 | J28: 0 | K28: 100 | M28: 79.75 | N28: 20.25 | O28: 0 | P28: 0 | Q28: 99.354839 | R28: 93.312 | S28: 87.995378 | T28: 5.3166223 | U28: 6.688 | V28: 0
A29: Republic of Moldova | B29: 2015 | C29: National | D29: 497615 | E29: 99.996354 | F29: 89.64537 | G29: 83.979267 | H29: 5.6661028 | I29: 10.35463 | J29: 0 | K29: 100 | M29: 81.23 | N29: 18.77 | O29: 0 | P29: 0 | Q29: 99.468387 | R29: 95.136 | S29: 88.39548 | T29: 6.7405197 | U29: 4.864 | V29: 0
... A39: Republic of Moldova | B39: 2025 | C39: National | D39: 510430 | E39: 99.880895 | F39: 88.081479 | G39: 88.081479 | H39: 0 | I39: 11.918521 | J39: 0 | K39: 100 | M39: 96.03 | N39: 3.97 | O39: 0 | P39: 0 | Q39: 100 | R39: 100 | S39: 92.396506 | T39: 7.6034945 | U39: 0 | V39: 0
A40: Republic of Moldova | B40: 2026 | C40: National | E40: 99.869349 | F40: 87.92509 | G40: 87.92509 | H40: 0 | I40: 12.07491 | J40: 0 | K40: 100 | M40: 97.51 | N40: 2.49 | O40: 0 | P40: 0 | Q40: 100 | R40: 100 | S40: 92.796608 | T40: 7.203392 | U40: 0 | V40: 0
A41: Republic of Moldova | B41: 2027 | C41: National | E41: 99.869349 | F41: 87.92509 | G41: 87.92509 | H41: 0 | I41: 12.07491 | J41: 0 | K41: 100 | M41: 97.51 | N41: 2.49 | O41: 0 | P41: 0 | Q41: 100 | R41: 100 | S41: 93.196711 | T41: 6.8032895 | U41: 0 | V41: 0
A42: Republic of Moldova | B42: 2028 | C42: National | E42: 99.869349 | F42: 87.92509 | G42: 87.92509 | H42: 0 | I42: 12.07491 | J42: 0 | K42: 100 | M42: 97.51 | N42: 2.49 | O42: 0 | P42: 0 | Q42: 100 | R42: 100 | S42: 93.196711 | T42: 6.8032895 | U42: 0 | V42: 0
A43: Republic of Moldova | B43: 2029 | C43: National | E43: 99.869349 | F43: 87.92509 | G43: 87.92509 | H43: 0 | I43: 12.07491 | J43: 0 | K43: 100 | M43: 97.51 | N43: 2.49 | O43: 0 | P43: 0 | Q43: 100 | R43: 100 | S43: 93.196711 | T43: 6.8032895 | U43: 0 | V43: 0
A44: Republic of Moldova | B44: 2030 | C44: National | E44: 99.869349 | F44: 87.92509 | G44: 87.92509 | H44: 0 | I44: 12.07491 | J44: 0 | K44: 100 | M44: 97.51 | N44: 2.49 | O44: 0 | P44: 0 | Q44: 100 | R44: 100 | S44: 93.196711 | T44: 6.8032895 | U44: 0 | V44: 0
A45: Republic of Moldova | B45: 2000 | C45: Urban | D45: 223436.37 | E45: 100 | J45: 100 | P45: 100 | Q45: 99.7 | V45: 100
A46: Republic of Moldova | B46: 2001 | C46: Urban | D46: 221431.96 | E46: 100 | J46: 100 | P46: 100 | Q46: 99.7 | V46: 100
A47: Republic of Moldova | B47: 2002 | C47: Urban | D47: 219427.54 | E47: 100 | J47: 100 | P47: 100 | Q47: 99.7 | V47: 100
A48: Republic of Moldova | B48: 2003 | C48: Urban | D48: 217423.15 | E48: 100 | J48: 100 | P48: 100 | Q48: 99.7 | V48: 100
A49: Republic of Moldova | B49: 2004 | C49: Urban | D49: 215423.74 | E49: 100 | J49: 100 | P49: 100 | Q49: 99.7 | V49: 100
A50: Republic of Moldova | B50: 2005 | C50: Urban | D50: 214346.37 | E50: 100 | J50: 100 | P50: 100 | Q50: 99.7 | V50: 100
A51: Republic of Moldova | B51: 2006 | C51: Urban | D51: 214191.04 | E51: 100 | F51: 98.3 | I51: 1.7 | J51: 98.3 | M51: 81.9 | P51: 18.1 | Q51: 99.7 | R51: 96.3 | S51: 88.2 | T51: 8.1 | U51: 3.7 | V51: 0
A52: Republic of Moldova | B52: 2007 | C52: Urban | D52: 214035.7 | E52: 100 | F52: 98.3 | I52: 1.7 | J52: 98.3 | M52: 81.9 | P52: 18.1 | Q52: 99.7 | R52: 96.3 | S52: 88.2 | T52: 8.1 | U52: 3.7 | V52: 0
A53: Republic of Moldova | B53: 2008 | C53: Urban | D53: 213880.35 | E53: 100 | F53: 98.3 | I53: 1.7 | J53: 98.3 | M53: 81.9 | P53: 18.1 | Q53: 99.7 | R53: 96.3 | S53: 88.2 | T53: 8.1 | U53: 3.7 | V53: 0
A54: Republic of Moldova | B54: 2009 | C54: Urban | D54: 213725.02 | E54: 100 | F54: 98.3 | I54: 1.7 | J54: 98.3 | M54: 81.9 | P54: 18.1 | Q54: 99.7 | R54: 96.3 | S54: 88.2 | T54: 8.1 | U54: 3.7 | V54: 0
A55: Republic of Moldova | B55: 2010 | C55: Urban | D55: 213569.67 | E55: 100 | F55: 98.3 | I55: 1.7 | J55: 98.3 | M55: 81.9 | P55: 18.1 | Q55: 99.7 | R55: 96.3 | S55: 88.2 | T55: 8.1 | U55: 3.7 | V55: 0
A56: Republic of Moldova | B56: 2011 | C56: Urban | D56: 213414.33 | E56: 100 | F56: 98.3 | I56: 1.7 | J56: 98.3 | M56: 81.9 | P56: 18.1 | Q56: 99.7 | R56: 96.3 | S56: 88.2 | T56: 8.1 | U56: 3.7 | V56: 0
A57: Republic of Moldova | B57: 2012 | C57: Urban | D57: 213258.98 | E57: 100 | F57: 98.3 | I57: 1.7 | J57: 98.3 | M57: 81.9 | P57: 18.1 | Q57: 99.7 | R57: 96.3 | S57: 88.2 | T57: 8.1 | U57: 3.7 | V57: 0
A58: Republic of Moldova | B58: 2013 | C58: Urban | D58: 213500.43 | E58: 100 | F58: 98.3 | I58: 1.7 | J58: 98.3 | M58: 81.9 | P58: 18.1 | Q58: 99.7 | R58: 96.3 | S58: 88.2 | T58: 8.1 | U58: 3.7 | V58: 0
A59: Republic of Moldova | B59: 2014 | C59: Urban | D59: 217124.38 | E59: 100 | F59: 98.3 | I59: 1.7 | J59: 98.3 | M59: 81.9 | P59: 18.1 | Q59: 99.7 | R59: 96.3 | S59: 88.2 | T59: 8.1 | U59: 3.7 | V59: 0
A60: Republic of Moldova | B60: 2015 | C60: Urban | D60: 211436.6 | E60: 100 | J60: 100 | P60: 100 | Q60: 99.7 | V60: 100
A61: Republic of Moldova | B61: 2016 | C61: Urban | D61: 208086.25 | E61: 100 | J61: 100 | P61: 100 | Q61: 99.7 | V61: 100
A62: Republic of Moldova | B62: 2017 | C62: Urban | D62: 219654.55 | E62: 100 | J62: 100 | P62: 100 | Q62: 99.7 | V62: 100
A63: Republic of Moldova | B63: 2018 | C63: Urban | D63: 218586.17 | E63: 100 | J63: 100 | P63: 100 | Q63: 99.7 | V63: 100
A64: Republic of Moldova | B64: 2019 | C64: Urban | D64: 217650.95 | E64: 100 | J64: 100 | P64: 100 | Q64: 99.7 | V64: 100
A65: Republic of Moldova | B65: 2020 | C65: Urban | D65: 215964.12 | E65: 100 | J65: 100 | P65: 100 | Q65: 99.7 | V65: 100
A66: Republic of Moldova | B66: 2021 | C66: Urban | D66: 219073.53 | E66: 100 | J66: 100 | P66: 100 | Q66: 99.7 | V66: 100
A67: Republic of Moldova | B67: 2022 | C67: Urban | D67: 220367.95 | E67: 100 | J67: 100 | P67: 100 | Q67: 99.7 | V67: 100
A68: Republic of Moldova | B68: 2023 | C68: Urban | D68: 221388.81 | E68: 100 | J68: 100 | P68: 100 | Q68: 99.7 | V68: 100
A69: Republic of Moldova | B69: 2024 | C69: Urban | D69: 222542.37 | E69: 100 | J69: 100 | P69: 100 | Q69: 99.7 | V69: 100
A70: Republic of Moldova | B70: 2025 | C70: Urban | D70: 223833.77 | E70: 100 | J70: 100 | P70: 100 | Q70: 99.7 | V70: 100
A71: Republic of Moldova | B71: 2026 | C71: Urban | E71: 100 | J71: 100 | P71: 100 | Q71: 99.7 | V71: 100
A72: Republic of Moldova | B72: 2027 | C72: Urban | E72: 100 | J72: 100 | P72: 100 | Q72: 99.7 | V72: 100
A73: Republic of Moldova | B73: 2028 | C73: Urban | E73: 100 | J73: 100 | P73: 100 | Q73: 99.7 | V73: 100
A74: Republic of Moldova | B74: 2029 | C74: Urban | E74: 100 | J74: 100 | P74: 100 | Q74: 99.7 | V74: 100
A75: Republic of Moldova | B75: 2030 | C75: Urban | E75: 100 | J75: 100 | P75: 100 | Q75: 99.7 | V75: 100
A76: Republic of Moldova | B76: 2000 | C76: Rural | D76: 277665.63 | E76: 100 | J76: 100 | P76: 100 | V76: 100
A77: Republic of Moldova | B77: 2001 | C77: Rural | D77: 279670.04 | E77: 100 | J77: 100 | P77: 100 | V77: 100
A78: Republic of Moldova | B78: 2002 | C78: Rural | D78: 281674.46 | E78: 100 | J78: 100 | P78: 100 | V78: 100
A79: Republic of Moldova | B79: 2003 | C79: Rural | D79: 283678.85 | E79: 100 | J79: 100 | P79: 100 | V79: 100
A80: Republic of Moldova | B80: 2004 | C80: Rural | D80: 285678.26 | E80: 100 | J80: 100 | P80: 100 | V80: 100
A81: Republic of Moldova | B81: 2005 | C81: Rural | D81: 286755.63 | E81: 100 | J81: 100 | P81: 100 | V81: 100
A82: Republic of Moldova | B82: 2006 | C82: Rural | D82: 286910.96 | E82: 100 | F82: 82.8 | I82: 17.2 | J82: 82.8 | M82: 73.3 | P82: 26.7 | Q82: 98 | R82: 80.8 | S82: 70.8 | T82: 10 | U82: 19.2 | V82: 0
A83: Republic of Moldova | B83: 2007 | C83: Rural | D83: 287066.3 | E83: 100 | F83: 82.8 | I83: 17.2 | J83: 82.8 | M83: 73.3 | P83: 26.7 | Q83: 98 | R83: 80.8 | S83: 70.8 | T83: 10 | U83: 19.2 | V83: 0
A84: Republic of Moldova | B84: 2008 | C84: Rural | D84: 287221.65 | E84: 100 | F84: 82.8 | I84: 17.2 | J84: 82.8 | M84: 73.3 | P84: 26.7 | Q84: 98 | R84: 80.8 | S84: 70.8 | T84: 10 | U84: 19.2 | V84: 0
A85: Republic of Moldova | B85: 2009 | C85: Rural | D85: 287376.98 | E85: 100 | F85: 82.8 | I85: 17.2 | J85: 82.8 | M85: 73.3 | P85: 26.7 | Q85: 98 | R85: 80.8 | S85: 70.8 | T85: 10 | U85: 19.2 | V85: 0
A86: Republic of Moldova | B86: 2010 | C86: Rural | D86: 287532.33 | E86: 100 | F86: 82.8 | I86: 17.2 | J86: 82.8 | M86: 73.3 | P86: 26.7 | Q86: 98 | R86: 80.8 | S86: 70.8 | T86: 10 | U86: 19.2 | V86: 0
A87: Republic of Moldova | B87: 2011 | C87: Rural | D87: 287687.67 | E87: 100 | F87: 82.8 | I87: 17.2 | J87: 82.8 | M87: 73.3 | P87: 26.7 | Q87: 98 | R87: 80.8 | S87: 70.8 | T87: 10 | U87: 19.2 | V87: 0
A88: Republic of Moldova | B88: 2012 | C88: Rural | D88: 287843.02 | E88: 100 | F88: 82.8 | I88: 17.2 | J88: 82.8 | M88: 73.3 | P88: 26.7 | Q88: 98 | R88: 80.8 | S88: 70.8 | T88: 10 | U88: 19.2 | V88: 0
A89: Republic of Moldova | B89: 2013 | C89: Rural | D89: 288534.57 | E89: 100 | F89: 82.8 | I89: 17.2 | J89: 82.8 | M89: 73.3 | P89: 26.7 | Q89: 98 | R89: 80.8 | S89: 70.8 | T89: 10 | U89: 19.2 | V89: 0
A90: Republic of Moldova | B90: 2014 | C90: Rural | D90: 293804.62 | E90: 100 | F90: 82.8 | I90: 17.2 | J90: 82.8 | M90: 73.3 | P90: 26.7 | Q90: 98 | R90: 80.8 | S90: 70.8 | T90: 10 | U90: 19.2 | V90: 0
A91: Republic of Moldova | B91: 2015 | C91: Rural | D91: 286178.4 | E91: 100 | J91: 100 | P91: 100 | V91: 100
A92: Republic of Moldova | B92: 2016 | C92: Rural | D92: 281401.75 | E92: 100 | J92: 100 | P92: 100 | V92: 100
A93: Republic of Moldova | B93: 2017 | C93: Rural | D93: 296487.45 | E93: 100 | J93: 100 | P93: 100 | V93: 100
A94: Republic of Moldova | B94: 2018 | C94: Rural | D94: 294177.83 | E94: 100 | J94: 100 | P94: 100 | V94: 100
A95: Republic of Moldova | B95: 2019 | C95: Rural | D95: 291760.05 | E95: 100 | J95: 100 | P95: 100 | V95: 100
A96: Republic of Moldova | B96: 2020 | C96: Rural | D96: 288047.88 | E96: 100 | J96: 100 | P96: 100 | V96: 100
A97: Republic of Moldova | B97: 2021 | C97: Rural | D97: 290423.47 | E97: 100 | J97: 100 | P97: 100 | V97: 100
A98: Republic of Moldova | B98: 2022 | C98: Rural | D98: 290062.05 | E98: 100 | J98: 100 | P98: 100 | V98: 100
A99: Republic of Moldova | B99: 2023 | C99: Rural | D99: 289041.19 | E99: 100 | J99: 100 | P99: 100 | V99: 100
A100: Republic of Moldova | B100: 2024 | C100: Rural | D100: 287887.63 | E100: 100 | J100: 100 | P100: 100 | V100: 100
A101: Republic of Moldova | B101: 2025 | C101: Rural | D101: 286596.23 | E101: 100 | J101: 100 | P101: 100 | V101: 100
A102: Republic of Moldova | B102: 2026 | C102: Rural | E102: 100 | J102: 100 | P102: 100 | V102: 100
A103: Republic of Moldova | B103: 2027 | C103: Rural | E103: 100 | J103: 100 | P103: 100 | V103: 100
A104: Republic of Moldova | B104: 2028 | C104: Rural | E104: 100 | J104: 100 | P104: 100 | V104: 100
A105: Republic of Moldova | B105: 2029 | C105: Rural | E105: 100 | J105: 100 | P105: 100 | V105: 100
A106: Republic of Moldova | B106: 2030 | C106: Rural | E106: 100 | J106: 100 | P106: 100 | V106: 100
A107: Republic of Moldova | B107: 2000 | C107: Pre-primary | D107: 147024 | J107: 100 | P107: 100 | V107: 100
A108: Republic of Moldova | B108: 2001 | C108: Pre-primary | D108: 147024 | J108: 100 | P108: 100 | V108: 100
A109: Republic of Moldova | B109: 2002 | C109: Pre-primary | D109: 147024 | J109: 100 | P109: 100 | V109: 100
A110: Republic of Moldova | B110: 2003 | C110: Pre-primary | D110: 147024 | J110: 100 | P110: 100 | V110: 100
A111: Republic of Moldova | B111: 2004 | C111: Pre-primary | D111: 147024 | J111: 100 | P111: 100 | V111: 100
A112: Republic of Moldova | B112: 2005 | C112: Pre-primary | D112: 147024 | J112: 100 | P112: 100 | V112: 100
A113: Republic of Moldova | B113: 2006 | C113: Pre-primary | D113: 147024 | J113: 100 | P113: 100 | V113: 100
...

Sheet Ladders
A1: =HLOOKUP(Introduction!$G$4,nametranslations,20,FALSE) -> Water, sanitation and hygiene ladders for schools | B1: =HLOOKUP([1]Introduction!$G$4,nametranslations,5,FALSE) -> Republic of Moldova | C1: =HLOOKUP([1]Introduction!$G$4,nametranslations,5,FALSE) -> Republic of Moldova | D1: =HLOOKUP([1]Introduction!$G$4,nametranslations,5,FALSE) -> Republic of Moldova | E1: =HLOOKUP([1]Introduction!$G$4,nametranslations,5,FALSE) -> Republic of Moldova | F1: =HLOOKUP([1]Introduction!$G$4,nametranslations,5,FALSE) -> Republic of Moldova | G1: =HLOOKUP([1]Introduction!$G$4,nametranslations,5,FALSE) -> Republic of Moldova | H1: =HLOOKUP([1]Introduction!$G$4,nametranslations,5,FALSE) -> Republic of Moldova | I1: =HLOOKUP([1]Introduction!$G$4,nametranslations,5,FALSE) -> Republic of Moldova | ... V1: =HLOOKUP([1]Introduction!$G$4,nametranslations,5,FALSE) -> Republic of Moldova
A2: =HLOOKUP([1]Introduction!$G$4,nametranslations,5,FALSE) -> Republic of Moldova | B2: =HLOOKUP([1]Introduction!$G$4,nametranslations,5,FALSE) -> Republic of Moldova | C2: =HLOOKUP([1]Introduction!$G$4,nametranslations,5,FALSE) -> Republic of Moldova | D2: =HLOOKUP([1]Introduction!$G$4,nametranslations,5,FALSE) -> Republic of Moldova | E2: =HLOOKUP([1]Introduction!$G$4,nametranslations,5,FALSE) -> Republic of Moldova | F2: =HLOOKUP([1]Introduction!$G$4,nametranslations,5,FALSE) -> Republic of Moldova | G2: =HLOOKUP([1]Introduction!$G$4,nametranslations,5,FALSE) -> Republic of Moldova | H2: =HLOOKUP([1]Introduction!$G$4,nametranslations,5,FALSE) -> Republic of Moldova | ... V2: =HLOOKUP([1]Introduction!$G$4,nametranslations,5,FALSE) -> Republic of Moldova
B4: =HLOOKUP(Introduction!$G$4,nametranslations,85,FALSE) -> Drinking Water | I4: =HLOOKUP(Introduction!$G$4,nametranslations,22,FALSE) -> Sanitation | P4: =HLOOKUP(Introduction!$G$4,nametranslations,23,FALSE) -> Hygiene
C25: =+IF(OR((C28=Key!$I$26&"*"),(D28=Key!$I$28&"*"),(E28=Key!$I$27&"*"),(F28=Key!$I$29&"*"),(G28=Key!$I$30&"*"),(H28=Key!$I$31&"*"),(C28=Key!$I$26&"*^"),(D28=Key!$I$28&"*^"),(E28=Key!$I$27&"*^"),(F28="*^"),(G28=Key!$I$30&"*^"),(H28=Key!$I$31&"*^")),"*"&HLOOKUP(Introduction!$G$4,nametranslations,35,FALSE),"") -> *No basic service estimate available | J25: =+IF(OR((J28=Key!$I$26&"*"),(K28=Key!$I$28&"*"),(L28=Key!$I$27&"*"),(M28=Key!$I$29&"*"),(N28=Key!$I$30&"*"),(O28=Key!$I$31&"*"),(J28=Key!$I$26&"*^"),(K28=Key!$I$28&"*^"),(L28=Key!$I$27&"*^"),(M28="*^"),(N28=Key!$I$30&"*^"),(O28=Key!$I$31&"*^")),"*"&HLOOKUP(Introduction!$G$4,nametranslations,35,FALSE),"") -> *No basic service estimate available | Q25: =+IF(OR((Q28=Key!$I$26&"*"),(R28=Key!$I$28&"*"),(S28=Key!$I$27&"*"),(T28=Key!$I$29&"*"),(U28=Key!$I$30&"*"),(V28=Key!$I$31&"*"),(Q28=Key!$I$26&"*^"),(R28=Key!$I$28&"*^"),(S28=Key!$I$27&"*^"),(T28="*^"),(U28=Key!$I$30&"*^"),(V28=Key!$I$31&"*^")),"*"&HLOOKUP(Introduction!$G$4,nametranslations,35,FALSE),"") -> *No basic service estimate available
C26: =+IF(OR((C28=Key!$I$26&"*^"),(D28=Key!$I$28&"*^"),(E28=Key!$I$27&"*^"),(F28=Key!$I$29&"*^"),(G28=Key!$I$30&"*^"),(H28=Key!$I$31&"^")),HLOOKUP(Introduction!$G$4,nametranslations,155,FALSE),"") | J26: =+IF(OR((J28=Key!$I$26&"*^"),(K28=Key!$I$28&"*^"),(L28=Key!$I$27&"*^"),(M28=Key!$I$29&"*^"),(N28=Key!$I$30&"*^"),(O28=Key!$I$31&"^")),HLOOKUP(Introduction!$G$4,nametranslations,155,FALSE),"") | Q26: =+IF(OR((Q28=Key!$I$26&"*^"),(R28=Key!$I$28&"*^"),(S28=Key!$I$27&"*^"),(T28=Key!$I$29&"*^"),(U28=Key!$I$30&"*^"),(V28=Key!$I$31&"^")),HLOOKUP(Introduction!$G$4,nametranslations,156,FALSE),"")
B27: =+Introduction!C7 -> Republic of Moldova | C27: =HLOOKUP(Introduction!$G$4,nametranslations,21,FALSE) -> Water | D27: =HLOOKUP([1]Introduction!$G$4,nametranslations,21,FALSE) -> Water | E27: =HLOOKUP([1]Introduction!$G$4,nametranslations,21,FALSE) -> Water | F27: =HLOOKUP([1]Introduction!$G$4,nametranslations,21,FALSE) -> Water | G27: =HLOOKUP([1]Introduction!$G$4,nametranslations,21,FALSE) -> Water | H27: =HLOOKUP([1]Introduction!$G$4,nametranslations,21,FALSE) -> Water | I27: =+B27 -> Republic of Moldova | J27: =HLOOKUP(Introduction!$G$4,nametranslations,22,FALSE) -> Sanitation | K27: =HLOOKUP([1]Introduction!$G$4,nametranslations,21,FALSE) -> Water | L27: =HLOOKUP([1]Introduction!$G$4,nametranslations,21,FALSE) -> Water | M27: =HLOOKUP([1]Introduction!$G$4,nametranslations,21,FALSE) -> Water | N27: =HLOOKUP([1]Introduction!$G$4,nametranslations,21,FALSE) -> Water | O27: =HLOOKUP([1]Introduction!$G$4,nametranslations,21,FALSE) -> Water | P27: =+B27 -> Republic of Moldova | Q27: =HLOOKUP(Introduction!$G$4,nametranslations,23,FALSE) -> Hygiene | R27: =HLOOKUP([1]Introduction!$G$4,nametranslations,21,FALSE) -> Water | S27: =HLOOKUP([1]Introduction!$G$4,nametranslations,21,FALSE) -> Water | T27: =HLOOKUP([1]Introduction!$G$4,nametranslations,21,FALSE) -> Water | U27: =HLOOKUP([1]Introduction!$G$4,nametranslations,21,FALSE) -> Water | V27: =HLOOKUP([1]Introduction!$G$4,nametranslations,21,FALSE) -> Water
C28: =IF(AND(C30=0.0000000001,C31=0.0000000001,C32=0.0000000001), Key!$I$26&"*",IF(AND(C30=0.0000000001,ISNUMBER(C32)),Key!I26&"*", Key!$I$26)) -> Total | D28: =IF(AND(D30=0.0000000001,D31=0.0000000001,D32=0.0000000001), Key!$I$28&"*",IF(AND(D30=0.0000000001,ISNUMBER(D32)),Key!$I$28&"*", Key!$I$28)) -> Urban* | E28: =IF(AND(E30=0.0000000001,E31=0.0000000001,E32=0.0000000001), Key!$I$27&"*",IF(AND(E30=0.0000000001,ISNUMBER(E32)),Key!$I$27&"*", Key!$I$27)) -> Rural* | F28: =IF(AND(F30=0.0000000001,F31=0.0000000001,F32=0.0000000001), Key!$I$29&"*",IF(AND(F30=0.0000000001,ISNUMBER(F32)),Key!$I$29&"*", Key!$I$29)) -> Pre-primary* | G28: =IF(AND(G30=0.0000000001,G31=0.0000000001,G32=0.0000000001), Key!$I$30&"*",IF(AND(G30=0.0000000001,ISNUMBER(G32)),Key!$I$30&"*", Key!$I$30)) -> Primary* | H28: =IF(AND(H30=0.0000000001,H31=0.0000000001,H32=0.0000000001), Key!$I$31&"*",IF(AND(H30=0.0000000001,ISNUMBER(H32)),Key!$I$31&"*", Key!$I$31)) -> Secondary* | J28: =IF(AND(J30=0.0000000001,J31=0.0000000001,J32=0.0000000001), Key!$I$26&"*",IF(AND(J30=0.0000000001,ISNUMBER(J32)),Key!I26&"*", Key!$I$26)) -> Total | K28: =IF(AND(K30=0.0000000001,K31=0.0000000001,K32=0.0000000001), Key!$I$28&"*",IF(AND(K30=0.0000000001,ISNUMBER(K32)),Key!$I$28&"*", Key!$I$28)) -> Urban* | L28: =IF(AND(L30=0.0000000001,L31=0.0000000001,L32=0.0000000001), Key!$I$27&"*",IF(AND(L30=0.0000000001,ISNUMBER(L32)),Key!$I$27&"*", Key!$I$27)) -> Rural* | M28: =IF(AND(M30=0.0000000001,M31=0.0000000001,M32=0.0000000001), Key!$I$29&"*",IF(AND(M30=0.0000000001,ISNUMBER(M32)),Key!$I$29&"*", Key!$I$29)) -> Pre-primary* | N28: =IF(AND(N30=0.0000000001,N31=0.0000000001,N32=0.0000000001), Key!$I$30&"*",IF(AND(N30=0.0000000001,ISNUMBER(N32)),Key!$I$30&"*", Key!$I$30)) -> Primary* | O28: =IF(AND(O30=0.0000000001,O31=0.0000000001,O32=0.0000000001), Key!$I$31&"*",IF(AND(O30=0.0000000001,ISNUMBER(O32)),Key!$I$31&"*", Key!$I$31)) -> Secondary* | Q28: =IF(AND(Q30=0.0000000001,Q31=0.0000000001,Q32=0.0000000001), Key!$I$26&"*",IF(AND(Q30=0.0000000001,ISNUMBER(Q32)),Key!I26&"*", Key!$I$26)) -> Total | R28: =IF(AND(R30=0.0000000001,R31=0.0000000001,R32=0.0000000001), Key!$I$28&"*",IF(AND(R30=0.0000000001,ISNUMBER(R32)),Key!$I$28&"*", Key!$I$28)) -> Urban* | S28: =IF(AND(S30=0.0000000001,S31=0.0000000001,S32=0.0000000001), Key!$I$27&"*",IF(AND(S30=0.0000000001,ISNUMBER(S32)),Key!$I$27&"*", Key!$I$27)) -> Rural* | T28: =IF(AND(T30=0.0000000001,T31=0.0000000001,T32=0.0000000001), Key!$I$29&"*",IF(AND(T30=0.0000000001,ISNUMBER(T32)),Key!$I$29&"*", Key!$I$29)) -> Pre-primary* | U28: =IF(AND(U30=0.0000000001,U31=0.0000000001,U32=0.0000000001), Key!$I$30&"*",IF(AND(U30=0.0000000001,ISNUMBER(U32)),Key!$I$30&"*", Key!$I$30)) -> Primary | V28: =IF(AND(V30=0.0000000001,V31=0.0000000001,V32=0.0000000001), Key!$I$31&"*",IF(AND(V30=0.0000000001,ISNUMBER(V32)),Key!$I$31&"*", Key!$I$31)) -> Secondary
C29: =IF(ISNUMBER(Regressions!B4), Regressions!B4, "-") -> 2025 | D29: =C29 -> 2025 | E29: =D29 -> 2025 | F29: =E29 -> 2025 | G29: =F29 -> 2025 | H29: =F29 -> 2025 | J29: =IF(ISNUMBER(Regressions!K4), Regressions!K4, "-") -> 2025 | K29: =J29 -> 2025 | L29: =K29 -> 2025 | M29: =L29 -> 2025 | N29: =M29 -> 2025 | O29: =M29 -> 2025 | Q29: =IF(ISNUMBER(Regressions!T4), Regressions!T4, "-") -> 2025 | R29: =Q29 -> 2025 | S29: =R29 -> 2025 | T29: =S29 -> 2025 | U29: =T29 -> 2025 | V29: =T29 -> 2025
A30: =+Key!I46 -> Basic service | B30: Basic Service | C30: =IF(ISNUMBER(Regressions!C4), Regressions!C4, 0.0000000001) -> 88.081479 | D30: =IF(ISNUMBER(Regressions!D4), Regressions!D4, 0.0000000001) -> 1e-10 | E30: =IF(ISNUMBER(Regressions!E4), Regressions!E4, 0.0000000001) -> 1e-10 | F30: =IF(ISNUMBER(Regressions!F4), Regressions!F4, 0.0000000001) -> 1e-10 | G30: =IF(ISNUMBER(Regressions!G4), Regressions!G4, 0.0000000001) -> 1e-10 | H30: =IF(ISNUMBER(Regressions!H4), Regressions!H4, 0.0000000001) -> 1e-10 | I30: Basic Service | J30: =IF(ISNUMBER(Regressions!L4), Regressions!L4,0.0000000001) -> 96.03 | K30: =IF(ISNUMBER(Regressions!M4), Regressions!M4,0.0000000001) -> 1e-10 | L30: =IF(ISNUMBER(Regressions!N4), Regressions!N4,0.0000000001) -> 1e-10 | M30: =IF(ISNUMBER(Regressions!O4), Regressions!O4,0.0000000001) -> 1e-10 | N30: =IF(ISNUMBER(Regressions!P4), Regressions!P4,0.0000000001) -> 1e-10 | O30: =IF(ISNUMBER(Regressions!Q4), Regressions!Q4,0.0000000001) -> 1e-10 | P30: Basic Service | Q30: =IF(ISNUMBER(Regressions!U4), Regressions!U4,0.0000000001) -> 92.396506 | R30: =IF(ISNUMBER(Regressions!V4), Regressions!V4,0.0000000001) -> 1e-10 | S30: =IF(ISNUMBER(Regressions!W4), Regressions!W4,0.0000000001) -> 1e-10 | T30: =IF(ISNUMBER(Regressions!X4), Regressions!X4,0.0000000001) -> 1e-10 | U30: =IF(ISNUMBER(Regressions!Y4), Regressions!Y4,0.0000000001) -> 96.518082 | V30: =IF(ISNUMBER(Regressions!Z4), Regressions!Z4,0.0000000001) -> 91.447541
A31: =+Key!I47 -> Limited service | B31: Limited Service | C31: =IF(ISNUMBER(Regressions!C5), Regressions!C5, 0.0000000001) -> 0 | D31: =IF(ISNUMBER(Regressions!D5), Regressions!D5, 0.0000000001) -> 1e-10 | E31: =IF(ISNUMBER(Regressions!E5), Regressions!E5, 0.0000000001) -> 1e-10 | F31: =IF(ISNUMBER(Regressions!F5), Regressions!F5, 0.0000000001) -> 1e-10 | G31: =IF(ISNUMBER(Regressions!G5), Regressions!G5, 0.0000000001) -> 1e-10 | H31: =IF(ISNUMBER(Regressions!H5), Regressions!H5, 0.0000000001) -> 1e-10 | I31: Limited Service | J31: =IF(ISNUMBER(Regressions!L5), Regressions!L5,0.0000000001) -> 3.97 | K31: =IF(ISNUMBER(Regressions!M5), Regressions!M5,0.0000000001) -> 1e-10 | L31: =IF(ISNUMBER(Regressions!N5), Regressions!N5,0.0000000001) -> 1e-10 | M31: =IF(ISNUMBER(Regressions!O5), Regressions!O5,0.0000000001) -> 1e-10 | N31: =IF(ISNUMBER(Regressions!P5), Regressions!P5,0.0000000001) -> 1e-10 | O31: =IF(ISNUMBER(Regressions!Q5), Regressions!Q5,0.0000000001) -> 1e-10 | P31: Limited Service | Q31: =IF(ISNUMBER(Regressions!U5), Regressions!U5,0.0000000001) -> 7.6034945 | R31: =IF(ISNUMBER(Regressions!V5), Regressions!V5,0.0000000001) -> 1e-10 | S31: =IF(ISNUMBER(Regressions!W5), Regressions!W5,0.0000000001) -> 1e-10 | T31: =IF(ISNUMBER(Regressions!X5), Regressions!X5,0.0000000001) -> 1e-10 | U31: =IF(ISNUMBER(Regressions!Y5), Regressions!Y5,0.0000000001) -> 3.4819176 | V31: =IF(ISNUMBER(Regressions!Z5), Regressions!Z5,0.0000000001) -> 8.5524594
A32: =+Key!I48 -> No service | B32: No Service | C32: =IF(ISNUMBER(Regressions!C6), Regressions!C6, 0.0000000001) -> 11.918521 | D32: =IF(ISNUMBER(Regressions!D6), Regressions!D6, 0.0000000001) -> 1e-10 | E32: =IF(ISNUMBER(Regressions!E6), Regressions!E6, 0.0000000001) -> 1e-10 | F32: =IF(ISNUMBER(Regressions!F6), Regressions!F6, 0.0000000001) -> 1e-10 | G32: =IF(ISNUMBER(Regressions!G6), Regressions!G6, 0.0000000001) -> 0 | H32: =IF(ISNUMBER(Regressions!H6), Regressions!H6, 0.0000000001) -> 0 | I32: No Service | J32: =IF(ISNUMBER(Regressions!L6), Regressions!L6,0.0000000001) -> 0 | K32: =IF(ISNUMBER(Regressions!M6), Regressions!M6,0.0000000001) -> 1e-10 | L32: =IF(ISNUMBER(Regressions!N6), Regressions!N6,0.0000000001) -> 1e-10 | M32: =IF(ISNUMBER(Regressions!O6), Regressions!O6,0.0000000001) -> 1e-10 | N32: =IF(ISNUMBER(Regressions!P6), Regressions!P6,0.0000000001) -> 0 | O32: =IF(ISNUMBER(Regressions!Q6), Regressions!Q6,0.0000000001) -> 0 | P32: No Service | Q32: =IF(ISNUMBER(Regressions!U6), Regressions!U6,0.0000000001) -> 0 | R32: =IF(ISNUMBER(Regressions!V6), Regressions!V6,0.0000000001) -> 1e-10 | S32: =IF(ISNUMBER(Regressions!W6), Regressions!W6,0.0000000001) -> 1e-10 | T32: =IF(ISNUMBER(Regressions!X6), Regressions!X6,0.0000000001) -> 1e-10 | U32: =IF(ISNUMBER(Regressions!Y6), Regressions!Y6,0.0000000001) -> 0 | V32: =IF(ISNUMBER(Regressions!Z6), Regressions!Z6,0.0000000001) -> 0
A33: =+Key!I49 -> Insufficient data | B33: Insufficient Data | C33: =IF(ISNUMBER(Regressions!C7), Regressions!C7, 0.0000000001) -> 0 | D33: =IF(ISNUMBER(Regressions!D7), Regressions!D7, 0.0000000001) -> 100 | E33: =IF(ISNUMBER(Regressions!E7), Regressions!E7, 0.0000000001) -> 100 | F33: =IF(ISNUMBER(Regressions!F7), Regressions!F7, 0.0000000001) -> 100 | G33: =IF(ISNUMBER(Regressions!G7), Regressions!G7, 0.0000000001) -> 100 | H33: =IF(ISNUMBER(Regressions!H7), Regressions!H7, 0.0000000001) -> 100 | I33: Insufficient Data | J33: =IF(ISNUMBER(Regressions!L7), Regressions!L7,0.0000000001) -> 0 | K33: =IF(ISNUMBER(Regressions!M7), Regressions!M7,0.0000000001) -> 100 | L33: =IF(ISNUMBER(Regressions!N7), Regressions!N7,0.0000000001) -> 100 | M33: =IF(ISNUMBER(Regressions!O7), Regressions!O7,0.0000000001) -> 100 | N33: =IF(ISNUMBER(Regressions!P7), Regressions!P7,0.0000000001) -> 100 | O33: =IF(ISNUMBER(Regressions!Q7), Regressions!Q7,0.0000000001) -> 100 | P33: Insufficient Data | Q33: =IF(ISNUMBER(Regressions!U7), Regressions!U7,0.0000000001) -> 0 | R33: =IF(ISNUMBER(Regressions!V7), Regressions!V7,0.0000000001) -> 100 | S33: =IF(ISNUMBER(Regressions!W7), Regressions!W7,0.0000000001) -> 100 | T33: =IF(ISNUMBER(Regressions!X7), Regressions!X7,0.0000000001) -> 100 | U33: =IF(ISNUMBER(Regressions!Y7), Regressions!Y7,0.0000000001) -> 0 | V33: =IF(ISNUMBER(Regressions!Z7), Regressions!Z7,0.0000000001) -> 0
B34: =HLOOKUP(Introduction!$G$4,nametranslations,34,FALSE) -> Source: WHO/UNICEF JMP (2026)
B36: =+Key!I46 -> Basic service | C36: =+HLOOKUP(Introduction!$G$4,Key!A:G,158,FALSE) -> Drinking water from an improved source and water is available at the school at the time of the survey | I36: =+Key!I46 -> Basic service | J36: =+HLOOKUP(Introduction!$G$4,Key!A:G,162,FALSE) -> Improved sanitation facilities at the school that are single-sex and usable (available, functional and private) at the time of the survey | P36: =+Key!I46 -> Basic service | Q36: =+HLOOKUP(Introduction!$G$4,Key!A:G,165,FALSE) -> Handwashing facilities with water and soap available at the school at the time of the survey
B37: =+Key!I47 -> Limited service | C37: =+HLOOKUP(Introduction!$G$4,Key!A:G,159,FALSE) -> Drinking water from an improved source but water is unavailable at the school at the time of the survey | I37: =+Key!I47 -> Limited service | J37: =+HLOOKUP(Introduction!$G$4,Key!A:G,163,FALSE) -> Improved sanitation facilities at the school that are either not single-sex or not usable at the time of the survey | P37: =+Key!I47 -> Limited service | Q37: =+HLOOKUP(Introduction!$G$4,Key!A:G,166,FALSE) -> Handwashing facilities with water but no soap available at the school at the time of the survey
B38: =+Key!I48 -> No service | C38: =+HLOOKUP(Introduction!$G$4,Key!A:G,160,FALSE) -> Drinking water from an unimproved source or no water source at the school | I38: =+Key!I48 -> No service | J38: =+HLOOKUP(Introduction!$G$4,Key!A:G,164,FALSE) -> Unimproved sanitation facilities or no sanitation facilities at the school | P38: =+Key!I48 -> No service | Q38: =+HLOOKUP(Introduction!$G$4,Key!A:G,167,FALSE) -> No handwashing facilities or no water available at the school
B39: =+Key!I49 -> Insufficient data | C39: =+HLOOKUP(Introduction!$G$4,Key!A:G,161,FALSE) -> Insufficient data available to generate estimates for a given reference year | I39: =+Key!I49 -> Insufficient data | J39: =+HLOOKUP(Introduction!$G$4,Key!A:G,161,FALSE) -> Insufficient data available to generate estimates for a given reference year | P39: =+Key!I49 -> Insufficient data | Q39: =+HLOOKUP(Introduction!$G$4,Key!A:G,161,FALSE) -> Insufficient data available to generate estimates for a given reference year

Sheet Charts
A2: =HLOOKUP(Introduction!$G$4,nametranslations,38,FALSE) -> Water, sanitation and hygiene services in schools
A23: =+HLOOKUP(Introduction!$G$4,nametranslations,34,FALSE) -> Source: WHO/UNICEF JMP (2026)
A44: =+HLOOKUP(Introduction!$G$4,nametranslations,34,FALSE) -> Source: WHO/UNICEF JMP (2026)
A65: =+HLOOKUP(Introduction!$G$4,nametranslations,34,FALSE) -> Source: WHO/UNICEF JMP (2026)

Sheet Chart Data
A1: =HLOOKUP(Introduction!$G$4,nametranslations,83,FALSE) -> Summary of data from national surveys and censuses
D2: =HLOOKUP(Introduction!$G$4,nametranslations,85,FALSE) -> Drinking Water | V2: =HLOOKUP(Introduction!$G$4,nametranslations,86,FALSE) -> Sanitation | AZ2: =HLOOKUP(Introduction!$G$4,nametranslations,87,FALSE) -> Hygiene
D3: =+Key!$A$24 -> Total | G3: =+Key!$A$26 -> Urban | J3: =+Key!$A$25 -> Rural | M3: =+Key!$A$27 -> Pre-primary | P3: =+Key!$A$28 -> Primary | S3: =+Key!$A$29 -> Secondary | V3: =+Key!$A$24 -> Total | Y3: =+Key!$A$26 -> Urban | AB3: =+Key!$A$25 -> Rural | AE3: =+Key!$A$27 -> Pre-primary | AH3: =+Key!$A$28 -> Primary | AK3: =+Key!$A$29 -> Secondary | AP3: Primary | AU3: Secondary | AZ3: =+Key!$A$24 -> Total | BC3: =+Key!$A$26 -> Urban | BF3: =+Key!$A$25 -> Rural | BI3: =+Key!$A$27 -> Pre-primary | BL3: =+Key!$A$28 -> Primary | BO3: =+Key!$A$29 -> Secondary
A4: Source | B4: =HLOOKUP(Introduction!$G$4,nametranslations,88,FALSE) -> Type | C4: Year | D4: Facility | E4: Improved | F4: Basic (Improved & available) | G4: Facility | H4: Improved | I4: Basic (Improved & available) | J4: Facility | K4: Improved | L4: Basic (Improved & available) | M4: Facility | N4: Improved | O4: Basic (Improved & available) | P4: Facility | Q4: Improved | R4: Basic (Improved & available) | S4: Facility | T4: Improved | U4: Basic (Improved & available) | V4: Facility | W4: Improved | X4: Improved & usable | Y4: Improved & single-sex | Z4: Basic (Improved, usable & single-sex) | AA4: Facility | AB4: Improved | AC4: Improved & usable | AD4: Improved & single-sex | AE4: Basic (Improved, usable & single-sex) | AF4: Facility | AG4: Improved | AH4: Improved & usable | AI4: Improved & single-sex | AJ4: Basic (Improved, usable & single-sex) | AK4: Facility | AL4: Improved | AM4: Improved & usable | AN4: Improved & single-sex | AO4: Basic (Improved, usable & single-sex) | AP4: Facility | AQ4: Improved | AR4: Improved & usable | AS4: Improved & single-sex | AT4: Basic (Improved, usable & single-sex) | AU4: Facility | AV4: Improved | AW4: Improved & usable | AX4: Improved & single-sex | AY4: Basic (Improved, usable & single-sex) | AZ4: Facility | BA4: Facility with water | BB4: Facility with water & soap | BC4: Facility | BD4: Facility with water | BE4: Facility with water & soap | BF4: Facility | BG4: Facility with water | BH4: Facility with water & soap | BI4: Facility | BJ4: Facility with water | BK4: Facility with water & soap | BL4: Facility | BM4: Facility with water | BN4: Facility with water & soap | BO4: Facility | BP4: Facility with water | BQ4: Facility with water & soap
A5: source | B5: type | C5: year | D5: w_fac_n | E5: w_imp_n | F5: w_bas_n | G5: w_fac_u | H5: w_imp_u | I5: w_bas_u | J5: w_fac_r | K5: w_imp_r | L5: w_bas_r | M5: w_fac_pp | N5: w_imp_pp | O5: w_bas_pp | P5: w_fac_p | Q5: w_imp_p | R5: w_bas_p | S5: w_fac_s | T5: w_imp_s | U5: w_bas_s | V5: s_fac_n | W5: s_imp_n | X5: s_ss_n | Y5: s_us_n | Z5: s_bas_n | AA5: s_fac_u | AB5: s_imp_u | AC5: s_ss_u | AD5: s_us_u | AE5: s_bas_u | AF5: s_fac_r | AG5: s_imp_r | AH5: s_ss_r | AI5: s_us_r | AJ5: s_bas_r | AK5: s_fac_pp | AL5: s_imp_pp | AM5: s_ss_pp | AN5: s_us_pp | AO5: s_bas_pp | AP5: s_fac_p | AQ5: s_imp_p | AR5: s_ss_p | AS5: s_us_p | AT5: s_bas_p | AU5: s_fac_s | AV5: s_imp_s | AW5: s_ss_s | AX5: s_us_s | AY5: s_bas_s | AZ5: h_fac_n | BA5: h_wat_n | BB5: h_bas_n | BC5: h_fac_u | BD5: h_wat_u | BE5: h_bas_u | BF5: h_fac_r | BG5: h_wat_r | BH5: h_bas_r | BI5: h_fac_pp | BJ5: h_wat_pp | BK5: h_bas_pp | BL5: h_fac_p | BM5: h_wat_p | BN5: h_bas_p | BO5: h_fac_s | BP5: h_wat_s | BQ5: h_bas_s
A6: =+RIGHT('Data Summary'!A6,LEN('Data Summary'!A6)-9) -> CEN | B6: =+IF(ISTEXT('Data Summary'!B6),'Data Summary'!B6,"") -> Census | C6: =+VALUE('Data Summary'!C6) -> 2010 | D6: =+IF(AND(ISNUMBER('Water Data'!D4),'Data Summary'!BS6="Yes"),100-'Water Data'!D4,NA()) -> 100 | E6: =+IF(AND(ISNUMBER('Water Data'!D6),'Data Summary'!BT6="Yes"),'Water Data'!D6,NA()) -> 86 | F6: =+IF(AND(ISNUMBER('Water Data'!D9),'Data Summary'!BU6="Yes"),'Water Data'!D9,NA()) -> 78.776 | G6: =+IF(AND(ISNUMBER('Water Data'!E4),'Data Summary'!BV6="Yes"),100-'Water Data'!E4,NA()) -> 100 | H6: =+IF(AND(ISNUMBER('Water Data'!E6),'Data Summary'!BW6="Yes"),'Water Data'!E6,NA()) -> 98.3 | I6: =+IF(AND(ISNUMBER('Water Data'!E9),'Data Summary'!BX6="Yes"),'Water Data'!E9,NA()) -> #N/A | J6: =+IF(AND(ISNUMBER('Water Data'!F4),'Data Summary'!BY6="Yes"),100-'Water Data'!F4,NA()) -> 100 | K6: =+IF(AND(ISNUMBER('Water Data'!F6),'Data Summary'!BZ6="Yes"),'Water Data'!F6,NA()) -> 82.8 | L6: =+IF(AND(ISNUMBER('Water Data'!F9),'Data Summary'!CA6="Yes"),'Water Data'!F9,NA()) -> #N/A | M6: =+IF(AND(ISNUMBER('Water Data'!G4),'Data Summary'!CB6="Yes"),100-'Water Data'!G4,NA()) -> #N/A | N6: =+IF(AND(ISNUMBER('Water Data'!G6),'Data Summary'!CC6="Yes"),'Water Data'!G6,NA()) -> #N/A | O6: =+IF(AND(ISNUMBER('Water Data'!G9),'Data Summary'!CD6="Yes"),'Water Data'!G9,NA()) -> #N/A | P6: =+IF(AND(ISNUMBER('Water Data'!H4),'Data Summary'!CE6="Yes"),100-'Water Data'!H4,NA()) -> #N/A | Q6: =+IF(AND(ISNUMBER('Water Data'!H6),'Data Summary'!CF6="Yes"),'Water Data'!H6,NA()) -> #N/A | R6: =+IF(AND(ISNUMBER('Water Data'!H9),'Data Summary'!CG6="Yes"),'Water Data'!H9,NA()) -> #N/A | S6: =+IF(AND(ISNUMBER('Water Data'!I4),'Data Summary'!CH6="Yes"),100-'Water Data'!I4,NA()) -> #N/A | T6: =+IF(AND(ISNUMBER('Water Data'!I6),'Data Summary'!CI6="Yes"),'Water Data'!I6,NA()) -> #N/A | U6: =+IF(AND(ISNUMBER('Water Data'!I9),'Data Summary'!CJ6="Yes"),'Water Data'!I9,NA()) -> #N/A | V6: =+IF(AND(ISNUMBER('Sanitation Data'!D4),'Data Summary'!CK6="Yes"),100-'Sanitation Data'!D4,NA()) -> #N/A | W6: =+IF(AND(ISNUMBER('Sanitation Data'!D6),'Data Summary'!CL6="Yes"),'Sanitation Data'!D6,NA()) -> #N/A | X6: =+IF(AND(ISNUMBER('Sanitation Data'!D10),'Data Summary'!CM6="Yes"),'Sanitation Data'!D10,NA()) -> #N/A | Y6: =+IF(AND(ISNUMBER('Sanitation Data'!D11),'Data Summary'!CN6="Yes"),'Sanitation Data'!D11,NA()) -> #N/A | Z6: =+IF(AND(ISNUMBER('Sanitation Data'!D12),'Data Summary'!CO6="Yes"),'Sanitation Data'!D12,NA()) -> 75.7 | AA6: =+IF(AND(ISNUMBER('Sanitation Data'!E4),'Data Summary'!CP6="Yes"),100-'Sanitation Data'!E4,NA()) -> #N/A | AB6: =+IF(AND(ISNUMBER('Sanitation Data'!E6),'Data Summary'!CQ6="Yes"),'Sanitation Data'!E6,NA()) -> #N/A | AC6: =+IF(AND(ISNUMBER('Sanitation Data'!E10),'Data Summary'!CR6="Yes"),'Sanitation Data'!E10,NA()) -> #N/A | AD6: =+IF(AND(ISNUMBER('Sanitation Data'!E11),'Data Summary'!CS6="Yes"),'Sanitation Data'!E11,NA()) -> #N/A | AE6: =+IF(AND(ISNUMBER('Sanitation Data'!E12),'Data Summary'!CT6="Yes"),'Sanitation Data'!E12,NA()) -> 81.9 | AF6: =+IF(AND(ISNUMBER('Sanitation Data'!F4),'Data Summary'!CU6="Yes"),100-'Sanitation Data'!F4,NA()) -> #N/A | AG6: =+IF(AND(ISNUMBER('Sanitation Data'!F6),'Data Summary'!CV6="Yes"),'Sanitation Data'!F6,NA()) -> #N/A | AH6: =+IF(AND(ISNUMBER('Sanitation Data'!F10),'Data Summary'!CW6="Yes"),'Sanitation Data'!F10,NA()) -> #N/A | AI6: =+IF(AND(ISNUMBER('Sanitation Data'!F11),'Data Summary'!CX6="Yes"),'Sanitation Data'!F11,NA()) -> #N/A | AJ6: =+IF(AND(ISNUMBER('Sanitation Data'!F12),'Data Summary'!CY6="Yes"),'Sanitation Data'!F12,NA()) -> 73.3 | AK6: =+IF(AND(ISNUMBER('Sanitation Data'!G4),'Data Summary'!CZ6="Yes"),100-'Sanitation Data'!G4,NA()) -> #N/A | AL6: =+IF(AND(ISNUMBER('Sanitation Data'!G6),'Data Summary'!DA6="Yes"),'Sanitation Data'!G6,NA()) -> #N/A | AM6: =+IF(AND(ISNUMBER('Sanitation Data'!G10),'Data Summary'!DB6="Yes"),'Sanitation Data'!G10,NA()) -> #N/A | AN6: =+IF(AND(ISNUMBER('Sanitation Data'!G11),'Data Summary'!DC6="Yes"),'Sanitation Data'!G11,NA()) -> #N/A | AO6: =+IF(AND(ISNUMBER('Sanitation Data'!G12),'Data Summary'!DD6="Yes"),'Sanitation Data'!G12,NA()) -> #N/A | AP6: =+IF(AND(ISNUMBER('Sanitation Data'!H4),'Data Summary'!DE6="Yes"),100-'Sanitation Data'!H4,NA()) -> #N/A | AQ6: =+IF(AND(ISNUMBER('Sanitation Data'!H6),'Data Summary'!DF6="Yes"),'Sanitation Data'!H6,NA()) -> #N/A | AR6: =+IF(AND(ISNUMBER('Sanitation Data'!H10),'Data Summary'!DG6="Yes"),'Sanitation Data'!H10,NA()) -> #N/A | AS6: =+IF(AND(ISNUMBER('Sanitation Data'!H11),'Data Summary'!DH6="Yes"),'Sanitation Data'!H11,NA()) -> #N/A | AT6: =+IF(AND(ISNUMBER('Sanitation Data'!H12),'Data Summary'!DI6="Yes"),'Sanitation Data'!H12,NA()) -> #N/A | AU6: =+IF(AND(ISNUMBER('Sanitation Data'!I4),'Data Summary'!DJ6="Yes"),100-'Sanitation Data'!I4,NA()) -> #N/A | AV6: =+IF(AND(ISNUMBER('Sanitation Data'!I6),'Data Summary'!DK6="Yes"),'Sanitation Data'!I6,NA()) -> #N/A | AW6: =+IF(AND(ISNUMBER('Sanitation Data'!I10),'Data Summary'!DL6="Yes"),'Sanitation Data'!I10,NA()) -> #N/A | AX6: =+IF(AND(ISNUMBER('Sanitation Data'!I11),'Data Summary'!DM6="Yes"),'Sanitation Data'!I11,NA()) -> #N/A | AY6: =+IF(AND(ISNUMBER('Sanitation Data'!I12),'Data Summary'!DN6="Yes"),'Sanitation Data'!I12,NA()) -> #N/A | AZ6: =+IF(AND(ISNUMBER('Hygiene Data'!D5),'Data Summary'!DO6="Yes"),'Hygiene Data'!D5,NA()) -> 98.4 | BA6: =+IF(AND(ISNUMBER('Hygiene Data'!D7),'Data Summary'!DP6="Yes"),'Hygiene Data'!D7,NA()) -> 84.8 | BB6: =+IF(AND(ISNUMBER('Hygiene Data'!D9),'Data Summary'!DQ6="Yes"),'Hygiene Data'!D9,NA()) -> 75.4 | BC6: =+IF(AND(ISNUMBER('Hygiene Data'!E5),'Data Summary'!DR6="Yes"),'Hygiene Data'!E5,NA()) -> 99.7 | BD6: =+IF(AND(ISNUMBER('Hygiene Data'!E7),'Data Summary'!DS6="Yes"),'Hygiene Data'!E7,NA()) -> 96.3 | BE6: =+IF(AND(ISNUMBER('Hygiene Data'!E9),'Data Summary'!DT6="Yes"),'Hygiene Data'!E9,NA()) -> 88.2 | BF6: =+IF(AND(ISNUMBER('Hygiene Data'!F5),'Data Summary'!DU6="Yes"),'Hygiene Data'!F5,NA()) -> 98 | BG6: =+IF(AND(ISNUMBER('Hygiene Data'!F7),'Data Summary'!DV6="Yes"),'Hygiene Data'!F7,NA()) -> 80.8 | BH6: =+IF(AND(ISNUMBER('Hygiene Data'!F9),'Data Summary'!DW6="Yes"),'Hygiene Data'!F9,NA()) -> 70.8 | BI6: =+IF(AND(ISNUMBER('Hygiene Data'!G5),'Data Summary'!DX6="Yes"),'Hygiene Data'!G5,NA()) -> #N/A | BJ6: =+IF(AND(ISNUMBER('Hygiene Data'!G7),'Data Summary'!DY6="Yes"),'Hygiene Data'!G7,NA()) -> #N/A | BK6: =+IF(AND(ISNUMBER('Hygiene Data'!G9),'Data Summary'!DZ6="Yes"),'Hygiene Data'!G9,NA()) -> #N/A | BL6: =+IF(AND(ISNUMBER('Hygiene Data'!H5),'Data Summary'!EA6="Yes"),'Hygiene Data'!H5,NA()) -> #N/A | BM6: =+IF(AND(ISNUMBER('Hygiene Data'!H7),'Data Summary'!EB6="Yes"),'Hygiene Data'!H7,NA()) -> #N/A | BN6: =+IF(AND(ISNUMBER('Hygiene Data'!H9),'Data Summary'!EC6="Yes"),'Hygiene Data'!H9,NA()) -> #N/A | BO6: =+IF(AND(ISNUMBER('Hygiene Data'!I5),'Data Summary'!ED6="Yes"),'Hygiene Data'!I5,NA()) -> #N/A | BP6: =+IF(AND(ISNUMBER('Hygiene Data'!I7),'Data Summary'!EE6="Yes"),'Hygiene Data'!I7,NA()) -> #N/A | BQ6: =+IF(AND(ISNUMBER('Hygiene Data'!I9),'Data Summary'!EF6="Yes"),'Hygiene Data'!I9,NA()) -> #N/A
A7: =+RIGHT('Data Summary'!A7,LEN('Data Summary'!A7)-9) -> CEN | B7: =+IF(ISTEXT('Data Summary'!B7),'Data Summary'!B7,"") -> Census | C7: =+VALUE('Data Summary'!C7) -> 2014 | D7: =+IF(AND(ISNUMBER(OFFSET('Water Data'!$D$4,0,10*ROW('Water Data'!D1))),'Data Summary'!BS7="Yes"),100-OFFSET('Water Data'!$D$4,0,10*ROW('Water Data'!D1)),NA()) -> #N/A | E7: =+IF(AND(ISNUMBER(OFFSET('Water Data'!$D$6,0,10*ROW('Water Data'!D1))),'Data Summary'!BT7="Yes"),OFFSET('Water Data'!$D$6,0,10*ROW('Water Data'!D1)),NA()) -> 96 | F7: =+IF(AND(ISNUMBER(OFFSET('Water Data'!$D$9,0,10*ROW('Water Data'!D1))),'Data Summary'!BU7="Yes"),OFFSET('Water Data'!$D$9,0,10*ROW('Water Data'!D1)),NA()) -> #N/A | G7: =+IF(AND(ISNUMBER(OFFSET('Water Data'!$E$4,0,10*ROW('Water Data'!E1))),'Data Summary'!BV7="Yes"),100-OFFSET('Water Data'!$E$4,0,10*ROW('Water Data'!E1)),NA()) -> #N/A | H7: =+IF(AND(ISNUMBER(OFFSET('Water Data'!$E$6,0,10*ROW('Water Data'!E1))),'Data Summary'!BW7="Yes"),OFFSET('Water Data'!$E$6,0,10*ROW('Water Data'!E1)),NA()) -> #N/A | I7: =+IF(AND(ISNUMBER(OFFSET('Water Data'!$E$9,0,10*ROW('Water Data'!E1))),'Data Summary'!BX7="Yes"),OFFSET('Water Data'!$E$9,0,10*ROW('Water Data'!E1)),NA()) -> #N/A | J7: =+IF(AND(ISNUMBER(OFFSET('Water Data'!$F$4,0,10*ROW('Water Data'!F1))),'Data Summary'!BY7="Yes"),100-OFFSET('Water Data'!$F$4,0,10*ROW('Water Data'!F1)),NA()) -> #N/A | K7: =+IF(AND(ISNUMBER(OFFSET('Water Data'!$F$6,0,10*ROW('Water Data'!F1))),'Data Summary'!BZ7="Yes"),OFFSET('Water Data'!$F$6,0,10*ROW('Water Data'!F1)),NA()) -> #N/A | L7: =+IF(AND(ISNUMBER(OFFSET('Water Data'!$F$9,0,10*ROW('Water Data'!F1))),'Data Summary'!CA7="Yes"),OFFSET('Water Data'!$F$9,0,10*ROW('Water Data'!F1)),NA()) -> #N/A | M7: =+IF(AND(ISNUMBER(OFFSET('Water Data'!$G$4,0,10*ROW('Water Data'!G1))),'Data Summary'!CB7="Yes"),100-OFFSET('Water Data'!$G$4,0,10*ROW('Water Data'!G1)),NA()) -> #N/A | N7: =+IF(AND(ISNUMBER(OFFSET('Water Data'!$G$6,0,10*ROW('Water Data'!G1))),'Data Summary'!CC7="Yes"),OFFSET('Water Data'!$G$6,0,10*ROW('Water Data'!G1)),NA()) -> #N/A | O7: =+IF(AND(ISNUMBER(OFFSET('Water Data'!$G$9,0,10*ROW('Water Data'!G1))),'Data Summary'!CD7="Yes"),OFFSET('Water Data'!$G$9,0,10*ROW('Water Data'!G1)),NA()) -> #N/A | P7: =+IF(AND(ISNUMBER(OFFSET('Water Data'!$H$4,0,10*ROW('Water Data'!H1))),'Data Summary'!CE7="Yes"),100-OFFSET('Water Data'!$H$4,0,10*ROW('Water Data'!H1)),NA()) -> #N/A | Q7: =+IF(AND(ISNUMBER(OFFSET('Water Data'!$H$6,0,10*ROW('Water Data'!H1))),'Data Summary'!CF7="Yes"),OFFSET('Water Data'!$H$6,0,10*ROW('Water Data'!H1)),NA()) -> #N/A | R7: =+IF(AND(ISNUMBER(OFFSET('Water Data'!$H$9,0,10*ROW('Water Data'!H1))),'Data Summary'!CG7="Yes"),OFFSET('Water Data'!$H$9,0,10*ROW('Water Data'!H1)),NA()) -> #N/A | S7: =+IF(AND(ISNUMBER(OFFSET('Water Data'!$I$4,0,10*ROW('Water Data'!I1))),'Data Summary'!CH7="Yes"),100-OFFSET('Water Data'!$I$4,0,10*ROW('Water Data'!I1)),NA()) -> #N/A | T7: =+IF(AND(ISNUMBER(OFFSET('Water Data'!$I$6,0,10*ROW('Water Data'!I1))),'Data Summary'!CI7="Yes"),OFFSET('Water Data'!$I$6,0,10*ROW('Water Data'!I1)),NA()) -> #N/A | U7: =+IF(AND(ISNUMBER(OFFSET('Water Data'!$I$9,0,10*ROW('Water Data'!I1))),'Data Summary'!CJ7="Yes"),OFFSET('Water Data'!$I$9,0,10*ROW('Water Data'!I1)),NA()) -> #N/A | V7: =+IF(AND(ISNUMBER(OFFSET('Sanitation Data'!$D$4,0,10*ROW('Sanitation Data'!D1))),'Data Summary'!CK7="Yes"),100-OFFSET('Sanitation Data'!$D$4,0,10*ROW('Sanitation Data'!D1)),NA()) -> #N/A | W7: =+IF(AND(ISNUMBER(OFFSET('Sanitation Data'!$D$6,0,10*ROW('Sanitation Data'!D1))),'Data Summary'!CL7="Yes"),OFFSET('Sanitation Data'!$D$6,0,10*ROW('Sanitation Data'!D1)),NA()) -> #N/A | X7: =+IF(AND(ISNUMBER(OFFSET('Sanitation Data'!$D$10,0,10*ROW('Sanitation Data'!D1))),'Data Summary'!CM7="Yes"),OFFSET('Sanitation Data'!$D$10,0,10*ROW('Sanitation Data'!D1)),NA()) -> #N/A | Y7: =+IF(AND(ISNUMBER(OFFSET('Sanitation Data'!$D$11,0,10*ROW('Sanitation Data'!D1))),'Data Summary'!CN7="Yes"),OFFSET('Sanitation Data'!$D$11,0,10*ROW('Sanitation Data'!D1)),NA()) -> #N/A | Z7: =+IF(AND(ISNUMBER(OFFSET('Sanitation Data'!$D$12,0,10*ROW('Sanitation Data'!D1))),'Data Summary'!CO7="Yes"),OFFSET('Sanitation Data'!$D$12,0,10*ROW('Sanitation Data'!D1)),NA()) -> 79 | AA7: =+IF(AND(ISNUMBER(OFFSET('Sanitation Data'!$E$4,0,10*ROW('Sanitation Data'!E1))),'Data Summary'!CP7="Yes"),100-OFFSET('Sanitation Data'!$E$4,0,10*ROW('Sanitation Data'!E1)),NA()) -> #N/A | AB7: =+IF(AND(ISNUMBER(OFFSET('Sanitation Data'!$E$6,0,10*ROW('Sanitation Data'!E1))),'Data Summary'!CQ7="Yes"),OFFSET('Sanitation Data'!$E$6,0,10*ROW('Sanitation Data'!E1)),NA()) -> #N/A | AC7: =+IF(AND(ISNUMBER(OFFSET('Sanitation Data'!$E$10,0,10*ROW('Sanitation Data'!E1))),'Data Summary'!CR7="Yes"),OFFSET('Sanitation Data'!$E$10,0,10*ROW('Sanitation Data'!E1)),NA()) -> #N/A | AD7: =+IF(AND(ISNUMBER(OFFSET('Sanitation Data'!$E$11,0,10*ROW('Sanitation Data'!E1))),'Data Summary'!CS7="Yes"),OFFSET('Sanitation Data'!$E$11,0,10*ROW('Sanitation Data'!E1)),NA()) -> #N/A | AE7: =+IF(AND(ISNUMBER(OFFSET('Sanitation Data'!$E$12,0,10*ROW('Sanitation Data'!E1))),'Data Summary'!CT7="Yes"),OFFSET('Sanitation Data'!$E$12,0,10*ROW('Sanitation Data'!E1)),NA()) -> #N/A | AF7: =+IF(AND(ISNUMBER(OFFSET('Sanitation Data'!$F$4,0,10*ROW('Sanitation Data'!F1))),'Data Summary'!CU7="Yes"),100-OFFSET('Sanitation Data'!$F$4,0,10*ROW('Sanitation Data'!F1)),NA()) -> #N/A | AG7: =+IF(AND(ISNUMBER(OFFSET('Sanitation Data'!$F$6,0,10*ROW('Sanitation Data'!F1))),'Data Summary'!CV7="Yes"),OFFSET('Sanitation Data'!$F$6,0,10*ROW('Sanitation Data'!F1)),NA()) -> #N/A | AH7: =+IF(AND(ISNUMBER(OFFSET('Sanitation Data'!$F$10,0,10*ROW('Sanitation Data'!F1))),'Data Summary'!CW7="Yes"),OFFSET('Sanitation Data'!$F$10,0,10*ROW('Sanitation Data'!F1)),NA()) -> #N/A | AI7: =+IF(AND(ISNUMBER(OFFSET('Sanitation Data'!$F$11,0,10*ROW('Sanitation Data'!F1))),'Data Summary'!CX7="Yes"),OFFSET('Sanitation Data'!$F$11,0,10*ROW('Sanitation Data'!F1)),NA()) -> #N/A | AJ7: =+IF(AND(ISNUMBER(OFFSET('Sanitation Data'!$F$12,0,10*ROW('Sanitation Data'!F1))),'Data Summary'!CY7="Yes"),OFFSET('Sanitation Data'!$F$12,0,10*ROW('Sanitation Data'!F1)),NA()) -> #N/A | AK7: =+IF(AND(ISNUMBER(OFFSET('Sanitation Data'!$G$4,0,10*ROW('Sanitation Data'!G1))),'Data Summary'!CZ7="Yes"),100-OFFSET('Sanitation Data'!$G$4,0,10*ROW('Sanitation Data'!G1)),NA()) -> #N/A | AL7: =+IF(AND(ISNUMBER(OFFSET('Sanitation Data'!$G$6,0,10*ROW('Sanitation Data'!G1))),'Data Summary'!DA7="Yes"),OFFSET('Sanitation Data'!$G$6,0,10*ROW('Sanitation Data'!G1)),NA()) -> #N/A | AM7: =+IF(AND(ISNUMBER(OFFSET('Sanitation Data'!$G$10,0,10*ROW('Sanitation Data'!G1))),'Data Summary'!DB7="Yes"),OFFSET('Sanitation Data'!$G$10,0,10*ROW('Sanitation Data'!G1)),NA()) -> #N/A | AN7: =+IF(AND(ISNUMBER(OFFSET('Sanitation Data'!$G$11,0,10*ROW('Sanitation Data'!G1))),'Data Summary'!DC7="Yes"),OFFSET('Sanitation Data'!$G$11,0,10*ROW('Sanitation Data'!G1)),NA()) -> #N/A | AO7: =+IF(AND(ISNUMBER(OFFSET('Sanitation Data'!$G$12,0,10*ROW('Sanitation Data'!G1))),'Data Summary'!DD7="Yes"),OFFSET('Sanitation Data'!$G$12,0,10*ROW('Sanitation Data'!G1)),NA()) -> #N/A | AP7: =+IF(AND(ISNUMBER(OFFSET('Sanitation Data'!$H$4,0,10*ROW('Sanitation Data'!H1))),'Data Summary'!DE7="Yes"),100-OFFSET('Sanitation Data'!$H$4,0,10*ROW('Sanitation Data'!H1)),NA()) -> #N/A | AQ7: =+IF(AND(ISNUMBER(OFFSET('Sanitation Data'!$H$6,0,10*ROW('Sanitation Data'!H1))),'Data Summary'!DF7="Yes"),OFFSET('Sanitation Data'!$H$6,0,10*ROW('Sanitation Data'!H1)),NA()) -> #N/A | AR7: =+IF(AND(ISNUMBER(OFFSET('Sanitation Data'!$H$10,0,10*ROW('Sanitation Data'!H1))),'Data Summary'!DG7="Yes"),OFFSET('Sanitation Data'!$H$10,0,10*ROW('Sanitation Data'!H1)),NA()) -> #N/A | AS7: =+IF(AND(ISNUMBER(OFFSET('Sanitation Data'!$H$11,0,10*ROW('Sanitation Data'!H1))),'Data Summary'!DH7="Yes"),OFFSET('Sanitation Data'!$H$11,0,10*ROW('Sanitation Data'!H1)),NA()) -> #N/A | AT7: =+IF(AND(ISNUMBER(OFFSET('Sanitation Data'!$H$12,0,10*ROW('Sanitation Data'!H1))),'Data Summary'!DI7="Yes"),OFFSET('Sanitation Data'!$H$12,0,10*ROW('Sanitation Data'!H1)),NA()) -> #N/A | AU7: =+IF(AND(ISNUMBER(OFFSET('Sanitation Data'!$I$4,0,10*ROW('Sanitation Data'!I1))),'Data Summary'!DJ7="Yes"),100-OFFSET('Sanitation Data'!$I$4,0,10*ROW('Sanitation Data'!I1)),NA()) -> #N/A | AV7: =+IF(AND(ISNUMBER(OFFSET('Sanitation Data'!$I$6,0,10*ROW('Sanitation Data'!I1))),'Data Summary'!DK7="Yes"),OFFSET('Sanitation Data'!$I$6,0,10*ROW('Sanitation Data'!I1)),NA()) -> #N/A | AW7: =+IF(AND(ISNUMBER(OFFSET('Sanitation Data'!$I$10,0,10*ROW('Sanitation Data'!I1))),'Data Summary'!DL7="Yes"),OFFSET('Sanitation Data'!$I$10,0,10*ROW('Sanitation Data'!I1)),NA()) -> #N/A | AX7: =+IF(AND(ISNUMBER(OFFSET('Sanitation Data'!$I$11,0,10*ROW('Sanitation Data'!I1))),'Data Summary'!DM7="Yes"),OFFSET('Sanitation Data'!$I$11,0,10*ROW('Sanitation Data'!I1)),NA()) -> #N/A | AY7: =+IF(AND(ISNUMBER(OFFSET('Sanitation Data'!$I$12,0,10*ROW('Sanitation Data'!I1))),'Data Summary'!DN7="Yes"),OFFSET('Sanitation Data'!$I$12,0,10*ROW('Sanitation Data'!I1)),NA()) -> #N/A | AZ7: =+IF(AND(ISNUMBER(OFFSET('Hygiene Data'!$D$5,0,10*ROW('Hygiene Data'!D1))),'Data Summary'!DO7="Yes"),OFFSET('Hygiene Data'!$D$5,0,10*ROW('Hygiene Data'!D1)),NA()) -> #N/A | BA7: =+IF(AND(ISNUMBER(OFFSET('Hygiene Data'!$D$7,0,10*ROW('Hygiene Data'!D1))),'Data Summary'!DP7="Yes"),OFFSET('Hygiene Data'!$D$7,0,10*ROW('Hygiene Data'!D1)),NA()) -> #N/A | BB7: =+IF(AND(ISNUMBER(OFFSET('Hygiene Data'!$D$9,0,10*ROW('Hygiene Data'!D1))),'Data Summary'!DQ7="Yes"),OFFSET('Hygiene Data'!$D$9,0,10*ROW('Hygiene Data'!D1)),NA()) -> #N/A | BC7: =+IF(AND(ISNUMBER(OFFSET('Hygiene Data'!$E$5,0,10*ROW('Hygiene Data'!E1))),'Data Summary'!DR7="Yes"),OFFSET('Hygiene Data'!$E$5,0,10*ROW('Hygiene Data'!E1)),NA()) -> #N/A | BD7: =+IF(AND(ISNUMBER(OFFSET('Hygiene Data'!$E$7,0,10*ROW('Hygiene Data'!E1))),'Data Summary'!DS7="Yes"),OFFSET('Hygiene Data'!$E$7,0,10*ROW('Hygiene Data'!E1)),NA()) -> #N/A | BE7: =+IF(AND(ISNUMBER(OFFSET('Hygiene Data'!$E$9,0,10*ROW('Hygiene Data'!E1))),'Data Summary'!DT7="Yes"),OFFSET('Hygiene Data'!$E$9,0,10*ROW('Hygiene Data'!E1)),NA()) -> #N/A | BF7: =+IF(AND(ISNUMBER(OFFSET('Hygiene Data'!$F$5,0,10*ROW('Hygiene Data'!F1))),'Data Summary'!DU7="Yes"),OFFSET('Hygiene Data'!$F$5,0,10*ROW('Hygiene Data'!F1)),NA()) -> #N/A | BG7: =+IF(AND(ISNUMBER(OFFSET('Hygiene Data'!$F$7,0,10*ROW('Hygiene Data'!F1))),'Data Summary'!DV7="Yes"),OFFSET('Hygiene Data'!$F$7,0,10*ROW('Hygiene Data'!F1)),NA()) -> #N/A | BH7: =+IF(AND(ISNUMBER(OFFSET('Hygiene Data'!$F$9,0,10*ROW('Hygiene Data'!F1))),'Data Summary'!DW7="Yes"),OFFSET('Hygiene Data'!$F$9,0,10*ROW('Hygiene Data'!F1)),NA()) -> #N/A | BI7: =+IF(AND(ISNUMBER(OFFSET('Hygiene Data'!$G$5,0,10*ROW('Hygiene Data'!G1))),'Data Summary'!DX7="Yes"),OFFSET('Hygiene Data'!$G$5,0,10*ROW('Hygiene Data'!G1)),NA()) -> #N/A | BJ7: =+IF(AND(ISNUMBER(OFFSET('Hygiene Data'!$G$7,0,10*ROW('Hygiene Data'!G1))),'Data Summary'!DY7="Yes"),OFFSET('Hygiene Data'!$G$7,0,10*ROW('Hygiene Data'!G1)),NA()) -> #N/A | BK7: =+IF(AND(ISNUMBER(OFFSET('Hygiene Data'!$G$9,0,10*ROW('Hygiene Data'!G1))),'Data Summary'!DZ7="Yes"),OFFSET('Hygiene Data'!$G$9,0,10*ROW('Hygiene Data'!G1)),NA()) -> #N/A | BL7: =+IF(AND(ISNUMBER(OFFSET('Hygiene Data'!$H$5,0,10*ROW('Hygiene Data'!H1))),'Data Summary'!EA7="Yes"),OFFSET('Hygiene Data'!$H$5,0,10*ROW('Hygiene Data'!H1)),NA()) -> #N/A | BM7: =+IF(AND(ISNUMBER(OFFSET('Hygiene Data'!$H$7,0,10*ROW('Hygiene Data'!H1))),'Data Summary'!EB7="Yes"),OFFSET('Hygiene Data'!$H$7,0,10*ROW('Hygiene Data'!H1)),NA()) -> #N/A | BN7: =+IF(AND(ISNUMBER(OFFSET('Hygiene Data'!$H$9,0,10*ROW('Hygiene Data'!H1))),'Data Summary'!EC7="Yes"),OFFSET('Hygiene Data'!$H$9,0,10*ROW('Hygiene Data'!H1)),NA()) -> #N/A | BO7: =+IF(AND(ISNUMBER(OFFSET('Hygiene Data'!$I$5,0,10*ROW('Hygiene Data'!I1))),'Data Summary'!ED7="Yes"),OFFSET('Hygiene Data'!$I$5,0,10*ROW('Hygiene Data'!I1)),NA()) -> #N/A | BP7: =+IF(AND(ISNUMBER(OFFSET('Hygiene Data'!$I$7,0,10*ROW('Hygiene Data'!I1))),'Data Summary'!EE7="Yes"),OFFSET('Hygiene Data'!$I$7,0,10*ROW('Hygiene Data'!I1)),NA()) -> #N/A | BQ7: =+IF(AND(ISNUMBER(OFFSET('Hygiene Data'!$I$9,0,10*ROW('Hygiene Data'!I1))),'Data Summary'!EF7="Yes"),OFFSET('Hygiene Data'!$I$9,0,10*ROW('Hygiene Data'!I1)),NA()) -> #N/A
A8: =+RIGHT('Data Summary'!A8,LEN('Data Summary'!A8)-9) -> UIS | B8: =+IF(ISTEXT('Data Summary'!B8),'Data Summary'!B8,"") -> Other | C8: =+VALUE('Data Summary'!C8) -> 2016 | D8: =+IF(AND(ISNUMBER(OFFSET('Water Data'!$D$4,0,10*ROW('Water Data'!D2))),'Data Summary'!BS8="Yes"),100-OFFSET('Water Data'!$D$4,0,10*ROW('Water Data'!D2)),NA()) -> 100 | E8: =+IF(AND(ISNUMBER(OFFSET('Water Data'!$D$6,0,10*ROW('Water Data'!D2))),'Data Summary'!BT8="Yes"),OFFSET('Water Data'!$D$6,0,10*ROW('Water Data'!D2)),NA()) -> #N/A | F8: =+IF(AND(ISNUMBER(OFFSET('Water Data'!$D$9,0,10*ROW('Water Data'!D2))),'Data Summary'!BU8="Yes"),OFFSET('Water Data'!$D$9,0,10*ROW('Water Data'!D2)),NA()) -> #N/A | G8: =+IF(AND(ISNUMBER(OFFSET('Water Data'!$E$4,0,10*ROW('Water Data'!E2))),'Data Summary'!BV8="Yes"),100-OFFSET('Water Data'!$E$4,0,10*ROW('Water Data'!E2)),NA()) -> #N/A | H8: =+IF(AND(ISNUMBER(OFFSET('Water Data'!$E$6,0,10*ROW('Water Data'!E2))),'Data Summary'!BW8="Yes"),OFFSET('Water Data'!$E$6,0,10*ROW('Water Data'!E2)),NA()) -> #N/A | I8: =+IF(AND(ISNUMBER(OFFSET('Water Data'!$E$9,0,10*ROW('Water Data'!E2))),'Data Summary'!BX8="Yes"),OFFSET('Water Data'!$E$9,0,10*ROW('Water Data'!E2)),NA()) -> #N/A | J8: =+IF(AND(ISNUMBER(OFFSET('Water Data'!$F$4,0,10*ROW('Water Data'!F2))),'Data Summary'!BY8="Yes"),100-OFFSET('Water Data'!$F$4,0,10*ROW('Water Data'!F2)),NA()) -> #N/A | K8: =+IF(AND(ISNUMBER(OFFSET('Water Data'!$F$6,0,10*ROW('Water Data'!F2))),'Data Summary'!BZ8="Yes"),OFFSET('Water Data'!$F$6,0,10*ROW('Water Data'!F2)),NA()) -> #N/A | L8: =+IF(AND(ISNUMBER(OFFSET('Water Data'!$F$9,0,10*ROW('Water Data'!F2))),'Data Summary'!CA8="Yes"),OFFSET('Water Data'!$F$9,0,10*ROW('Water Data'!F2)),NA()) -> #N/A | M8: =+IF(AND(ISNUMBER(OFFSET('Water Data'!$G$4,0,10*ROW('Water Data'!G2))),'Data Summary'!CB8="Yes"),100-OFFSET('Water Data'!$G$4,0,10*ROW('Water Data'!G2)),NA()) -> #N/A | N8: =+IF(AND(ISNUMBER(OFFSET('Water Data'!$G$6,0,10*ROW('Water Data'!G2))),'Data Summary'!CC8="Yes"),OFFSET('Water Data'!$G$6,0,10*ROW('Water Data'!G2)),NA()) -> #N/A | O8: =+IF(AND(ISNUMBER(OFFSET('Water Data'!$G$9,0,10*ROW('Water Data'!G2))),'Data Summary'!CD8="Yes"),OFFSET('Water Data'!$G$9,0,10*ROW('Water Data'!G2)),NA()) -> #N/A | P8: =+IF(AND(ISNUMBER(OFFSET('Water Data'!$H$4,0,10*ROW('Water Data'!H2))),'Data Summary'!CE8="Yes"),100-OFFSET('Water Data'!$H$4,0,10*ROW('Water Data'!H2)),NA()) -> 100 | Q8: =+IF(AND(ISNUMBER(OFFSET('Water Data'!$H$6,0,10*ROW('Water Data'!H2))),'Data Summary'!CF8="Yes"),OFFSET('Water Data'!$H$6,0,10*ROW('Water Data'!H2)),NA()) -> #N/A | R8: =+IF(AND(ISNUMBER(OFFSET('Water Data'!$H$9,0,10*ROW('Water Data'!H2))),'Data Summary'!CG8="Yes"),OFFSET('Water Data'!$H$9,0,10*ROW('Water Data'!H2)),NA()) -> #N/A | S8: =+IF(AND(ISNUMBER(OFFSET('Water Data'!$I$4,0,10*ROW('Water Data'!I2))),'Data Summary'!CH8="Yes"),100-OFFSET('Water Data'!$I$4,0,10*ROW('Water Data'!I2)),NA()) -> 100 | T8: =+IF(AND(ISNUMBER(OFFSET('Water Data'!$I$6,0,10*ROW('Water Data'!I2))),'Data Summary'!CI8="Yes"),OFFSET('Water Data'!$I$6,0,10*ROW('Water Data'!I2)),NA()) -> #N/A | U8: =+IF(AND(ISNUMBER(OFFSET('Water Data'!$I$9,0,10*ROW('Water Data'!I2))),'Data Summary'!CJ8="Yes"),OFFSET('Water Data'!$I$9,0,10*ROW('Water Data'!I2)),NA()) -> #N/A | V8: =+IF(AND(ISNUMBER(OFFSET('Sanitation Data'!$D$4,0,10*ROW('Sanitation Data'!D2))),'Data Summary'!CK8="Yes"),100-OFFSET('Sanitation Data'!$D$4,0,10*ROW('Sanitation Data'!D2)),NA()) -> 100 | W8: =+IF(AND(ISNUMBER(OFFSET('Sanitation Data'!$D$6,0,10*ROW('Sanitation Data'!D2))),'Data Summary'!CL8="Yes"),OFFSET('Sanitation Data'!$D$6,0,10*ROW('Sanitation Data'!D2)),NA()) -> #N/A | X8: =+IF(AND(ISNUMBER(OFFSET('Sanitation Data'!$D$10,0,10*ROW('Sanitation Data'!D2))),'Data Summary'!CM8="Yes"),OFFSET('Sanitation Data'!$D$10,0,10*ROW('Sanitation Data'!D2)),NA()) -> #N/A | Y8: =+IF(AND(ISNUMBER(OFFSET('Sanitation Data'!$D$11,0,10*ROW('Sanitation Data'!D2))),'Data Summary'!CN8="Yes"),OFFSET('Sanitation Data'!$D$11,0,10*ROW('Sanitation Data'!D2)),NA()) -> #N/A | Z8: =+IF(AND(ISNUMBER(OFFSET('Sanitation Data'!$D$12,0,10*ROW('Sanitation Data'!D2))),'Data Summary'!CO8="Yes"),OFFSET('Sanitation Data'!$D$12,0,10*ROW('Sanitation Data'!D2)),NA()) -> #N/A | AA8: =+IF(AND(ISNUMBER(OFFSET('Sanitation Data'!$E$4,0,10*ROW('Sanitation Data'!E2))),'Data Summary'!CP8="Yes"),100-OFFSET('Sanitation Data'!$E$4,0,10*ROW('Sanitation Data'!E2)),NA()) -> #N/A | AB8: =+IF(AND(ISNUMBER(OFFSET('Sanitation Data'!$E$6,0,10*ROW('Sanitation Data'!E2))),'Data Summary'!CQ8="Yes"),OFFSET('Sanitation Data'!$E$6,0,10*ROW('Sanitation Data'!E2)),NA()) -> #N/A | AC8: =+IF(AND(ISNUMBER(OFFSET('Sanitation Data'!$E$10,0,10*ROW('Sanitation Data'!E2))),'Data Summary'!CR8="Yes"),OFFSET('Sanitation Data'!$E$10,0,10*ROW('Sanitation Data'!E2)),NA()) -> #N/A | AD8: =+IF(AND(ISNUMBER(OFFSET('Sanitation Data'!$E$11,0,10*ROW('Sanitation Data'!E2))),'Data Summary'!CS8="Yes"),OFFSET('Sanitation Data'!$E$11,0,10*ROW('Sanitation Data'!E2)),NA()) -> #N/A | AE8: =+IF(AND(ISNUMBER(OFFSET('Sanitation Data'!$E$12,0,10*ROW('Sanitation Data'!E2))),'Data Summary'!CT8="Yes"),OFFSET('Sanitation Data'!$E$12,0,10*ROW('Sanitation Data'!E2)),NA()) -> #N/A | AF8: =+IF(AND(ISNUMBER(OFFSET('Sanitation Data'!$F$4,0,10*ROW('Sanitation Data'!F2))),'Data Summary'!CU8="Yes"),100-OFFSET('Sanitation Data'!$F$4,0,10*ROW('Sanitation Data'!F2)),NA()) -> #N/A | AG8: =+IF(AND(ISNUMBER(OFFSET('Sanitation Data'!$F$6,0,10*ROW('Sanitation Data'!F2))),'Data Summary'!CV8="Yes"),OFFSET('Sanitation Data'!$F$6,0,10*ROW('Sanitation Data'!F2)),NA()) -> #N/A | AH8: =+IF(AND(ISNUMBER(OFFSET('Sanitation Data'!$F$10,0,10*ROW('Sanitation Data'!F2))),'Data Summary'!CW8="Yes"),OFFSET('Sanitation Data'!$F$10,0,10*ROW('Sanitation Data'!F2)),NA()) -> #N/A | AI8: =+IF(AND(ISNUMBER(OFFSET('Sanitation Data'!$F$11,0,10*ROW('Sanitation Data'!F2))),'Data Summary'!CX8="Yes"),OFFSET('Sanitation Data'!$F$11,0,10*ROW('Sanitation Data'!F2)),NA()) -> #N/A | AJ8: =+IF(AND(ISNUMBER(OFFSET('Sanitation Data'!$F$12,0,10*ROW('Sanitation Data'!F2))),'Data Summary'!CY8="Yes"),OFFSET('Sanitation Data'!$F$12,0,10*ROW('Sanitation Data'!F2)),NA()) -> #N/A | AK8: =+IF(AND(ISNUMBER(OFFSET('Sanitation Data'!$G$4,0,10*ROW('Sanitation Data'!G2))),'Data Summary'!CZ8="Yes"),100-OFFSET('Sanitation Data'!$G$4,0,10*ROW('Sanitation Data'!G2)),NA()) -> #N/A | AL8: =+IF(AND(ISNUMBER(OFFSET('Sanitation Data'!$G$6,0,10*ROW('Sanitation Data'!G2))),'Data Summary'!DA8="Yes"),OFFSET('Sanitation Data'!$G$6,0,10*ROW('Sanitation Data'!G2)),NA()) -> #N/A | AM8: =+IF(AND(ISNUMBER(OFFSET('Sanitation Data'!$G$10,0,10*ROW('Sanitation Data'!G2))),'Data Summary'!DB8="Yes"),OFFSET('Sanitation Data'!$G$10,0,10*ROW('Sanitation Data'!G2)),NA()) -> #N/A | AN8: =+IF(AND(ISNUMBER(OFFSET('Sanitation Data'!$G$11,0,10*ROW('Sanitation Data'!G2))),'Data Summary'!DC8="Yes"),OFFSET('Sanitation Data'!$G$11,0,10*ROW('Sanitation Data'!G2)),NA()) -> #N/A | AO8: =+IF(AND(ISNUMBER(OFFSET('Sanitation Data'!$G$12,0,10*ROW('Sanitation Data'!G2))),'Data Summary'!DD8="Yes"),OFFSET('Sanitation Data'!$G$12,0,10*ROW('Sanitation Data'!G2)),NA()) -> #N/A | AP8: =+IF(AND(ISNUMBER(OFFSET('Sanitation Data'!$H$4,0,10*ROW('Sanitation Data'!H2))),'Data Summary'!DE8="Yes"),100-OFFSET('Sanitation Data'!$H$4,0,10*ROW('Sanitation Data'!H2)),NA()) -> 100 | AQ8: =+IF(AND(ISNUMBER(OFFSET('Sanitation Data'!$H$6,0,10*ROW('Sanitation Data'!H2))),'Data Summary'!DF8="Yes"),OFFSET('Sanitation Data'!$H$6,0,10*ROW('Sanitation Data'!H2)),NA()) -> #N/A | AR8: =+IF(AND(ISNUMBER(OFFSET('Sanitation Data'!$H$10,0,10*ROW('Sanitation Data'!H2))),'Data Summary'!DG8="Yes"),OFFSET('Sanitation Data'!$H$10,0,10*ROW('Sanitation Data'!H2)),NA()) -> #N/A | AS8: =+IF(AND(ISNUMBER(OFFSET('Sanitation Data'!$H$11,0,10*ROW('Sanitation Data'!H2))),'Data Summary'!DH8="Yes"),OFFSET('Sanitation Data'!$H$11,0,10*ROW('Sanitation Data'!H2)),NA()) -> #N/A | AT8: =+IF(AND(ISNUMBER(OFFSET('Sanitation Data'!$H$12,0,10*ROW('Sanitation Data'!H2))),'Data Summary'!DI8="Yes"),OFFSET('Sanitation Data'!$H$12,0,10*ROW('Sanitation Data'!H2)),NA()) -> #N/A | AU8: =+IF(AND(ISNUMBER(OFFSET('Sanitation Data'!$I$4,0,10*ROW('Sanitation Data'!I2))),'Data Summary'!DJ8="Yes"),100-OFFSET('Sanitation Data'!$I$4,0,10*ROW('Sanitation Data'!I2)),NA()) -> 100 | AV8: =+IF(AND(ISNUMBER(OFFSET('Sanitation Data'!$I$6,0,10*ROW('Sanitation Data'!I2))),'Data Summary'!DK8="Yes"),OFFSET('Sanitation Data'!$I$6,0,10*ROW('Sanitation Data'!I2)),NA()) -> #N/A | AW8: =+IF(AND(ISNUMBER(OFFSET('Sanitation Data'!$I$10,0,10*ROW('Sanitation Data'!I2))),'Data Summary'!DL8="Yes"),OFFSET('Sanitation Data'!$I$10,0,10*ROW('Sanitation Data'!I2)),NA()) -> #N/A | AX8: =+IF(AND(ISNUMBER(OFFSET('Sanitation Data'!$I$11,0,10*ROW('Sanitation Data'!I2))),'Data Summary'!DM8="Yes"),OFFSET('Sanitation Data'!$I$11,0,10*ROW('Sanitation Data'!I2)),NA()) -> #N/A | AY8: =+IF(AND(ISNUMBER(OFFSET('Sanitation Data'!$I$12,0,10*ROW('Sanitation Data'!I2))),'Data Summary'!DN8="Yes"),OFFSET('Sanitation Data'!$I$12,0,10*ROW('Sanitation Data'!I2)),NA()) -> #N/A | AZ8: =+IF(AND(ISNUMBER(OFFSET('Hygiene Data'!$D$5,0,10*ROW('Hygiene Data'!D2))),'Data Summary'!DO8="Yes"),OFFSET('Hygiene Data'!$D$5,0,10*ROW('Hygiene Data'!D2)),NA()) -> 100 | BA8: =+IF(AND(ISNUMBER(OFFSET('Hygiene Data'!$D$7,0,10*ROW('Hygiene Data'!D2))),'Data Summary'!DP8="Yes"),OFFSET('Hygiene Data'!$D$7,0,10*ROW('Hygiene Data'!D2)),NA()) -> 100 | BB8: =+IF(AND(ISNUMBER(OFFSET('Hygiene Data'!$D$9,0,10*ROW('Hygiene Data'!D2))),'Data Summary'!DQ8="Yes"),OFFSET('Hygiene Data'!$D$9,0,10*ROW('Hygiene Data'!D2)),NA()) -> 100 | BC8: =+IF(AND(ISNUMBER(OFFSET('Hygiene Data'!$E$5,0,10*ROW('Hygiene Data'!E2))),'Data Summary'!DR8="Yes"),OFFSET('Hygiene Data'!$E$5,0,10*ROW('Hygiene Data'!E2)),NA()) -> #N/A | BD8: =+IF(AND(ISNUMBER(OFFSET('Hygiene Data'!$E$7,0,10*ROW('Hygiene Data'!E2))),'Data Summary'!DS8="Yes"),OFFSET('Hygiene Data'!$E$7,0,10*ROW('Hygiene Data'!E2)),NA()) -> #N/A | BE8: =+IF(AND(ISNUMBER(OFFSET('Hygiene Data'!$E$9,0,10*ROW('Hygiene Data'!E2))),'Data Summary'!DT8="Yes"),OFFSET('Hygiene Data'!$E$9,0,10*ROW('Hygiene Data'!E2)),NA()) -> #N/A | BF8: =+IF(AND(ISNUMBER(OFFSET('Hygiene Data'!$F$5,0,10*ROW('Hygiene Data'!F2))),'Data Summary'!DU8="Yes"),OFFSET('Hygiene Data'!$F$5,0,10*ROW('Hygiene Data'!F2)),NA()) -> #N/A | BG8: =+IF(AND(ISNUMBER(OFFSET('Hygiene Data'!$F$7,0,10*ROW('Hygiene Data'!F2))),'Data Summary'!DV8="Yes"),OFFSET('Hygiene Data'!$F$7,0,10*ROW('Hygiene Data'!F2)),NA()) -> #N/A | BH8: =+IF(AND(ISNUMBER(OFFSET('Hygiene Data'!$F$9,0,10*ROW('Hygiene Data'!F2))),'Data Summary'!DW8="Yes"),OFFSET('Hygiene Data'!$F$9,0,10*ROW('Hygiene Data'!F2)),NA()) -> #N/A | BI8: =+IF(AND(ISNUMBER(OFFSET('Hygiene Data'!$G$5,0,10*ROW('Hygiene Data'!G2))),'Data Summary'!DX8="Yes"),OFFSET('Hygiene Data'!$G$5,0,10*ROW('Hygiene Data'!G2)),NA()) -> #N/A | BJ8: =+IF(AND(ISNUMBER(OFFSET('Hygiene Data'!$G$7,0,10*ROW('Hygiene Data'!G2))),'Data Summary'!DY8="Yes"),OFFSET('Hygiene Data'!$G$7,0,10*ROW('Hygiene Data'!G2)),NA()) -> #N/A | BK8: =+IF(AND(ISNUMBER(OFFSET('Hygiene Data'!$G$9,0,10*ROW('Hygiene Data'!G2))),'Data Summary'!DZ8="Yes"),OFFSET('Hygiene Data'!$G$9,0,10*ROW('Hygiene Data'!G2)),NA()) -> #N/A | BL8: =+IF(AND(ISNUMBER(OFFSET('Hygiene Data'!$H$5,0,10*ROW('Hygiene Data'!H2))),'Data Summary'!EA8="Yes"),OFFSET('Hygiene Data'!$H$5,0,10*ROW('Hygiene Data'!H2)),NA()) -> 100 | BM8: =+IF(AND(ISNUMBER(OFFSET('Hygiene Data'!$H$7,0,10*ROW('Hygiene Data'!H2))),'Data Summary'!EB8="Yes"),OFFSET('Hygiene Data'!$H$7,0,10*ROW('Hygiene Data'!H2)),NA()) -> 100 | BN8: =+IF(AND(ISNUMBER(OFFSET('Hygiene Data'!$H$9,0,10*ROW('Hygiene Data'!H2))),'Data Summary'!EC8="Yes"),OFFSET('Hygiene Data'!$H$9,0,10*ROW('Hygiene Data'!H2)),NA()) -> 100 | BO8: =+IF(AND(ISNUMBER(OFFSET('Hygiene Data'!$I$5,0,10*ROW('Hygiene Data'!I2))),'Data Summary'!ED8="Yes"),OFFSET('Hygiene Data'!$I$5,0,10*ROW('Hygiene Data'!I2)),NA()) -> 100 | BP8: =+IF(AND(ISNUMBER(OFFSET('Hygiene Data'!$I$7,0,10*ROW('Hygiene Data'!I2))),'Data Summary'!EE8="Yes"),OFFSET('Hygiene Data'!$I$7,0,10*ROW('Hygiene Data'!I2)),NA()) -> 100 | BQ8: =+IF(AND(ISNUMBER(OFFSET('Hygiene Data'!$I$9,0,10*ROW('Hygiene Data'!I2))),'Data Summary'!EF8="Yes"),OFFSET('Hygiene Data'!$I$9,0,10*ROW('Hygiene Data'!I2)),NA()) -> 100
A9: =+RIGHT('Data Summary'!A9,LEN('Data Summary'!A9)-9) -> UIS | B9: =+IF(ISTEXT('Data Summary'!B9),'Data Summary'!B9,"") -> Other | C9: =+VALUE('Data Summary'!C9) -> 2017 | D9: =+IF(AND(ISNUMBER(OFFSET('Water Data'!$D$4,0,10*ROW('Water Data'!D3))),'Data Summary'!BS9="Yes"),100-OFFSET('Water Data'!$D$4,0,10*ROW('Water Data'!D3)),NA()) -> 100 | E9: =+IF(AND(ISNUMBER(OFFSET('Water Data'!$D$6,0,10*ROW('Water Data'!D3))),'Data Summary'!BT9="Yes"),OFFSET('Water Data'!$D$6,0,10*ROW('Water Data'!D3)),NA()) -> #N/A | F9: =+IF(AND(ISNUMBER(OFFSET('Water Data'!$D$9,0,10*ROW('Water Data'!D3))),'Data Summary'!BU9="Yes"),OFFSET('Water Data'!$D$9,0,10*ROW('Water Data'!D3)),NA()) -> #N/A | G9: =+IF(AND(ISNUMBER(OFFSET('Water Data'!$E$4,0,10*ROW('Water Data'!E3))),'Data Summary'!BV9="Yes"),100-OFFSET('Water Data'!$E$4,0,10*ROW('Water Data'!E3)),NA()) -> #N/A | H9: =+IF(AND(ISNUMBER(OFFSET('Water Data'!$E$6,0,10*ROW('Water Data'!E3))),'Data Summary'!BW9="Yes"),OFFSET('Water Data'!$E$6,0,10*ROW('Water Data'!E3)),NA()) -> #N/A | I9: =+IF(AND(ISNUMBER(OFFSET('Water Data'!$E$9,0,10*ROW('Water Data'!E3))),'Data Summary'!BX9="Yes"),OFFSET('Water Data'!$E$9,0,10*ROW('Water Data'!E3)),NA()) -> #N/A | J9: =+IF(AND(ISNUMBER(OFFSET('Water Data'!$F$4,0,10*ROW('Water Data'!F3))),'Data Summary'!BY9="Yes"),100-OFFSET('Water Data'!$F$4,0,10*ROW('Water Data'!F3)),NA()) -> #N/A | K9: =+IF(AND(ISNUMBER(OFFSET('Water Data'!$F$6,0,10*ROW('Water Data'!F3))),'Data Summary'!BZ9="Yes"),OFFSET('Water Data'!$F$6,0,10*ROW('Water Data'!F3)),NA()) -> #N/A | L9: =+IF(AND(ISNUMBER(OFFSET('Water Data'!$F$9,0,10*ROW('Water Data'!F3))),'Data Summary'!CA9="Yes"),OFFSET('Water Data'!$F$9,0,10*ROW('Water Data'!F3)),NA()) -> #N/A | M9: =+IF(AND(ISNUMBER(OFFSET('Water Data'!$G$4,0,10*ROW('Water Data'!G3))),'Data Summary'!CB9="Yes"),100-OFFSET('Water Data'!$G$4,0,10*ROW('Water Data'!G3)),NA()) -> #N/A | N9: =+IF(AND(ISNUMBER(OFFSET('Water Data'!$G$6,0,10*ROW('Water Data'!G3))),'Data Summary'!CC9="Yes"),OFFSET('Water Data'!$G$6,0,10*ROW('Water Data'!G3)),NA()) -> #N/A | O9: =+IF(AND(ISNUMBER(OFFSET('Water Data'!$G$9,0,10*ROW('Water Data'!G3))),'Data Summary'!CD9="Yes"),OFFSET('Water Data'!$G$9,0,10*ROW('Water Data'!G3)),NA()) -> #N/A | P9: =+IF(AND(ISNUMBER(OFFSET('Water Data'!$H$4,0,10*ROW('Water Data'!H3))),'Data Summary'!CE9="Yes"),100-OFFSET('Water Data'!$H$4,0,10*ROW('Water Data'!H3)),NA()) -> 100 | Q9: =+IF(AND(ISNUMBER(OFFSET('Water Data'!$H$6,0,10*ROW('Water Data'!H3))),'Data Summary'!CF9="Yes"),OFFSET('Water Data'!$H$6,0,10*ROW('Water Data'!H3)),NA()) -> #N/A | R9: =+IF(AND(ISNUMBER(OFFSET('Water Data'!$H$9,0,10*ROW('Water Data'!H3))),'Data Summary'!CG9="Yes"),OFFSET('Water Data'!$H$9,0,10*ROW('Water Data'!H3)),NA()) -> #N/A | S9: =+IF(AND(ISNUMBER(OFFSET('Water Data'!$I$4,0,10*ROW('Water Data'!I3))),'Data Summary'!CH9="Yes"),100-OFFSET('Water Data'!$I$4,0,10*ROW('Water Data'!I3)),NA()) -> 100 | T9: =+IF(AND(ISNUMBER(OFFSET('Water Data'!$I$6,0,10*ROW('Water Data'!I3))),'Data Summary'!CI9="Yes"),OFFSET('Water Data'!$I$6,0,10*ROW('Water Data'!I3)),NA()) -> #N/A | U9: =+IF(AND(ISNUMBER(OFFSET('Water Data'!$I$9,0,10*ROW('Water Data'!I3))),'Data Summary'!CJ9="Yes"),OFFSET('Water Data'!$I$9,0,10*ROW('Water Data'!I3)),NA()) -> #N/A | V9: =+IF(AND(ISNUMBER(OFFSET('Sanitation Data'!$D$4,0,10*ROW('Sanitation Data'!D3))),'Data Summary'!CK9="Yes"),100-OFFSET('Sanitation Data'!$D$4,0,10*ROW('Sanitation Data'!D3)),NA()) -> 100 | W9: =+IF(AND(ISNUMBER(OFFSET('Sanitation Data'!$D$6,0,10*ROW('Sanitation Data'!D3))),'Data Summary'!CL9="Yes"),OFFSET('Sanitation Data'!$D$6,0,10*ROW('Sanitation Data'!D3)),NA()) -> #N/A | X9: =+IF(AND(ISNUMBER(OFFSET('Sanitation Data'!$D$10,0,10*ROW('Sanitation Data'!D3))),'Data Summary'!CM9="Yes"),OFFSET('Sanitation Data'!$D$10,0,10*ROW('Sanitation Data'!D3)),NA()) -> #N/A | Y9: =+IF(AND(ISNUMBER(OFFSET('Sanitation Data'!$D$11,0,10*ROW('Sanitation Data'!D3))),'Data Summary'!CN9="Yes"),OFFSET('Sanitation Data'!$D$11,0,10*ROW('Sanitation Data'!D3)),NA()) -> #N/A | Z9: =+IF(AND(ISNUMBER(OFFSET('Sanitation Data'!$D$12,0,10*ROW('Sanitation Data'!D3))),'Data Summary'!CO9="Yes"),OFFSET('Sanitation Data'!$D$12,0,10*ROW('Sanitation Data'!D3)),NA()) -> #N/A | AA9: =+IF(AND(ISNUMBER(OFFSET('Sanitation Data'!$E$4,0,10*ROW('Sanitation Data'!E3))),'Data Summary'!CP9="Yes"),100-OFFSET('Sanitation Data'!$E$4,0,10*ROW('Sanitation Data'!E3)),NA()) -> #N/A | AB9: =+IF(AND(ISNUMBER(OFFSET('Sanitation Data'!$E$6,0,10*ROW('Sanitation Data'!E3))),'Data Summary'!CQ9="Yes"),OFFSET('Sanitation Data'!$E$6,0,10*ROW('Sanitation Data'!E3)),NA()) -> #N/A | AC9: =+IF(AND(ISNUMBER(OFFSET('Sanitation Data'!$E$10,0,10*ROW('Sanitation Data'!E3))),'Data Summary'!CR9="Yes"),OFFSET('Sanitation Data'!$E$10,0,10*ROW('Sanitation Data'!E3)),NA()) -> #N/A | AD9: =+IF(AND(ISNUMBER(OFFSET('Sanitation Data'!$E$11,0,10*ROW('Sanitation Data'!E3))),'Data Summary'!CS9="Yes"),OFFSET('Sanitation Data'!$E$11,0,10*ROW('Sanitation Data'!E3)),NA()) -> #N/A | AE9: =+IF(AND(ISNUMBER(OFFSET('Sanitation Data'!$E$12,0,10*ROW('Sanitation Data'!E3))),'Data Summary'!CT9="Yes"),OFFSET('Sanitation Data'!$E$12,0,10*ROW('Sanitation Data'!E3)),NA()) -> #N/A | AF9: =+IF(AND(ISNUMBER(OFFSET('Sanitation Data'!$F$4,0,10*ROW('Sanitation Data'!F3))),'Data Summary'!CU9="Yes"),100-OFFSET('Sanitation Data'!$F$4,0,10*ROW('Sanitation Data'!F3)),NA()) -> #N/A | AG9: =+IF(AND(ISNUMBER(OFFSET('Sanitation Data'!$F$6,0,10*ROW('Sanitation Data'!F3))),'Data Summary'!CV9="Yes"),OFFSET('Sanitation Data'!$F$6,0,10*ROW('Sanitation Data'!F3)),NA()) -> #N/A | AH9: =+IF(AND(ISNUMBER(OFFSET('Sanitation Data'!$F$10,0,10*ROW('Sanitation Data'!F3))),'Data Summary'!CW9="Yes"),OFFSET('Sanitation Data'!$F$10,0,10*ROW('Sanitation Data'!F3)),NA()) -> #N/A | AI9: =+IF(AND(ISNUMBER(OFFSET('Sanitation Data'!$F$11,0,10*ROW('Sanitation Data'!F3))),'Data Summary'!CX9="Yes"),OFFSET('Sanitation Data'!$F$11,0,10*ROW('Sanitation Data'!F3)),NA()) -> #N/A | AJ9: =+IF(AND(ISNUMBER(OFFSET('Sanitation Data'!$F$12,0,10*ROW('Sanitation Data'!F3))),'Data Summary'!CY9="Yes"),OFFSET('Sanitation Data'!$F$12,0,10*ROW('Sanitation Data'!F3)),NA()) -> #N/A | AK9: =+IF(AND(ISNUMBER(OFFSET('Sanitation Data'!$G$4,0,10*ROW('Sanitation Data'!G3))),'Data Summary'!CZ9="Yes"),100-OFFSET('Sanitation Data'!$G$4,0,10*ROW('Sanitation Data'!G3)),NA()) -> #N/A | AL9: =+IF(AND(ISNUMBER(OFFSET('Sanitation Data'!$G$6,0,10*ROW('Sanitation Data'!G3))),'Data Summary'!DA9="Yes"),OFFSET('Sanitation Data'!$G$6,0,10*ROW('Sanitation Data'!G3)),NA()) -> #N/A | AM9: =+IF(AND(ISNUMBER(OFFSET('Sanitation Data'!$G$10,0,10*ROW('Sanitation Data'!G3))),'Data Summary'!DB9="Yes"),OFFSET('Sanitation Data'!$G$10,0,10*ROW('Sanitation Data'!G3)),NA()) -> #N/A | AN9: =+IF(AND(ISNUMBER(OFFSET('Sanitation Data'!$G$11,0,10*ROW('Sanitation Data'!G3))),'Data Summary'!DC9="Yes"),OFFSET('Sanitation Data'!$G$11,0,10*ROW('Sanitation Data'!G3)),NA()) -> #N/A | AO9: =+IF(AND(ISNUMBER(OFFSET('Sanitation Data'!$G$12,0,10*ROW('Sanitation Data'!G3))),'Data Summary'!DD9="Yes"),OFFSET('Sanitation Data'!$G$12,0,10*ROW('Sanitation Data'!G3)),NA()) -> #N/A | AP9: =+IF(AND(ISNUMBER(OFFSET('Sanitation Data'!$H$4,0,10*ROW('Sanitation Data'!H3))),'Data Summary'!DE9="Yes"),100-OFFSET('Sanitation Data'!$H$4,0,10*ROW('Sanitation Data'!H3)),NA()) -> 100 | AQ9: =+IF(AND(ISNUMBER(OFFSET('Sanitation Data'!$H$6,0,10*ROW('Sanitation Data'!H3))),'Data Summary'!DF9="Yes"),OFFSET('Sanitation Data'!$H$6,0,10*ROW('Sanitation Data'!H3)),NA()) -> #N/A | AR9: =+IF(AND(ISNUMBER(OFFSET('Sanitation Data'!$H$10,0,10*ROW('Sanitation Data'!H3))),'Data Summary'!DG9="Yes"),OFFSET('Sanitation Data'!$H$10,0,10*ROW('Sanitation Data'!H3)),NA()) -> #N/A | AS9: =+IF(AND(ISNUMBER(OFFSET('Sanitation Data'!$H$11,0,10*ROW('Sanitation Data'!H3))),'Data Summary'!DH9="Yes"),OFFSET('Sanitation Data'!$H$11,0,10*ROW('Sanitation Data'!H3)),NA()) -> #N/A | AT9: =+IF(AND(ISNUMBER(OFFSET('Sanitation Data'!$H$12,0,10*ROW('Sanitation Data'!H3))),'Data Summary'!DI9="Yes"),OFFSET('Sanitation Data'!$H$12,0,10*ROW('Sanitation Data'!H3)),NA()) -> #N/A | AU9: =+IF(AND(ISNUMBER(OFFSET('Sanitation Data'!$I$4,0,10*ROW('Sanitation Data'!I3))),'Data Summary'!DJ9="Yes"),100-OFFSET('Sanitation Data'!$I$4,0,10*ROW('Sanitation Data'!I3)),NA()) -> 100 | AV9: =+IF(AND(ISNUMBER(OFFSET('Sanitation Data'!$I$6,0,10*ROW('Sanitation Data'!I3))),'Data Summary'!DK9="Yes"),OFFSET('Sanitation Data'!$I$6,0,10*ROW('Sanitation Data'!I3)),NA()) -> #N/A | AW9: =+IF(AND(ISNUMBER(OFFSET('Sanitation Data'!$I$10,0,10*ROW('Sanitation Data'!I3))),'Data Summary'!DL9="Yes"),OFFSET('Sanitation Data'!$I$10,0,10*ROW('Sanitation Data'!I3)),NA()) -> #N/A | AX9: =+IF(AND(ISNUMBER(OFFSET('Sanitation Data'!$I$11,0,10*ROW('Sanitation Data'!I3))),'Data Summary'!DM9="Yes"),OFFSET('Sanitation Data'!$I$11,0,10*ROW('Sanitation Data'!I3)),NA()) -> #N/A | AY9: =+IF(AND(ISNUMBER(OFFSET('Sanitation Data'!$I$12,0,10*ROW('Sanitation Data'!I3))),'Data Summary'!DN9="Yes"),OFFSET('Sanitation Data'!$I$12,0,10*ROW('Sanitation Data'!I3)),NA()) -> #N/A | AZ9: =+IF(AND(ISNUMBER(OFFSET('Hygiene Data'!$D$5,0,10*ROW('Hygiene Data'!D3))),'Data Summary'!DO9="Yes"),OFFSET('Hygiene Data'!$D$5,0,10*ROW('Hygiene Data'!D3)),NA()) -> 100 | BA9: =+IF(AND(ISNUMBER(OFFSET('Hygiene Data'!$D$7,0,10*ROW('Hygiene Data'!D3))),'Data Summary'!DP9="Yes"),OFFSET('Hygiene Data'!$D$7,0,10*ROW('Hygiene Data'!D3)),NA()) -> 100 | BB9: =+IF(AND(ISNUMBER(OFFSET('Hygiene Data'!$D$9,0,10*ROW('Hygiene Data'!D3))),'Data Summary'!DQ9="Yes"),OFFSET('Hygiene Data'!$D$9,0,10*ROW('Hygiene Data'!D3)),NA()) -> 100 | BC9: =+IF(AND(ISNUMBER(OFFSET('Hygiene Data'!$E$5,0,10*ROW('Hygiene Data'!E3))),'Data Summary'!DR9="Yes"),OFFSET('Hygiene Data'!$E$5,0,10*ROW('Hygiene Data'!E3)),NA()) -> #N/A | BD9: =+IF(AND(ISNUMBER(OFFSET('Hygiene Data'!$E$7,0,10*ROW('Hygiene Data'!E3))),'Data Summary'!DS9="Yes"),OFFSET('Hygiene Data'!$E$7,0,10*ROW('Hygiene Data'!E3)),NA()) -> #N/A | BE9: =+IF(AND(ISNUMBER(OFFSET('Hygiene Data'!$E$9,0,10*ROW('Hygiene Data'!E3))),'Data Summary'!DT9="Yes"),OFFSET('Hygiene Data'!$E$9,0,10*ROW('Hygiene Data'!E3)),NA()) -> #N/A | BF9: =+IF(AND(ISNUMBER(OFFSET('Hygiene Data'!$F$5,0,10*ROW('Hygiene Data'!F3))),'Data Summary'!DU9="Yes"),OFFSET('Hygiene Data'!$F$5,0,10*ROW('Hygiene Data'!F3)),NA()) -> #N/A | BG9: =+IF(AND(ISNUMBER(OFFSET('Hygiene Data'!$F$7,0,10*ROW('Hygiene Data'!F3))),'Data Summary'!DV9="Yes"),OFFSET('Hygiene Data'!$F$7,0,10*ROW('Hygiene Data'!F3)),NA()) -> #N/A | BH9: =+IF(AND(ISNUMBER(OFFSET('Hygiene Data'!$F$9,0,10*ROW('Hygiene Data'!F3))),'Data Summary'!DW9="Yes"),OFFSET('Hygiene Data'!$F$9,0,10*ROW('Hygiene Data'!F3)),NA()) -> #N/A | BI9: =+IF(AND(ISNUMBER(OFFSET('Hygiene Data'!$G$5,0,10*ROW('Hygiene Data'!G3))),'Data Summary'!DX9="Yes"),OFFSET('Hygiene Data'!$G$5,0,10*ROW('Hygiene Data'!G3)),NA()) -> #N/A | BJ9: =+IF(AND(ISNUMBER(OFFSET('Hygiene Data'!$G$7,0,10*ROW('Hygiene Data'!G3))),'Data Summary'!DY9="Yes"),OFFSET('Hygiene Data'!$G$7,0,10*ROW('Hygiene Data'!G3)),NA()) -> #N/A | BK9: =+IF(AND(ISNUMBER(OFFSET('Hygiene Data'!$G$9,0,10*ROW('Hygiene Data'!G3))),'Data Summary'!DZ9="Yes"),OFFSET('Hygiene Data'!$G$9,0,10*ROW('Hygiene Data'!G3)),NA()) -> #N/A | BL9: =+IF(AND(ISNUMBER(OFFSET('Hygiene Data'!$H$5,0,10*ROW('Hygiene Data'!H3))),'Data Summary'!EA9="Yes"),OFFSET('Hygiene Data'!$H$5,0,10*ROW('Hygiene Data'!H3)),NA()) -> 100 | BM9: =+IF(AND(ISNUMBER(OFFSET('Hygiene Data'!$H$7,0,10*ROW('Hygiene Data'!H3))),'Data Summary'!EB9="Yes"),OFFSET('Hygiene Data'!$H$7,0,10*ROW('Hygiene Data'!H3)),NA()) -> 100 | BN9: =+IF(AND(ISNUMBER(OFFSET('Hygiene Data'!$H$9,0,10*ROW('Hygiene Data'!H3))),'Data Summary'!EC9="Yes"),OFFSET('Hygiene Data'!$H$9,0,10*ROW('Hygiene Data'!H3)),NA()) -> 100 | BO9: =+IF(AND(ISNUMBER(OFFSET('Hygiene Data'!$I$5,0,10*ROW('Hygiene Data'!I3))),'Data Summary'!ED9="Yes"),OFFSET('Hygiene Data'!$I$5,0,10*ROW('Hygiene Data'!I3)),NA()) -> 100 | BP9: =+IF(AND(ISNUMBER(OFFSET('Hygiene Data'!$I$7,0,10*ROW('Hygiene Data'!I3))),'Data Summary'!EE9="Yes"),OFFSET('Hygiene Data'!$I$7,0,10*ROW('Hygiene Data'!I3)),NA()) -> 100 | BQ9: =+IF(AND(ISNUMBER(OFFSET('Hygiene Data'!$I$9,0,10*ROW('Hygiene Data'!I3))),'Data Summary'!EF9="Yes"),OFFSET('Hygiene Data'!$I$9,0,10*ROW('Hygiene Data'!I3)),NA()) -> 100
A10: =+RIGHT('Data Summary'!A10,LEN('Data Summary'!A10)-9) -> NPHA | B10: =+IF(ISTEXT('Data Summary'!B10),'Data Summary'!B10,"") -> Census | C10: =+VALUE('Data Summary'!C10) -> 2017 | D10: =+IF(AND(ISNUMBER(OFFSET('Water Data'!$D$4,0,10*ROW('Water Data'!D4))),'Data Summary'!BS10="Yes"),100-OFFSET('Water Data'!$D$4,0,10*ROW('Water Data'!D4)),NA()) -> #N/A | E10: =+IF(AND(ISNUMBER(OFFSET('Water Data'!$D$6,0,10*ROW('Water Data'!D4))),'Data Summary'!BT10="Yes"),OFFSET('Water Data'!$D$6,0,10*ROW('Water Data'!D4)),NA()) -> #N/A | F10: =+IF(AND(ISNUMBER(OFFSET('Water Data'!$D$9,0,10*ROW('Water Data'!D4))),'Data Summary'!BU10="Yes"),OFFSET('Water Data'!$D$9,0,10*ROW('Water Data'!D4)),NA()) -> 89 | G10: =+IF(AND(ISNUMBER(OFFSET('Water Data'!$E$4,0,10*ROW('Water Data'!E4))),'Data Summary'!BV10="Yes"),100-OFFSET('Water Data'!$E$4,0,10*ROW('Water Data'!E4)),NA()) -> #N/A | H10: =+IF(AND(ISNUMBER(OFFSET('Water Data'!$E$6,0,10*ROW('Water Data'!E4))),'Data Summary'!BW10="Yes"),OFFSET('Water Data'!$E$6,0,10*ROW('Water Data'!E4)),NA()) -> #N/A | I10: =+IF(AND(ISNUMBER(OFFSET('Water Data'!$E$9,0,10*ROW('Water Data'!E4))),'Data Summary'!BX10="Yes"),OFFSET('Water Data'!$E$9,0,10*ROW('Water Data'!E4)),NA()) -> #N/A | J10: =+IF(AND(ISNUMBER(OFFSET('Water Data'!$F$4,0,10*ROW('Water Data'!F4))),'Data Summary'!BY10="Yes"),100-OFFSET('Water Data'!$F$4,0,10*ROW('Water Data'!F4)),NA()) -> #N/A | K10: =+IF(AND(ISNUMBER(OFFSET('Water Data'!$F$6,0,10*ROW('Water Data'!F4))),'Data Summary'!BZ10="Yes"),OFFSET('Water Data'!$F$6,0,10*ROW('Water Data'!F4)),NA()) -> #N/A | L10: =+IF(AND(ISNUMBER(OFFSET('Water Data'!$F$9,0,10*ROW('Water Data'!F4))),'Data Summary'!CA10="Yes"),OFFSET('Water Data'!$F$9,0,10*ROW('Water Data'!F4)),NA()) -> #N/A | M10: =+IF(AND(ISNUMBER(OFFSET('Water Data'!$G$4,0,10*ROW('Water Data'!G4))),'Data Summary'!CB10="Yes"),100-OFFSET('Water Data'!$G$4,0,10*ROW('Water Data'!G4)),NA()) -> #N/A | N10: =+IF(AND(ISNUMBER(OFFSET('Water Data'!$G$6,0,10*ROW('Water Data'!G4))),'Data Summary'!CC10="Yes"),OFFSET('Water Data'!$G$6,0,10*ROW('Water Data'!G4)),NA()) -> #N/A | O10: =+IF(AND(ISNUMBER(OFFSET('Water Data'!$G$9,0,10*ROW('Water Data'!G4))),'Data Summary'!CD10="Yes"),OFFSET('Water Data'!$G$9,0,10*ROW('Water Data'!G4)),NA()) -> #N/A | P10: =+IF(AND(ISNUMBER(OFFSET('Water Data'!$H$4,0,10*ROW('Water Data'!H4))),'Data Summary'!CE10="Yes"),100-OFFSET('Water Data'!$H$4,0,10*ROW('Water Data'!H4)),NA()) -> #N/A | Q10: =+IF(AND(ISNUMBER(OFFSET('Water Data'!$H$6,0,10*ROW('Water Data'!H4))),'Data Summary'!CF10="Yes"),OFFSET('Water Data'!$H$6,0,10*ROW('Water Data'!H4)),NA()) -> #N/A | R10: =+IF(AND(ISNUMBER(OFFSET('Water Data'!$H$9,0,10*ROW('Water Data'!H4))),'Data Summary'!CG10="Yes"),OFFSET('Water Data'!$H$9,0,10*ROW('Water Data'!H4)),NA()) -> #N/A | S10: =+IF(AND(ISNUMBER(OFFSET('Water Data'!$I$4,0,10*ROW('Water Data'!I4))),'Data Summary'!CH10="Yes"),100-OFFSET('Water Data'!$I$4,0,10*ROW('Water Data'!I4)),NA()) -> #N/A | T10: =+IF(AND(ISNUMBER(OFFSET('Water Data'!$I$6,0,10*ROW('Water Data'!I4))),'Data Summary'!CI10="Yes"),OFFSET('Water Data'!$I$6,0,10*ROW('Water Data'!I4)),NA()) -> #N/A | U10: =+IF(AND(ISNUMBER(OFFSET('Water Data'!$I$9,0,10*ROW('Water Data'!I4))),'Data Summary'!CJ10="Yes"),OFFSET('Water Data'!$I$9,0,10*ROW('Water Data'!I4)),NA()) -> #N/A | V10: =+IF(AND(ISNUMBER(OFFSET('Sanitation Data'!$D$4,0,10*ROW('Sanitation Data'!D4))),'Data Summary'!CK10="Yes"),100-OFFSET('Sanitation Data'!$D$4,0,10*ROW('Sanitation Data'!D4)),NA()) -> #N/A | W10: =+IF(AND(ISNUMBER(OFFSET('Sanitation Data'!$D$6,0,10*ROW('Sanitation Data'!D4))),'Data Summary'!CL10="Yes"),OFFSET('Sanitation Data'!$D$6,0,10*ROW('Sanitation Data'!D4)),NA()) -> #N/A | X10: =+IF(AND(ISNUMBER(OFFSET('Sanitation Data'!$D$10,0,10*ROW('Sanitation Data'!D4))),'Data Summary'!CM10="Yes"),OFFSET('Sanitation Data'!$D$10,0,10*ROW('Sanitation Data'!D4)),NA()) -> 83 | Y10: =+IF(AND(ISNUMBER(OFFSET('Sanitation Data'!$D$11,0,10*ROW('Sanitation Data'!D4))),'Data Summary'!CN10="Yes"),OFFSET('Sanitation Data'!$D$11,0,10*ROW('Sanitation Data'!D4)),NA()) -> #N/A | Z10: =+IF(AND(ISNUMBER(OFFSET('Sanitation Data'!$D$12,0,10*ROW('Sanitation Data'!D4))),'Data Summary'!CO10="Yes"),OFFSET('Sanitation Data'!$D$12,0,10*ROW('Sanitation Data'!D4)),NA()) -> 83 | AA10: =+IF(AND(ISNUMBER(OFFSET('Sanitation Data'!$E$4,0,10*ROW('Sanitation Data'!E4))),'Data Summary'!CP10="Yes"),100-OFFSET('Sanitation Data'!$E$4,0,10*ROW('Sanitation Data'!E4)),NA()) -> #N/A | AB10: =+IF(AND(ISNUMBER(OFFSET('Sanitation Data'!$E$6,0,10*ROW('Sanitation Data'!E4))),'Data Summary'!CQ10="Yes"),OFFSET('Sanitation Data'!$E$6,0,10*ROW('Sanitation Data'!E4)),NA()) -> #N/A | AC10: =+IF(AND(ISNUMBER(OFFSET('Sanitation Data'!$E$10,0,10*ROW('Sanitation Data'!E4))),'Data Summary'!CR10="Yes"),OFFSET('Sanitation Data'!$E$10,0,10*ROW('Sanitation Data'!E4)),NA()) -> #N/A | AD10: =+IF(AND(ISNUMBER(OFFSET('Sanitation Data'!$E$11,0,10*ROW('Sanitation Data'!E4))),'Data Summary'!CS10="Yes"),OFFSET('Sanitation Data'!$E$11,0,10*ROW('Sanitation Data'!E4)),NA()) -> #N/A | AE10: =+IF(AND(ISNUMBER(OFFSET('Sanitation Data'!$E$12,0,10*ROW('Sanitation Data'!E4))),'Data Summary'!CT10="Yes"),OFFSET('Sanitation Data'!$E$12,0,10*ROW('Sanitation Data'!E4)),NA()) -> #N/A | AF10: =+IF(AND(ISNUMBER(OFFSET('Sanitation Data'!$F$4,0,10*ROW('Sanitation Data'!F4))),'Data Summary'!CU10="Yes"),100-OFFSET('Sanitation Data'!$F$4,0,10*ROW('Sanitation Data'!F4)),NA()) -> #N/A | AG10: =+IF(AND(ISNUMBER(OFFSET('Sanitation Data'!$F$6,0,10*ROW('Sanitation Data'!F4))),'Data Summary'!CV10="Yes"),OFFSET('Sanitation Data'!$F$6,0,10*ROW('Sanitation Data'!F4)),NA()) -> #N/A | AH10: =+IF(AND(ISNUMBER(OFFSET('Sanitation Data'!$F$10,0,10*ROW('Sanitation Data'!F4))),'Data Summary'!CW10="Yes"),OFFSET('Sanitation Data'!$F$10,0,10*ROW('Sanitation Data'!F4)),NA()) -> #N/A | AI10: =+IF(AND(ISNUMBER(OFFSET('Sanitation Data'!$F$11,0,10*ROW('Sanitation Data'!F4))),'Data Summary'!CX10="Yes"),OFFSET('Sanitation Data'!$F$11,0,10*ROW('Sanitation Data'!F4)),NA()) -> #N/A | AJ10: =+IF(AND(ISNUMBER(OFFSET('Sanitation Data'!$F$12,0,10*ROW('Sanitation Data'!F4))),'Data Summary'!CY10="Yes"),OFFSET('Sanitation Data'!$F$12,0,10*ROW('Sanitation Data'!F4)),NA()) -> #N/A | AK10: =+IF(AND(ISNUMBER(OFFSET('Sanitation Data'!$G$4,0,10*ROW('Sanitation Data'!G4))),'Data Summary'!CZ10="Yes"),100-OFFSET('Sanitation Data'!$G$4,0,10*ROW('Sanitation Data'!G4)),NA()) -> #N/A | AL10: =+IF(AND(ISNUMBER(OFFSET('Sanitation Data'!$G$6,0,10*ROW('Sanitation Data'!G4))),'Data Summary'!DA10="Yes"),OFFSET('Sanitation Data'!$G$6,0,10*ROW('Sanitation Data'!G4)),NA()) -> #N/A | AM10: =+IF(AND(ISNUMBER(OFFSET('Sanitation Data'!$G$10,0,10*ROW('Sanitation Data'!G4))),'Data Summary'!DB10="Yes"),OFFSET('Sanitation Data'!$G$10,0,10*ROW('Sanitation Data'!G4)),NA()) -> #N/A | AN10: =+IF(AND(ISNUMBER(OFFSET('Sanitation Data'!$G$11,0,10*ROW('Sanitation Data'!G4))),'Data Summary'!DC10="Yes"),OFFSET('Sanitation Data'!$G$11,0,10*ROW('Sanitation Data'!G4)),NA()) -> #N/A | AO10: =+IF(AND(ISNUMBER(OFFSET('Sanitation Data'!$G$12,0,10*ROW('Sanitation Data'!G4))),'Data Summary'!DD10="Yes"),OFFSET('Sanitation Data'!$G$12,0,10*ROW('Sanitation Data'!G4)),NA()) -> #N/A | AP10: =+IF(AND(ISNUMBER(OFFSET('Sanitation Data'!$H$4,0,10*ROW('Sanitation Data'!H4))),'Data Summary'!DE10="Yes"),100-OFFSET('Sanitation Data'!$H$4,0,10*ROW('Sanitation Data'!H4)),NA()) -> #N/A | AQ10: =+IF(AND(ISNUMBER(OFFSET('Sanitation Data'!$H$6,0,10*ROW('Sanitation Data'!H4))),'Data Summary'!DF10="Yes"),OFFSET('Sanitation Data'!$H$6,0,10*ROW('Sanitation Data'!H4)),NA()) -> #N/A | AR10: =+IF(AND(ISNUMBER(OFFSET('Sanitation Data'!$H$10,0,10*ROW('Sanitation Data'!H4))),'Data Summary'!DG10="Yes"),OFFSET('Sanitation Data'!$H$10,0,10*ROW('Sanitation Data'!H4)),NA()) -> #N/A | AS10: =+IF(AND(ISNUMBER(OFFSET('Sanitation Data'!$H$11,0,10*ROW('Sanitation Data'!H4))),'Data Summary'!DH10="Yes"),OFFSET('Sanitation Data'!$H$11,0,10*ROW('Sanitation Data'!H4)),NA()) -> #N/A | AT10: =+IF(AND(ISNUMBER(OFFSET('Sanitation Data'!$H$12,0,10*ROW('Sanitation Data'!H4))),'Data Summary'!DI10="Yes"),OFFSET('Sanitation Data'!$H$12,0,10*ROW('Sanitation Data'!H4)),NA()) -> #N/A | AU10: =+IF(AND(ISNUMBER(OFFSET('Sanitation Data'!$I$4,0,10*ROW('Sanitation Data'!I4))),'Data Summary'!DJ10="Yes"),100-OFFSET('Sanitation Data'!$I$4,0,10*ROW('Sanitation Data'!I4)),NA()) -> #N/A | AV10: =+IF(AND(ISNUMBER(OFFSET('Sanitation Data'!$I$6,0,10*ROW('Sanitation Data'!I4))),'Data Summary'!DK10="Yes"),OFFSET('Sanitation Data'!$I$6,0,10*ROW('Sanitation Data'!I4)),NA()) -> #N/A | AW10: =+IF(AND(ISNUMBER(OFFSET('Sanitation Data'!$I$10,0,10*ROW('Sanitation Data'!I4))),'Data Summary'!DL10="Yes"),OFFSET('Sanitation Data'!$I$10,0,10*ROW('Sanitation Data'!I4)),NA()) -> #N/A | AX10: =+IF(AND(ISNUMBER(OFFSET('Sanitation Data'!$I$11,0,10*ROW('Sanitation Data'!I4))),'Data Summary'!DM10="Yes"),OFFSET('Sanitation Data'!$I$11,0,10*ROW('Sanitation Data'!I4)),NA()) -> #N/A | AY10: =+IF(AND(ISNUMBER(OFFSET('Sanitation Data'!$I$12,0,10*ROW('Sanitation Data'!I4))),'Data Summary'!DN10="Yes"),OFFSET('Sanitation Data'!$I$12,0,10*ROW('Sanitation Data'!I4)),NA()) -> #N/A | AZ10: =+IF(AND(ISNUMBER(OFFSET('Hygiene Data'!$D$5,0,10*ROW('Hygiene Data'!D4))),'Data Summary'!DO10="Yes"),OFFSET('Hygiene Data'!$D$5,0,10*ROW('Hygiene Data'!D4)),NA()) -> #N/A | BA10: =+IF(AND(ISNUMBER(OFFSET('Hygiene Data'!$D$7,0,10*ROW('Hygiene Data'!D4))),'Data Summary'!DP10="Yes"),OFFSET('Hygiene Data'!$D$7,0,10*ROW('Hygiene Data'!D4)),NA()) -> #N/A | BB10: =+IF(AND(ISNUMBER(OFFSET('Hygiene Data'!$D$9,0,10*ROW('Hygiene Data'!D4))),'Data Summary'!DQ10="Yes"),OFFSET('Hygiene Data'!$D$9,0,10*ROW('Hygiene Data'!D4)),NA()) -> #N/A | BC10: =+IF(AND(ISNUMBER(OFFSET('Hygiene Data'!$E$5,0,10*ROW('Hygiene Data'!E4))),'Data Summary'!DR10="Yes"),OFFSET('Hygiene Data'!$E$5,0,10*ROW('Hygiene Data'!E4)),NA()) -> #N/A | BD10: =+IF(AND(ISNUMBER(OFFSET('Hygiene Data'!$E$7,0,10*ROW('Hygiene Data'!E4))),'Data Summary'!DS10="Yes"),OFFSET('Hygiene Data'!$E$7,0,10*ROW('Hygiene Data'!E4)),NA()) -> #N/A | BE10: =+IF(AND(ISNUMBER(OFFSET('Hygiene Data'!$E$9,0,10*ROW('Hygiene Data'!E4))),'Data Summary'!DT10="Yes"),OFFSET('Hygiene Data'!$E$9,0,10*ROW('Hygiene Data'!E4)),NA()) -> #N/A | BF10: =+IF(AND(ISNUMBER(OFFSET('Hygiene Data'!$F$5,0,10*ROW('Hygiene Data'!F4))),'Data Summary'!DU10="Yes"),OFFSET('Hygiene Data'!$F$5,0,10*ROW('Hygiene Data'!F4)),NA()) -> #N/A | BG10: =+IF(AND(ISNUMBER(OFFSET('Hygiene Data'!$F$7,0,10*ROW('Hygiene Data'!F4))),'Data Summary'!DV10="Yes"),OFFSET('Hygiene Data'!$F$7,0,10*ROW('Hygiene Data'!F4)),NA()) -> #N/A | BH10: =+IF(AND(ISNUMBER(OFFSET('Hygiene Data'!$F$9,0,10*ROW('Hygiene Data'!F4))),'Data Summary'!DW10="Yes"),OFFSET('Hygiene Data'!$F$9,0,10*ROW('Hygiene Data'!F4)),NA()) -> #N/A | BI10: =+IF(AND(ISNUMBER(OFFSET('Hygiene Data'!$G$5,0,10*ROW('Hygiene Data'!G4))),'Data Summary'!DX10="Yes"),OFFSET('Hygiene Data'!$G$5,0,10*ROW('Hygiene Data'!G4)),NA()) -> #N/A | BJ10: =+IF(AND(ISNUMBER(OFFSET('Hygiene Data'!$G$7,0,10*ROW('Hygiene Data'!G4))),'Data Summary'!DY10="Yes"),OFFSET('Hygiene Data'!$G$7,0,10*ROW('Hygiene Data'!G4)),NA()) -> #N/A | BK10: =+IF(AND(ISNUMBER(OFFSET('Hygiene Data'!$G$9,0,10*ROW('Hygiene Data'!G4))),'Data Summary'!DZ10="Yes"),OFFSET('Hygiene Data'!$G$9,0,10*ROW('Hygiene Data'!G4)),NA()) -> #N/A | BL10: =+IF(AND(ISNUMBER(OFFSET('Hygiene Data'!$H$5,0,10*ROW('Hygiene Data'!H4))),'Data Summary'!EA10="Yes"),OFFSET('Hygiene Data'!$H$5,0,10*ROW('Hygiene Data'!H4)),NA()) -> #N/A | BM10: =+IF(AND(ISNUMBER(OFFSET('Hygiene Data'!$H$7,0,10*ROW('Hygiene Data'!H4))),'Data Summary'!EB10="Yes"),OFFSET('Hygiene Data'!$H$7,0,10*ROW('Hygiene Data'!H4)),NA()) -> #N/A | BN10: =+IF(AND(ISNUMBER(OFFSET('Hygiene Data'!$H$9,0,10*ROW('Hygiene Data'!H4))),'Data Summary'!EC10="Yes"),OFFSET('Hygiene Data'!$H$9,0,10*ROW('Hygiene Data'!H4)),NA()) -> #N/A | BO10: =+IF(AND(ISNUMBER(OFFSET('Hygiene Data'!$I$5,0,10*ROW('Hygiene Data'!I4))),'Data Summary'!ED10="Yes"),OFFSET('Hygiene Data'!$I$5,0,10*ROW('Hygiene Data'!I4)),NA()) -> #N/A | BP10: =+IF(AND(ISNUMBER(OFFSET('Hygiene Data'!$I$7,0,10*ROW('Hygiene Data'!I4))),'Data Summary'!EE10="Yes"),OFFSET('Hygiene Data'!$I$7,0,10*ROW('Hygiene Data'!I4)),NA()) -> #N/A | BQ10: =+IF(AND(ISNUMBER(OFFSET('Hygiene Data'!$I$9,0,10*ROW('Hygiene Data'!I4))),'Data Summary'!EF10="Yes"),OFFSET('Hygiene Data'!$I$9,0,10*ROW('Hygiene Data'!I4)),NA()) -> #N/A
A11: =+RIGHT('Data Summary'!A11,LEN('Data Summary'!A11)-9) -> UIS | B11: =+IF(ISTEXT('Data Summary'!B11),'Data Summary'!B11,"") -> Other | C11: =+VALUE('Data Summary'!C11) -> 2018 | D11: =+IF(AND(ISNUMBER(OFFSET('Water Data'!$D$4,0,10*ROW('Water Data'!D5))),'Data Summary'!BS11="Yes"),100-OFFSET('Water Data'!$D$4,0,10*ROW('Water Data'!D5)),NA()) -> #N/A | E11: =+IF(AND(ISNUMBER(OFFSET('Water Data'!$D$6,0,10*ROW('Water Data'!D5))),'Data Summary'!BT11="Yes"),OFFSET('Water Data'!$D$6,0,10*ROW('Water Data'!D5)),NA()) -> #N/A | F11: =+IF(AND(ISNUMBER(OFFSET('Water Data'!$D$9,0,10*ROW('Water Data'!D5))),'Data Summary'!BU11="Yes"),OFFSET('Water Data'!$D$9,0,10*ROW('Water Data'!D5)),NA()) -> #N/A | G11: =+IF(AND(ISNUMBER(OFFSET('Water Data'!$E$4,0,10*ROW('Water Data'!E5))),'Data Summary'!BV11="Yes"),100-OFFSET('Water Data'!$E$4,0,10*ROW('Water Data'!E5)),NA()) -> #N/A | H11: =+IF(AND(ISNUMBER(OFFSET('Water Data'!$E$6,0,10*ROW('Water Data'!E5))),'Data Summary'!BW11="Yes"),OFFSET('Water Data'!$E$6,0,10*ROW('Water Data'!E5)),NA()) -> #N/A | I11: =+IF(AND(ISNUMBER(OFFSET('Water Data'!$E$9,0,10*ROW('Water Data'!E5))),'Data Summary'!BX11="Yes"),OFFSET('Water Data'!$E$9,0,10*ROW('Water Data'!E5)),NA()) -> #N/A | J11: =+IF(AND(ISNUMBER(OFFSET('Water Data'!$F$4,0,10*ROW('Water Data'!F5))),'Data Summary'!BY11="Yes"),100-OFFSET('Water Data'!$F$4,0,10*ROW('Water Data'!F5)),NA()) -> #N/A | K11: =+IF(AND(ISNUMBER(OFFSET('Water Data'!$F$6,0,10*ROW('Water Data'!F5))),'Data Summary'!BZ11="Yes"),OFFSET('Water Data'!$F$6,0,10*ROW('Water Data'!F5)),NA()) -> #N/A | L11: =+IF(AND(ISNUMBER(OFFSET('Water Data'!$F$9,0,10*ROW('Water Data'!F5))),'Data Summary'!CA11="Yes"),OFFSET('Water Data'!$F$9,0,10*ROW('Water Data'!F5)),NA()) -> #N/A | M11: =+IF(AND(ISNUMBER(OFFSET('Water Data'!$G$4,0,10*ROW('Water Data'!G5))),'Data Summary'!CB11="Yes"),100-OFFSET('Water Data'!$G$4,0,10*ROW('Water Data'!G5)),NA()) -> #N/A | N11: =+IF(AND(ISNUMBER(OFFSET('Water Data'!$G$6,0,10*ROW('Water Data'!G5))),'Data Summary'!CC11="Yes"),OFFSET('Water Data'!$G$6,0,10*ROW('Water Data'!G5)),NA()) -> #N/A | O11: =+IF(AND(ISNUMBER(OFFSET('Water Data'!$G$9,0,10*ROW('Water Data'!G5))),'Data Summary'!CD11="Yes"),OFFSET('Water Data'!$G$9,0,10*ROW('Water Data'!G5)),NA()) -> #N/A | P11: =+IF(AND(ISNUMBER(OFFSET('Water Data'!$H$4,0,10*ROW('Water Data'!H5))),'Data Summary'!CE11="Yes"),100-OFFSET('Water Data'!$H$4,0,10*ROW('Water Data'!H5)),NA()) -> #N/A | Q11: =+IF(AND(ISNUMBER(OFFSET('Water Data'!$H$6,0,10*ROW('Water Data'!H5))),'Data Summary'!CF11="Yes"),OFFSET('Water Data'!$H$6,0,10*ROW('Water Data'!H5)),NA()) -> #N/A | R11: =+IF(AND(ISNUMBER(OFFSET('Water Data'!$H$9,0,10*ROW('Water Data'!H5))),'Data Summary'!CG11="Yes"),OFFSET('Water Data'!$H$9,0,10*ROW('Water Data'!H5)),NA()) -> #N/A | S11: =+IF(AND(ISNUMBER(OFFSET('Water Data'!$I$4,0,10*ROW('Water Data'!I5))),'Data Summary'!CH11="Yes"),100-OFFSET('Water Data'!$I$4,0,10*ROW('Water Data'!I5)),NA()) -> #N/A | T11: =+IF(AND(ISNUMBER(OFFSET('Water Data'!$I$6,0,10*ROW('Water Data'!I5))),'Data Summary'!CI11="Yes"),OFFSET('Water Data'!$I$6,0,10*ROW('Water Data'!I5)),NA()) -> #N/A | U11: =+IF(AND(ISNUMBER(OFFSET('Water Data'!$I$9,0,10*ROW('Water Data'!I5))),'Data Summary'!CJ11="Yes"),OFFSET('Water Data'!$I$9,0,10*ROW('Water Data'!I5)),NA()) -> #N/A | V11: =+IF(AND(ISNUMBER(OFFSET('Sanitation Data'!$D$4,0,10*ROW('Sanitation Data'!D5))),'Data Summary'!CK11="Yes"),100-OFFSET('Sanitation Data'!$D$4,0,10*ROW('Sanitation Data'!D5)),NA()) -> 100 | W11: =+IF(AND(ISNUMBER(OFFSET('Sanitation Data'!$D$6,0,10*ROW('Sanitation Data'!D5))),'Data Summary'!CL11="Yes"),OFFSET('Sanitation Data'!$D$6,0,10*ROW('Sanitation Data'!D5)),NA()) -> #N/A | X11: =+IF(AND(ISNUMBER(OFFSET('Sanitation Data'!$D$10,0,10*ROW('Sanitation Data'!D5))),'Data Summary'!CM11="Yes"),OFFSET('Sanitation Data'!$D$10,0,10*ROW('Sanitation Data'!D5)),NA()) -> #N/A | Y11: =+IF(AND(ISNUMBER(OFFSET('Sanitation Data'!$D$11,0,10*ROW('Sanitation Data'!D5))),'Data Summary'!CN11="Yes"),OFFSET('Sanitation Data'!$D$11,0,10*ROW('Sanitation Data'!D5)),NA()) -> #N/A | Z11: =+IF(AND(ISNUMBER(OFFSET('Sanitation Data'!$D$12,0,10*ROW('Sanitation Data'!D5))),'Data Summary'!CO11="Yes"),OFFSET('Sanitation Data'!$D$12,0,10*ROW('Sanitation Data'!D5)),NA()) -> #N/A | AA11: =+IF(AND(ISNUMBER(OFFSET('Sanitation Data'!$E$4,0,10*ROW('Sanitation Data'!E5))),'Data Summary'!CP11="Yes"),100-OFFSET('Sanitation Data'!$E$4,0,10*ROW('Sanitation Data'!E5)),NA()) -> #N/A | AB11: =+IF(AND(ISNUMBER(OFFSET('Sanitation Data'!$E$6,0,10*ROW('Sanitation Data'!E5))),'Data Summary'!CQ11="Yes"),OFFSET('Sanitation Data'!$E$6,0,10*ROW('Sanitation Data'!E5)),NA()) -> #N/A | AC11: =+IF(AND(ISNUMBER(OFFSET('Sanitation Data'!$E$10,0,10*ROW('Sanitation Data'!E5))),'Data Summary'!CR11="Yes"),OFFSET('Sanitation Data'!$E$10,0,10*ROW('Sanitation Data'!E5)),NA()) -> #N/A | AD11: =+IF(AND(ISNUMBER(OFFSET('Sanitation Data'!$E$11,0,10*ROW('Sanitation Data'!E5))),'Data Summary'!CS11="Yes"),OFFSET('Sanitation Data'!$E$11,0,10*ROW('Sanitation Data'!E5)),NA()) -> #N/A | AE11: =+IF(AND(ISNUMBER(OFFSET('Sanitation Data'!$E$12,0,10*ROW('Sanitation Data'!E5))),'Data Summary'!CT11="Yes"),OFFSET('Sanitation Data'!$E$12,0,10*ROW('Sanitation Data'!E5)),NA()) -> #N/A | AF11: =+IF(AND(ISNUMBER(OFFSET('Sanitation Data'!$F$4,0,10*ROW('Sanitation Data'!F5))),'Data Summary'!CU11="Yes"),100-OFFSET('Sanitation Data'!$F$4,0,10*ROW('Sanitation Data'!F5)),NA()) -> #N/A | AG11: =+IF(AND(ISNUMBER(OFFSET('Sanitation Data'!$F$6,0,10*ROW('Sanitation Data'!F5))),'Data Summary'!CV11="Yes"),OFFSET('Sanitation Data'!$F$6,0,10*ROW('Sanitation Data'!F5)),NA()) -> #N/A | AH11: =+IF(AND(ISNUMBER(OFFSET('Sanitation Data'!$F$10,0,10*ROW('Sanitation Data'!F5))),'Data Summary'!CW11="Yes"),OFFSET('Sanitation Data'!$F$10,0,10*ROW('Sanitation Data'!F5)),NA()) -> #N/A | AI11: =+IF(AND(ISNUMBER(OFFSET('Sanitation Data'!$F$11,0,10*ROW('Sanitation Data'!F5))),'Data Summary'!CX11="Yes"),OFFSET('Sanitation Data'!$F$11,0,10*ROW('Sanitation Data'!F5)),NA()) -> #N/A | AJ11: =+IF(AND(ISNUMBER(OFFSET('Sanitation Data'!$F$12,0,10*ROW('Sanitation Data'!F5))),'Data Summary'!CY11="Yes"),OFFSET('Sanitation Data'!$F$12,0,10*ROW('Sanitation Data'!F5)),NA()) -> #N/A | AK11: =+IF(AND(ISNUMBER(OFFSET('Sanitation Data'!$G$4,0,10*ROW('Sanitation Data'!G5))),'Data Summary'!CZ11="Yes"),100-OFFSET('Sanitation Data'!$G$4,0,10*ROW('Sanitation Data'!G5)),NA()) -> #N/A | AL11: =+IF(AND(ISNUMBER(OFFSET('Sanitation Data'!$G$6,0,10*ROW('Sanitation Data'!G5))),'Data Summary'!DA11="Yes"),OFFSET('Sanitation Data'!$G$6,0,10*ROW('Sanitation Data'!G5)),NA()) -> #N/A | AM11: =+IF(AND(ISNUMBER(OFFSET('Sanitation Data'!$G$10,0,10*ROW('Sanitation Data'!G5))),'Data Summary'!DB11="Yes"),OFFSET('Sanitation Data'!$G$10,0,10*ROW('Sanitation Data'!G5)),NA()) -> #N/A | AN11: =+IF(AND(ISNUMBER(OFFSET('Sanitation Data'!$G$11,0,10*ROW('Sanitation Data'!G5))),'Data Summary'!DC11="Yes"),OFFSET('Sanitation Data'!$G$11,0,10*ROW('Sanitation Data'!G5)),NA()) -> #N/A | AO11: =+IF(AND(ISNUMBER(OFFSET('Sanitation Data'!$G$12,0,10*ROW('Sanitation Data'!G5))),'Data Summary'!DD11="Yes"),OFFSET('Sanitation Data'!$G$12,0,10*ROW('Sanitation Data'!G5)),NA()) -> #N/A | AP11: =+IF(AND(ISNUMBER(OFFSET('Sanitation Data'!$H$4,0,10*ROW('Sanitation Data'!H5))),'Data Summary'!DE11="Yes"),100-OFFSET('Sanitation Data'!$H$4,0,10*ROW('Sanitation Data'!H5)),NA()) -> 100 | AQ11: =+IF(AND(ISNUMBER(OFFSET('Sanitation Data'!$H$6,0,10*ROW('Sanitation Data'!H5))),'Data Summary'!DF11="Yes"),OFFSET('Sanitation Data'!$H$6,0,10*ROW('Sanitation Data'!H5)),NA()) -> #N/A | AR11: =+IF(AND(ISNUMBER(OFFSET('Sanitation Data'!$H$10,0,10*ROW('Sanitation Data'!H5))),'Data Summary'!DG11="Yes"),OFFSET('Sanitation Data'!$H$10,0,10*ROW('Sanitation Data'!H5)),NA()) -> #N/A | AS11: =+IF(AND(ISNUMBER(OFFSET('Sanitation Data'!$H$11,0,10*ROW('Sanitation Data'!H5))),'Data Summary'!DH11="Yes"),OFFSET('Sanitation Data'!$H$11,0,10*ROW('Sanitation Data'!H5)),NA()) -> #N/A | AT11: =+IF(AND(ISNUMBER(OFFSET('Sanitation Data'!$H$12,0,10*ROW('Sanitation Data'!H5))),'Data Summary'!DI11="Yes"),OFFSET('Sanitation Data'!$H$12,0,10*ROW('Sanitation Data'!H5)),NA()) -> #N/A | AU11: =+IF(AND(ISNUMBER(OFFSET('Sanitation Data'!$I$4,0,10*ROW('Sanitation Data'!I5))),'Data Summary'!DJ11="Yes"),100-OFFSET('Sanitation Data'!$I$4,0,10*ROW('Sanitation Data'!I5)),NA()) -> 100 | AV11: =+IF(AND(ISNUMBER(OFFSET('Sanitation Data'!$I$6,0,10*ROW('Sanitation Data'!I5))),'Data Summary'!DK11="Yes"),OFFSET('Sanitation Data'!$I$6,0,10*ROW('Sanitation Data'!I5)),NA()) -> #N/A | AW11: =+IF(AND(ISNUMBER(OFFSET('Sanitation Data'!$I$10,0,10*ROW('Sanitation Data'!I5))),'Data Summary'!DL11="Yes"),OFFSET('Sanitation Data'!$I$10,0,10*ROW('Sanitation Data'!I5)),NA()) -> #N/A | AX11: =+IF(AND(ISNUMBER(OFFSET('Sanitation Data'!$I$11,0,10*ROW('Sanitation Data'!I5))),'Data Summary'!DM11="Yes"),OFFSET('Sanitation Data'!$I$11,0,10*ROW('Sanitation Data'!I5)),NA()) -> #N/A | AY11: =+IF(AND(ISNUMBER(OFFSET('Sanitation Data'!$I$12,0,10*ROW('Sanitation Data'!I5))),'Data Summary'!DN11="Yes"),OFFSET('Sanitation Data'!$I$12,0,10*ROW('Sanitation Data'!I5)),NA()) -> #N/A | AZ11: =+IF(AND(ISNUMBER(OFFSET('Hygiene Data'!$D$5,0,10*ROW('Hygiene Data'!D5))),'Data Summary'!DO11="Yes"),OFFSET('Hygiene Data'!$D$5,0,10*ROW('Hygiene Data'!D5)),NA()) -> 100 | BA11: =+IF(AND(ISNUMBER(OFFSET('Hygiene Data'!$D$7,0,10*ROW('Hygiene Data'!D5))),'Data Summary'!DP11="Yes"),OFFSET('Hygiene Data'!$D$7,0,10*ROW('Hygiene Data'!D5)),NA()) -> 100 | BB11: =+IF(AND(ISNUMBER(OFFSET('Hygiene Data'!$D$9,0,10*ROW('Hygiene Data'!D5))),'Data Summary'!DQ11="Yes"),OFFSET('Hygiene Data'!$D$9,0,10*ROW('Hygiene Data'!D5)),NA()) -> 100 | BC11: =+IF(AND(ISNUMBER(OFFSET('Hygiene Data'!$E$5,0,10*ROW('Hygiene Data'!E5))),'Data Summary'!DR11="Yes"),OFFSET('Hygiene Data'!$E$5,0,10*ROW('Hygiene Data'!E5)),NA()) -> #N/A | BD11: =+IF(AND(ISNUMBER(OFFSET('Hygiene Data'!$E$7,0,10*ROW('Hygiene Data'!E5))),'Data Summary'!DS11="Yes"),OFFSET('Hygiene Data'!$E$7,0,10*ROW('Hygiene Data'!E5)),NA()) -> #N/A | BE11: =+IF(AND(ISNUMBER(OFFSET('Hygiene Data'!$E$9,0,10*ROW('Hygiene Data'!E5))),'Data Summary'!DT11="Yes"),OFFSET('Hygiene Data'!$E$9,0,10*ROW('Hygiene Data'!E5)),NA()) -> #N/A | BF11: =+IF(AND(ISNUMBER(OFFSET('Hygiene Data'!$F$5,0,10*ROW('Hygiene Data'!F5))),'Data Summary'!DU11="Yes"),OFFSET('Hygiene Data'!$F$5,0,10*ROW('Hygiene Data'!F5)),NA()) -> #N/A | BG11: =+IF(AND(ISNUMBER(OFFSET('Hygiene Data'!$F$7,0,10*ROW('Hygiene Data'!F5))),'Data Summary'!DV11="Yes"),OFFSET('Hygiene Data'!$F$7,0,10*ROW('Hygiene Data'!F5)),NA()) -> #N/A | BH11: =+IF(AND(ISNUMBER(OFFSET('Hygiene Data'!$F$9,0,10*ROW('Hygiene Data'!F5))),'Data Summary'!DW11="Yes"),OFFSET('Hygiene Data'!$F$9,0,10*ROW('Hygiene Data'!F5)),NA()) -> #N/A | BI11: =+IF(AND(ISNUMBER(OFFSET('Hygiene Data'!$G$5,0,10*ROW('Hygiene Data'!G5))),'Data Summary'!DX11="Yes"),OFFSET('Hygiene Data'!$G$5,0,10*ROW('Hygiene Data'!G5)),NA()) -> #N/A | BJ11: =+IF(AND(ISNUMBER(OFFSET('Hygiene Data'!$G$7,0,10*ROW('Hygiene Data'!G5))),'Data Summary'!DY11="Yes"),OFFSET('Hygiene Data'!$G$7,0,10*ROW('Hygiene Data'!G5)),NA()) -> #N/A | BK11: =+IF(AND(ISNUMBER(OFFSET('Hygiene Data'!$G$9,0,10*ROW('Hygiene Data'!G5))),'Data Summary'!DZ11="Yes"),OFFSET('Hygiene Data'!$G$9,0,10*ROW('Hygiene Data'!G5)),NA()) -> #N/A | BL11: =+IF(AND(ISNUMBER(OFFSET('Hygiene Data'!$H$5,0,10*ROW('Hygiene Data'!H5))),'Data Summary'!EA11="Yes"),OFFSET('Hygiene Data'!$H$5,0,10*ROW('Hygiene Data'!H5)),NA()) -> 100 | BM11: =+IF(AND(ISNUMBER(OFFSET('Hygiene Data'!$H$7,0,10*ROW('Hygiene Data'!H5))),'Data Summary'!EB11="Yes"),OFFSET('Hygiene Data'!$H$7,0,10*ROW('Hygiene Data'!H5)),NA()) -> 100 | BN11: =+IF(AND(ISNUMBER(OFFSET('Hygiene Data'!$H$9,0,10*ROW('Hygiene Data'!H5))),'Data Summary'!EC11="Yes"),OFFSET('Hygiene Data'!$H$9,0,10*ROW('Hygiene Data'!H5)),NA()) -> 100 | BO11: =+IF(AND(ISNUMBER(OFFSET('Hygiene Data'!$I$5,0,10*ROW('Hygiene Data'!I5))),'Data Summary'!ED11="Yes"),OFFSET('Hygiene Data'!$I$5,0,10*ROW('Hygiene Data'!I5)),NA()) -> 100 | BP11: =+IF(AND(ISNUMBER(OFFSET('Hygiene Data'!$I$7,0,10*ROW('Hygiene Data'!I5))),'Data Summary'!EE11="Yes"),OFFSET('Hygiene Data'!$I$7,0,10*ROW('Hygiene Data'!I5)),NA()) -> 100 | BQ11: =+IF(AND(ISNUMBER(OFFSET('Hygiene Data'!$I$9,0,10*ROW('Hygiene Data'!I5))),'Data Summary'!EF11="Yes"),OFFSET('Hygiene Data'!$I$9,0,10*ROW('Hygiene Data'!I5)),NA()) -> 100
A12: =+RIGHT('Data Summary'!A12,LEN('Data Summary'!A12)-9) -> PWH | B12: =+IF(ISTEXT('Data Summary'!B12),'Data Summary'!B12,"") -> Other | C12: =+VALUE('Data Summary'!C12) -> 2018 | D12: =+IF(AND(ISNUMBER(OFFSET('Water Data'!$D$4,0,10*ROW('Water Data'!D6))),'Data Summary'!BS12="Yes"),100-OFFSET('Water Data'!$D$4,0,10*ROW('Water Data'!D6)),NA()) -> 100 | E12: =+IF(AND(ISNUMBER(OFFSET('Water Data'!$D$6,0,10*ROW('Water Data'!D6))),'Data Summary'!BT12="Yes"),OFFSET('Water Data'!$D$6,0,10*ROW('Water Data'!D6)),NA()) -> #N/A | F12: =+IF(AND(ISNUMBER(OFFSET('Water Data'!$D$9,0,10*ROW('Water Data'!D6))),'Data Summary'!BU12="Yes"),OFFSET('Water Data'!$D$9,0,10*ROW('Water Data'!D6)),NA()) -> #N/A | G12: =+IF(AND(ISNUMBER(OFFSET('Water Data'!$E$4,0,10*ROW('Water Data'!E6))),'Data Summary'!BV12="Yes"),100-OFFSET('Water Data'!$E$4,0,10*ROW('Water Data'!E6)),NA()) -> #N/A | H12: =+IF(AND(ISNUMBER(OFFSET('Water Data'!$E$6,0,10*ROW('Water Data'!E6))),'Data Summary'!BW12="Yes"),OFFSET('Water Data'!$E$6,0,10*ROW('Water Data'!E6)),NA()) -> #N/A | I12: =+IF(AND(ISNUMBER(OFFSET('Water Data'!$E$9,0,10*ROW('Water Data'!E6))),'Data Summary'!BX12="Yes"),OFFSET('Water Data'!$E$9,0,10*ROW('Water Data'!E6)),NA()) -> #N/A | J12: =+IF(AND(ISNUMBER(OFFSET('Water Data'!$F$4,0,10*ROW('Water Data'!F6))),'Data Summary'!BY12="Yes"),100-OFFSET('Water Data'!$F$4,0,10*ROW('Water Data'!F6)),NA()) -> #N/A | K12: =+IF(AND(ISNUMBER(OFFSET('Water Data'!$F$6,0,10*ROW('Water Data'!F6))),'Data Summary'!BZ12="Yes"),OFFSET('Water Data'!$F$6,0,10*ROW('Water Data'!F6)),NA()) -> #N/A | L12: =+IF(AND(ISNUMBER(OFFSET('Water Data'!$F$9,0,10*ROW('Water Data'!F6))),'Data Summary'!CA12="Yes"),OFFSET('Water Data'!$F$9,0,10*ROW('Water Data'!F6)),NA()) -> #N/A | M12: =+IF(AND(ISNUMBER(OFFSET('Water Data'!$G$4,0,10*ROW('Water Data'!G6))),'Data Summary'!CB12="Yes"),100-OFFSET('Water Data'!$G$4,0,10*ROW('Water Data'!G6)),NA()) -> #N/A | N12: =+IF(AND(ISNUMBER(OFFSET('Water Data'!$G$6,0,10*ROW('Water Data'!G6))),'Data Summary'!CC12="Yes"),OFFSET('Water Data'!$G$6,0,10*ROW('Water Data'!G6)),NA()) -> #N/A | O12: =+IF(AND(ISNUMBER(OFFSET('Water Data'!$G$9,0,10*ROW('Water Data'!G6))),'Data Summary'!CD12="Yes"),OFFSET('Water Data'!$G$9,0,10*ROW('Water Data'!G6)),NA()) -> #N/A | P12: =+IF(AND(ISNUMBER(OFFSET('Water Data'!$H$4,0,10*ROW('Water Data'!H6))),'Data Summary'!CE12="Yes"),100-OFFSET('Water Data'!$H$4,0,10*ROW('Water Data'!H6)),NA()) -> #N/A | Q12: =+IF(AND(ISNUMBER(OFFSET('Water Data'!$H$6,0,10*ROW('Water Data'!H6))),'Data Summary'!CF12="Yes"),OFFSET('Water Data'!$H$6,0,10*ROW('Water Data'!H6)),NA()) -> #N/A | R12: =+IF(AND(ISNUMBER(OFFSET('Water Data'!$H$9,0,10*ROW('Water Data'!H6))),'Data Summary'!CG12="Yes"),OFFSET('Water Data'!$H$9,0,10*ROW('Water Data'!H6)),NA()) -> #N/A | S12: =+IF(AND(ISNUMBER(OFFSET('Water Data'!$I$4,0,10*ROW('Water Data'!I6))),'Data Summary'!CH12="Yes"),100-OFFSET('Water Data'!$I$4,0,10*ROW('Water Data'!I6)),NA()) -> #N/A | T12: =+IF(AND(ISNUMBER(OFFSET('Water Data'!$I$6,0,10*ROW('Water Data'!I6))),'Data Summary'!CI12="Yes"),OFFSET('Water Data'!$I$6,0,10*ROW('Water Data'!I6)),NA()) -> #N/A | U12: =+IF(AND(ISNUMBER(OFFSET('Water Data'!$I$9,0,10*ROW('Water Data'!I6))),'Data Summary'!CJ12="Yes"),OFFSET('Water Data'!$I$9,0,10*ROW('Water Data'!I6)),NA()) -> #N/A | V12: =+IF(AND(ISNUMBER(OFFSET('Sanitation Data'!$D$4,0,10*ROW('Sanitation Data'!D6))),'Data Summary'!CK12="Yes"),100-OFFSET('Sanitation Data'!$D$4,0,10*ROW('Sanitation Data'!D6)),NA()) -> #N/A | W12: =+IF(AND(ISNUMBER(OFFSET('Sanitation Data'!$D$6,0,10*ROW('Sanitation Data'!D6))),'Data Summary'!CL12="Yes"),OFFSET('Sanitation Data'!$D$6,0,10*ROW('Sanitation Data'!D6)),NA()) -> #N/A | X12: =+IF(AND(ISNUMBER(OFFSET('Sanitation Data'!$D$10,0,10*ROW('Sanitation Data'!D6))),'Data Summary'!CM12="Yes"),OFFSET('Sanitation Data'!$D$10,0,10*ROW('Sanitation Data'!D6)),NA()) -> #N/A | Y12: =+IF(AND(ISNUMBER(OFFSET('Sanitation Data'!$D$11,0,10*ROW('Sanitation Data'!D6))),'Data Summary'!CN12="Yes"),OFFSET('Sanitation Data'!$D$11,0,10*ROW('Sanitation Data'!D6)),NA()) -> #N/A | Z12: =+IF(AND(ISNUMBER(OFFSET('Sanitation Data'!$D$12,0,10*ROW('Sanitation Data'!D6))),'Data Summary'!CO12="Yes"),OFFSET('Sanitation Data'!$D$12,0,10*ROW('Sanitation Data'!D6)),NA()) -> 85 | AA12: =+IF(AND(ISNUMBER(OFFSET('Sanitation Data'!$E$4,0,10*ROW('Sanitation Data'!E6))),'Data Summary'!CP12="Yes"),100-OFFSET('Sanitation Data'!$E$4,0,10*ROW('Sanitation Data'!E6)),NA()) -> #N/A | AB12: =+IF(AND(ISNUMBER(OFFSET('Sanitation Data'!$E$6,0,10*ROW('Sanitation Data'!E6))),'Data Summary'!CQ12="Yes"),OFFSET('Sanitation Data'!$E$6,0,10*ROW('Sanitation Data'!E6)),NA()) -> #N/A | AC12: =+IF(AND(ISNUMBER(OFFSET('Sanitation Data'!$E$10,0,10*ROW('Sanitation Data'!E6))),'Data Summary'!CR12="Yes"),OFFSET('Sanitation Data'!$E$10,0,10*ROW('Sanitation Data'!E6)),NA()) -> #N/A | AD12: =+IF(AND(ISNUMBER(OFFSET('Sanitation Data'!$E$11,0,10*ROW('Sanitation Data'!E6))),'Data Summary'!CS12="Yes"),OFFSET('Sanitation Data'!$E$11,0,10*ROW('Sanitation Data'!E6)),NA()) -> #N/A | AE12: =+IF(AND(ISNUMBER(OFFSET('Sanitation Data'!$E$12,0,10*ROW('Sanitation Data'!E6))),'Data Summary'!CT12="Yes"),OFFSET('Sanitation Data'!$E$12,0,10*ROW('Sanitation Data'!E6)),NA()) -> #N/A | AF12: =+IF(AND(ISNUMBER(OFFSET('Sanitation Data'!$F$4,0,10*ROW('Sanitation Data'!F6))),'Data Summary'!CU12="Yes"),100-OFFSET('Sanitation Data'!$F$4,0,10*ROW('Sanitation Data'!F6)),NA()) -> #N/A | AG12: =+IF(AND(ISNUMBER(OFFSET('Sanitation Data'!$F$6,0,10*ROW('Sanitation Data'!F6))),'Data Summary'!CV12="Yes"),OFFSET('Sanitation Data'!$F$6,0,10*ROW('Sanitation Data'!F6)),NA()) -> #N/A | AH12: =+IF(AND(ISNUMBER(OFFSET('Sanitation Data'!$F$10,0,10*ROW('Sanitation Data'!F6))),'Data Summary'!CW12="Yes"),OFFSET('Sanitation Data'!$F$10,0,10*ROW('Sanitation Data'!F6)),NA()) -> #N/A | AI12: =+IF(AND(ISNUMBER(OFFSET('Sanitation Data'!$F$11,0,10*ROW('Sanitation Data'!F6))),'Data Summary'!CX12="Yes"),OFFSET('Sanitation Data'!$F$11,0,10*ROW('Sanitation Data'!F6)),NA()) -> #N/A | AJ12: =+IF(AND(ISNUMBER(OFFSET('Sanitation Data'!$F$12,0,10*ROW('Sanitation Data'!F6))),'Data Summary'!CY12="Yes"),OFFSET('Sanitation Data'!$F$12,0,10*ROW('Sanitation Data'!F6)),NA()) -> #N/A | AK12: =+IF(AND(ISNUMBER(OFFSET('Sanitation Data'!$G$4,0,10*ROW('Sanitation Data'!G6))),'Data Summary'!CZ12="Yes"),100-OFFSET('Sanitation Data'!$G$4,0,10*ROW('Sanitation Data'!G6)),NA()) -> #N/A | AL12: =+IF(AND(ISNUMBER(OFFSET('Sanitation Data'!$G$6,0,10*ROW('Sanitation Data'!G6))),'Data Summary'!DA12="Yes"),OFFSET('Sanitation Data'!$G$6,0,10*ROW('Sanitation Data'!G6)),NA()) -> #N/A | AM12: =+IF(AND(ISNUMBER(OFFSET('Sanitation Data'!$G$10,0,10*ROW('Sanitation Data'!G6))),'Data Summary'!DB12="Yes"),OFFSET('Sanitation Data'!$G$10,0,10*ROW('Sanitation Data'!G6)),NA()) -> #N/A | AN12: =+IF(AND(ISNUMBER(OFFSET('Sanitation Data'!$G$11,0,10*ROW('Sanitation Data'!G6))),'Data Summary'!DC12="Yes"),OFFSET('Sanitation Data'!$G$11,0,10*ROW('Sanitation Data'!G6)),NA()) -> #N/A | AO12: =+IF(AND(ISNUMBER(OFFSET('Sanitation Data'!$G$12,0,10*ROW('Sanitation Data'!G6))),'Data Summary'!DD12="Yes"),OFFSET('Sanitation Data'!$G$12,0,10*ROW('Sanitation Data'!G6)),NA()) -> #N/A | AP12: =+IF(AND(ISNUMBER(OFFSET('Sanitation Data'!$H$4,0,10*ROW('Sanitation Data'!H6))),'Data Summary'!DE12="Yes"),100-OFFSET('Sanitation Data'!$H$4,0,10*ROW('Sanitation Data'!H6)),NA()) -> #N/A | AQ12: =+IF(AND(ISNUMBER(OFFSET('Sanitation Data'!$H$6,0,10*ROW('Sanitation Data'!H6))),'Data Summary'!DF12="Yes"),OFFSET('Sanitation Data'!$H$6,0,10*ROW('Sanitation Data'!H6)),NA()) -> #N/A | AR12: =+IF(AND(ISNUMBER(OFFSET('Sanitation Data'!$H$10,0,10*ROW('Sanitation Data'!H6))),'Data Summary'!DG12="Yes"),OFFSET('Sanitation Data'!$H$10,0,10*ROW('Sanitation Data'!H6)),NA()) -> #N/A | AS12: =+IF(AND(ISNUMBER(OFFSET('Sanitation Data'!$H$11,0,10*ROW('Sanitation Data'!H6))),'Data Summary'!DH12="Yes"),OFFSET('Sanitation Data'!$H$11,0,10*ROW('Sanitation Data'!H6)),NA()) -> #N/A | AT12: =+IF(AND(ISNUMBER(OFFSET('Sanitation Data'!$H$12,0,10*ROW('Sanitation Data'!H6))),'Data Summary'!DI12="Yes"),OFFSET('Sanitation Data'!$H$12,0,10*ROW('Sanitation Data'!H6)),NA()) -> #N/A | AU12: =+IF(AND(ISNUMBER(OFFSET('Sanitation Data'!$I$4,0,10*ROW('Sanitation Data'!I6))),'Data Summary'!DJ12="Yes"),100-OFFSET('Sanitation Data'!$I$4,0,10*ROW('Sanitation Data'!I6)),NA()) -> #N/A | AV12: =+IF(AND(ISNUMBER(OFFSET('Sanitation Data'!$I$6,0,10*ROW('Sanitation Data'!I6))),'Data Summary'!DK12="Yes"),OFFSET('Sanitation Data'!$I$6,0,10*ROW('Sanitation Data'!I6)),NA()) -> #N/A | AW12: =+IF(AND(ISNUMBER(OFFSET('Sanitation Data'!$I$10,0,10*ROW('Sanitation Data'!I6))),'Data Summary'!DL12="Yes"),OFFSET('Sanitation Data'!$I$10,0,10*ROW('Sanitation Data'!I6)),NA()) -> #N/A | AX12: =+IF(AND(ISNUMBER(OFFSET('Sanitation Data'!$I$11,0,10*ROW('Sanitation Data'!I6))),'Data Summary'!DM12="Yes"),OFFSET('Sanitation Data'!$I$11,0,10*ROW('Sanitation Data'!I6)),NA()) -> #N/A | AY12: =+IF(AND(ISNUMBER(OFFSET('Sanitation Data'!$I$12,0,10*ROW('Sanitation Data'!I6))),'Data Summary'!DN12="Yes"),OFFSET('Sanitation Data'!$I$12,0,10*ROW('Sanitation Data'!I6)),NA()) -> #N/A | AZ12: =+IF(AND(ISNUMBER(OFFSET('Hygiene Data'!$D$5,0,10*ROW('Hygiene Data'!D6))),'Data Summary'!DO12="Yes"),OFFSET('Hygiene Data'!$D$5,0,10*ROW('Hygiene Data'!D6)),NA()) -> #N/A | BA12: =+IF(AND(ISNUMBER(OFFSET('Hygiene Data'!$D$7,0,10*ROW('Hygiene Data'!D6))),'Data Summary'!DP12="Yes"),OFFSET('Hygiene Data'!$D$7,0,10*ROW('Hygiene Data'!D6)),NA()) -> #N/A | BB12: =+IF(AND(ISNUMBER(OFFSET('Hygiene Data'!$D$9,0,10*ROW('Hygiene Data'!D6))),'Data Summary'!DQ12="Yes"),OFFSET('Hygiene Data'!$D$9,0,10*ROW('Hygiene Data'!D6)),NA()) -> 70 | BC12: =+IF(AND(ISNUMBER(OFFSET('Hygiene Data'!$E$5,0,10*ROW('Hygiene Data'!E6))),'Data Summary'!DR12="Yes"),OFFSET('Hygiene Data'!$E$5,0,10*ROW('Hygiene Data'!E6)),NA()) -> #N/A | BD12: =+IF(AND(ISNUMBER(OFFSET('Hygiene Data'!$E$7,0,10*ROW('Hygiene Data'!E6))),'Data Summary'!DS12="Yes"),OFFSET('Hygiene Data'!$E$7,0,10*ROW('Hygiene Data'!E6)),NA()) -> #N/A | BE12: =+IF(AND(ISNUMBER(OFFSET('Hygiene Data'!$E$9,0,10*ROW('Hygiene Data'!E6))),'Data Summary'!DT12="Yes"),OFFSET('Hygiene Data'!$E$9,0,10*ROW('Hygiene Data'!E6)),NA()) -> #N/A | BF12: =+IF(AND(ISNUMBER(OFFSET('Hygiene Data'!$F$5,0,10*ROW('Hygiene Data'!F6))),'Data Summary'!DU12="Yes"),OFFSET('Hygiene Data'!$F$5,0,10*ROW('Hygiene Data'!F6)),NA()) -> #N/A | BG12: =+IF(AND(ISNUMBER(OFFSET('Hygiene Data'!$F$7,0,10*ROW('Hygiene Data'!F6))),'Data Summary'!DV12="Yes"),OFFSET('Hygiene Data'!$F$7,0,10*ROW('Hygiene Data'!F6)),NA()) -> #N/A | BH12: =+IF(AND(ISNUMBER(OFFSET('Hygiene Data'!$F$9,0,10*ROW('Hygiene Data'!F6))),'Data Summary'!DW12="Yes"),OFFSET('Hygiene Data'!$F$9,0,10*ROW('Hygiene Data'!F6)),NA()) -> #N/A | BI12: =+IF(AND(ISNUMBER(OFFSET('Hygiene Data'!$G$5,0,10*ROW('Hygiene Data'!G6))),'Data Summary'!DX12="Yes"),OFFSET('Hygiene Data'!$G$5,0,10*ROW('Hygiene Data'!G6)),NA()) -> #N/A | BJ12: =+IF(AND(ISNUMBER(OFFSET('Hygiene Data'!$G$7,0,10*ROW('Hygiene Data'!G6))),'Data Summary'!DY12="Yes"),OFFSET('Hygiene Data'!$G$7,0,10*ROW('Hygiene Data'!G6)),NA()) -> #N/A | BK12: =+IF(AND(ISNUMBER(OFFSET('Hygiene Data'!$G$9,0,10*ROW('Hygiene Data'!G6))),'Data Summary'!DZ12="Yes"),OFFSET('Hygiene Data'!$G$9,0,10*ROW('Hygiene Data'!G6)),NA()) -> #N/A | BL12: =+IF(AND(ISNUMBER(OFFSET('Hygiene Data'!$H$5,0,10*ROW('Hygiene Data'!H6))),'Data Summary'!EA12="Yes"),OFFSET('Hygiene Data'!$H$5,0,10*ROW('Hygiene Data'!H6)),NA()) -> #N/A | BM12: =+IF(AND(ISNUMBER(OFFSET('Hygiene Data'!$H$7,0,10*ROW('Hygiene Data'!H6))),'Data Summary'!EB12="Yes"),OFFSET('Hygiene Data'!$H$7,0,10*ROW('Hygiene Data'!H6)),NA()) -> #N/A | BN12: =+IF(AND(ISNUMBER(OFFSET('Hygiene Data'!$H$9,0,10*ROW('Hygiene Data'!H6))),'Data Summary'!EC12="Yes"),OFFSET('Hygiene Data'!$H$9,0,10*ROW('Hygiene Data'!H6)),NA()) -> #N/A | BO12: =+IF(AND(ISNUMBER(OFFSET('Hygiene Data'!$I$5,0,10*ROW('Hygiene Data'!I6))),'Data Summary'!ED12="Yes"),OFFSET('Hygiene Data'!$I$5,0,10*ROW('Hygiene Data'!I6)),NA()) -> #N/A | BP12: =+IF(AND(ISNUMBER(OFFSET('Hygiene Data'!$I$7,0,10*ROW('Hygiene Data'!I6))),'Data Summary'!EE12="Yes"),OFFSET('Hygiene Data'!$I$7,0,10*ROW('Hygiene Data'!I6)),NA()) -> #N/A | BQ12: =+IF(AND(ISNUMBER(OFFSET('Hygiene Data'!$I$9,0,10*ROW('Hygiene Data'!I6))),'Data Summary'!EF12="Yes"),OFFSET('Hygiene Data'!$I$9,0,10*ROW('Hygiene Data'!I6)),NA()) -> #N/A
A13: =+RIGHT('Data Summary'!A13,LEN('Data Summary'!A13)-9) -> UIS | B13: =+IF(ISTEXT('Data Summary'!B13),'Data Summary'!B13,"") -> Other | C13: =+VALUE('Data Summary'!C13) -> 2019 | D13: =+IF(AND(ISNUMBER(OFFSET('Water Data'!$D$4,0,10*ROW('Water Data'!D7))),'Data Summary'!BS13="Yes"),100-OFFSET('Water Data'!$D$4,0,10*ROW('Water Data'!D7)),NA()) -> #N/A | E13: =+IF(AND(ISNUMBER(OFFSET('Water Data'!$D$6,0,10*ROW('Water Data'!D7))),'Data Summary'!BT13="Yes"),OFFSET('Water Data'!$D$6,0,10*ROW('Water Data'!D7)),NA()) -> #N/A | F13: =+IF(AND(ISNUMBER(OFFSET('Water Data'!$D$9,0,10*ROW('Water Data'!D7))),'Data Summary'!BU13="Yes"),OFFSET('Water Data'!$D$9,0,10*ROW('Water Data'!D7)),NA()) -> #N/A | G13: =+IF(AND(ISNUMBER(OFFSET('Water Data'!$E$4,0,10*ROW('Water Data'!E7))),'Data Summary'!BV13="Yes"),100-OFFSET('Water Data'!$E$4,0,10*ROW('Water Data'!E7)),NA()) -> #N/A | H13: =+IF(AND(ISNUMBER(OFFSET('Water Data'!$E$6,0,10*ROW('Water Data'!E7))),'Data Summary'!BW13="Yes"),OFFSET('Water Data'!$E$6,0,10*ROW('Water Data'!E7)),NA()) -> #N/A | I13: =+IF(AND(ISNUMBER(OFFSET('Water Data'!$E$9,0,10*ROW('Water Data'!E7))),'Data Summary'!BX13="Yes"),OFFSET('Water Data'!$E$9,0,10*ROW('Water Data'!E7)),NA()) -> #N/A | J13: =+IF(AND(ISNUMBER(OFFSET('Water Data'!$F$4,0,10*ROW('Water Data'!F7))),'Data Summary'!BY13="Yes"),100-OFFSET('Water Data'!$F$4,0,10*ROW('Water Data'!F7)),NA()) -> #N/A | K13: =+IF(AND(ISNUMBER(OFFSET('Water Data'!$F$6,0,10*ROW('Water Data'!F7))),'Data Summary'!BZ13="Yes"),OFFSET('Water Data'!$F$6,0,10*ROW('Water Data'!F7)),NA()) -> #N/A | L13: =+IF(AND(ISNUMBER(OFFSET('Water Data'!$F$9,0,10*ROW('Water Data'!F7))),'Data Summary'!CA13="Yes"),OFFSET('Water Data'!$F$9,0,10*ROW('Water Data'!F7)),NA()) -> #N/A | M13: =+IF(AND(ISNUMBER(OFFSET('Water Data'!$G$4,0,10*ROW('Water Data'!G7))),'Data Summary'!CB13="Yes"),100-OFFSET('Water Data'!$G$4,0,10*ROW('Water Data'!G7)),NA()) -> #N/A | N13: =+IF(AND(ISNUMBER(OFFSET('Water Data'!$G$6,0,10*ROW('Water Data'!G7))),'Data Summary'!CC13="Yes"),OFFSET('Water Data'!$G$6,0,10*ROW('Water Data'!G7)),NA()) -> #N/A | O13: =+IF(AND(ISNUMBER(OFFSET('Water Data'!$G$9,0,10*ROW('Water Data'!G7))),'Data Summary'!CD13="Yes"),OFFSET('Water Data'!$G$9,0,10*ROW('Water Data'!G7)),NA()) -> #N/A | P13: =+IF(AND(ISNUMBER(OFFSET('Water Data'!$H$4,0,10*ROW('Water Data'!H7))),'Data Summary'!CE13="Yes"),100-OFFSET('Water Data'!$H$4,0,10*ROW('Water Data'!H7)),NA()) -> #N/A | Q13: =+IF(AND(ISNUMBER(OFFSET('Water Data'!$H$6,0,10*ROW('Water Data'!H7))),'Data Summary'!CF13="Yes"),OFFSET('Water Data'!$H$6,0,10*ROW('Water Data'!H7)),NA()) -> #N/A | R13: =+IF(AND(ISNUMBER(OFFSET('Water Data'!$H$9,0,10*ROW('Water Data'!H7))),'Data Summary'!CG13="Yes"),OFFSET('Water Data'!$H$9,0,10*ROW('Water Data'!H7)),NA()) -> #N/A | S13: =+IF(AND(ISNUMBER(OFFSET('Water Data'!$I$4,0,10*ROW('Water Data'!I7))),'Data Summary'!CH13="Yes"),100-OFFSET('Water Data'!$I$4,0,10*ROW('Water Data'!I7)),NA()) -> #N/A | T13: =+IF(AND(ISNUMBER(OFFSET('Water Data'!$I$6,0,10*ROW('Water Data'!I7))),'Data Summary'!CI13="Yes"),OFFSET('Water Data'!$I$6,0,10*ROW('Water Data'!I7)),NA()) -> #N/A | U13: =+IF(AND(ISNUMBER(OFFSET('Water Data'!$I$9,0,10*ROW('Water Data'!I7))),'Data Summary'!CJ13="Yes"),OFFSET('Water Data'!$I$9,0,10*ROW('Water Data'!I7)),NA()) -> #N/A | V13: =+IF(AND(ISNUMBER(OFFSET('Sanitation Data'!$D$4,0,10*ROW('Sanitation Data'!D7))),'Data Summary'!CK13="Yes"),100-OFFSET('Sanitation Data'!$D$4,0,10*ROW('Sanitation Data'!D7)),NA()) -> 100 | W13: =+IF(AND(ISNUMBER(OFFSET('Sanitation Data'!$D$6,0,10*ROW('Sanitation Data'!D7))),'Data Summary'!CL13="Yes"),OFFSET('Sanitation Data'!$D$6,0,10*ROW('Sanitation Data'!D7)),NA()) -> #N/A | X13: =+IF(AND(ISNUMBER(OFFSET('Sanitation Data'!$D$10,0,10*ROW('Sanitation Data'!D7))),'Data Summary'!CM13="Yes"),OFFSET('Sanitation Data'!$D$10,0,10*ROW('Sanitation Data'!D7)),NA()) -> #N/A | Y13: =+IF(AND(ISNUMBER(OFFSET('Sanitation Data'!$D$11,0,10*ROW('Sanitation Data'!D7))),'Data Summary'!CN13="Yes"),OFFSET('Sanitation Data'!$D$11,0,10*ROW('Sanitation Data'!D7)),NA()) -> #N/A | Z13: =+IF(AND(ISNUMBER(OFFSET('Sanitation Data'!$D$12,0,10*ROW('Sanitation Data'!D7))),'Data Summary'!CO13="Yes"),OFFSET('Sanitation Data'!$D$12,0,10*ROW('Sanitation Data'!D7)),NA()) -> #N/A | AA13: =+IF(AND(ISNUMBER(OFFSET('Sanitation Data'!$E$4,0,10*ROW('Sanitation Data'!E7))),'Data Summary'!CP13="Yes"),100-OFFSET('Sanitation Data'!$E$4,0,10*ROW('Sanitation Data'!E7)),NA()) -> #N/A | AB13: =+IF(AND(ISNUMBER(OFFSET('Sanitation Data'!$E$6,0,10*ROW('Sanitation Data'!E7))),'Data Summary'!CQ13="Yes"),OFFSET('Sanitation Data'!$E$6,0,10*ROW('Sanitation Data'!E7)),NA()) -> #N/A | AC13: =+IF(AND(ISNUMBER(OFFSET('Sanitation Data'!$E$10,0,10*ROW('Sanitation Data'!E7))),'Data Summary'!CR13="Yes"),OFFSET('Sanitation Data'!$E$10,0,10*ROW('Sanitation Data'!E7)),NA()) -> #N/A | AD13: =+IF(AND(ISNUMBER(OFFSET('Sanitation Data'!$E$11,0,10*ROW('Sanitation Data'!E7))),'Data Summary'!CS13="Yes"),OFFSET('Sanitation Data'!$E$11,0,10*ROW('Sanitation Data'!E7)),NA()) -> #N/A | AE13: =+IF(AND(ISNUMBER(OFFSET('Sanitation Data'!$E$12,0,10*ROW('Sanitation Data'!E7))),'Data Summary'!CT13="Yes"),OFFSET('Sanitation Data'!$E$12,0,10*ROW('Sanitation Data'!E7)),NA()) -> #N/A | AF13: =+IF(AND(ISNUMBER(OFFSET('Sanitation Data'!$F$4,0,10*ROW('Sanitation Data'!F7))),'Data Summary'!CU13="Yes"),100-OFFSET('Sanitation Data'!$F$4,0,10*ROW('Sanitation Data'!F7)),NA()) -> #N/A | AG13: =+IF(AND(ISNUMBER(OFFSET('Sanitation Data'!$F$6,0,10*ROW('Sanitation Data'!F7))),'Data Summary'!CV13="Yes"),OFFSET('Sanitation Data'!$F$6,0,10*ROW('Sanitation Data'!F7)),NA()) -> #N/A | AH13: =+IF(AND(ISNUMBER(OFFSET('Sanitation Data'!$F$10,0,10*ROW('Sanitation Data'!F7))),'Data Summary'!CW13="Yes"),OFFSET('Sanitation Data'!$F$10,0,10*ROW('Sanitation Data'!F7)),NA()) -> #N/A | AI13: =+IF(AND(ISNUMBER(OFFSET('Sanitation Data'!$F$11,0,10*ROW('Sanitation Data'!F7))),'Data Summary'!CX13="Yes"),OFFSET('Sanitation Data'!$F$11,0,10*ROW('Sanitation Data'!F7)),NA()) -> #N/A | AJ13: =+IF(AND(ISNUMBER(OFFSET('Sanitation Data'!$F$12,0,10*ROW('Sanitation Data'!F7))),'Data Summary'!CY13="Yes"),OFFSET('Sanitation Data'!$F$12,0,10*ROW('Sanitation Data'!F7)),NA()) -> #N/A | AK13: =+IF(AND(ISNUMBER(OFFSET('Sanitation Data'!$G$4,0,10*ROW('Sanitation Data'!G7))),'Data Summary'!CZ13="Yes"),100-OFFSET('Sanitation Data'!$G$4,0,10*ROW('Sanitation Data'!G7)),NA()) -> #N/A | AL13: =+IF(AND(ISNUMBER(OFFSET('Sanitation Data'!$G$6,0,10*ROW('Sanitation Data'!G7))),'Data Summary'!DA13="Yes"),OFFSET('Sanitation Data'!$G$6,0,10*ROW('Sanitation Data'!G7)),NA()) -> #N/A | AM13: =+IF(AND(ISNUMBER(OFFSET('Sanitation Data'!$G$10,0,10*ROW('Sanitation Data'!G7))),'Data Summary'!DB13="Yes"),OFFSET('Sanitation Data'!$G$10,0,10*ROW('Sanitation Data'!G7)),NA()) -> #N/A | AN13: =+IF(AND(ISNUMBER(OFFSET('Sanitation Data'!$G$11,0,10*ROW('Sanitation Data'!G7))),'Data Summary'!DC13="Yes"),OFFSET('Sanitation Data'!$G$11,0,10*ROW('Sanitation Data'!G7)),NA()) -> #N/A | AO13: =+IF(AND(ISNUMBER(OFFSET('Sanitation Data'!$G$12,0,10*ROW('Sanitation Data'!G7))),'Data Summary'!DD13="Yes"),OFFSET('Sanitation Data'!$G$12,0,10*ROW('Sanitation Data'!G7)),NA()) -> #N/A | AP13: =+IF(AND(ISNUMBER(OFFSET('Sanitation Data'!$H$4,0,10*ROW('Sanitation Data'!H7))),'Data Summary'!DE13="Yes"),100-OFFSET('Sanitation Data'!$H$4,0,10*ROW('Sanitation Data'!H7)),NA()) -> 100 | AQ13: =+IF(AND(ISNUMBER(OFFSET('Sanitation Data'!$H$6,0,10*ROW('Sanitation Data'!H7))),'Data Summary'!DF13="Yes"),OFFSET('Sanitation Data'!$H$6,0,10*ROW('Sanitation Data'!H7)),NA()) -> #N/A | AR13: =+IF(AND(ISNUMBER(OFFSET('Sanitation Data'!$H$10,0,10*ROW('Sanitation Data'!H7))),'Data Summary'!DG13="Yes"),OFFSET('Sanitation Data'!$H$10,0,10*ROW('Sanitation Data'!H7)),NA()) -> #N/A | AS13: =+IF(AND(ISNUMBER(OFFSET('Sanitation Data'!$H$11,0,10*ROW('Sanitation Data'!H7))),'Data Summary'!DH13="Yes"),OFFSET('Sanitation Data'!$H$11,0,10*ROW('Sanitation Data'!H7)),NA()) -> #N/A | AT13: =+IF(AND(ISNUMBER(OFFSET('Sanitation Data'!$H$12,0,10*ROW('Sanitation Data'!H7))),'Data Summary'!DI13="Yes"),OFFSET('Sanitation Data'!$H$12,0,10*ROW('Sanitation Data'!H7)),NA()) -> #N/A | AU13: =+IF(AND(ISNUMBER(OFFSET('Sanitation Data'!$I$4,0,10*ROW('Sanitation Data'!I7))),'Data Summary'!DJ13="Yes"),100-OFFSET('Sanitation Data'!$I$4,0,10*ROW('Sanitation Data'!I7)),NA()) -> 100 | AV13: =+IF(AND(ISNUMBER(OFFSET('Sanitation Data'!$I$6,0,10*ROW('Sanitation Data'!I7))),'Data Summary'!DK13="Yes"),OFFSET('Sanitation Data'!$I$6,0,10*ROW('Sanitation Data'!I7)),NA()) -> #N/A | AW13: =+IF(AND(ISNUMBER(OFFSET('Sanitation Data'!$I$10,0,10*ROW('Sanitation Data'!I7))),'Data Summary'!DL13="Yes"),OFFSET('Sanitation Data'!$I$10,0,10*ROW('Sanitation Data'!I7)),NA()) -> #N/A | AX13: =+IF(AND(ISNUMBER(OFFSET('Sanitation Data'!$I$11,0,10*ROW('Sanitation Data'!I7))),'Data Summary'!DM13="Yes"),OFFSET('Sanitation Data'!$I$11,0,10*ROW('Sanitation Data'!I7)),NA()) -> #N/A | AY13: =+IF(AND(ISNUMBER(OFFSET('Sanitation Data'!$I$12,0,10*ROW('Sanitation Data'!I7))),'Data Summary'!DN13="Yes"),OFFSET('Sanitation Data'!$I$12,0,10*ROW('Sanitation Data'!I7)),NA()) -> #N/A | AZ13: =+IF(AND(ISNUMBER(OFFSET('Hygiene Data'!$D$5,0,10*ROW('Hygiene Data'!D7))),'Data Summary'!DO13="Yes"),OFFSET('Hygiene Data'!$D$5,0,10*ROW('Hygiene Data'!D7)),NA()) -> 100 | BA13: =+IF(AND(ISNUMBER(OFFSET('Hygiene Data'!$D$7,0,10*ROW('Hygiene Data'!D7))),'Data Summary'!DP13="Yes"),OFFSET('Hygiene Data'!$D$7,0,10*ROW('Hygiene Data'!D7)),NA()) -> 100 | BB13: =+IF(AND(ISNUMBER(OFFSET('Hygiene Data'!$D$9,0,10*ROW('Hygiene Data'!D7))),'Data Summary'!DQ13="Yes"),OFFSET('Hygiene Data'!$D$9,0,10*ROW('Hygiene Data'!D7)),NA()) -> 100 | BC13: =+IF(AND(ISNUMBER(OFFSET('Hygiene Data'!$E$5,0,10*ROW('Hygiene Data'!E7))),'Data Summary'!DR13="Yes"),OFFSET('Hygiene Data'!$E$5,0,10*ROW('Hygiene Data'!E7)),NA()) -> #N/A | BD13: =+IF(AND(ISNUMBER(OFFSET('Hygiene Data'!$E$7,0,10*ROW('Hygiene Data'!E7))),'Data Summary'!DS13="Yes"),OFFSET('Hygiene Data'!$E$7,0,10*ROW('Hygiene Data'!E7)),NA()) -> #N/A | BE13: =+IF(AND(ISNUMBER(OFFSET('Hygiene Data'!$E$9,0,10*ROW('Hygiene Data'!E7))),'Data Summary'!DT13="Yes"),OFFSET('Hygiene Data'!$E$9,0,10*ROW('Hygiene Data'!E7)),NA()) -> #N/A | BF13: =+IF(AND(ISNUMBER(OFFSET('Hygiene Data'!$F$5,0,10*ROW('Hygiene Data'!F7))),'Data Summary'!DU13="Yes"),OFFSET('Hygiene Data'!$F$5,0,10*ROW('Hygiene Data'!F7)),NA()) -> #N/A | BG13: =+IF(AND(ISNUMBER(OFFSET('Hygiene Data'!$F$7,0,10*ROW('Hygiene Data'!F7))),'Data Summary'!DV13="Yes"),OFFSET('Hygiene Data'!$F$7,0,10*ROW('Hygiene Data'!F7)),NA()) -> #N/A | BH13: =+IF(AND(ISNUMBER(OFFSET('Hygiene Data'!$F$9,0,10*ROW('Hygiene Data'!F7))),'Data Summary'!DW13="Yes"),OFFSET('Hygiene Data'!$F$9,0,10*ROW('Hygiene Data'!F7)),NA()) -> #N/A | BI13: =+IF(AND(ISNUMBER(OFFSET('Hygiene Data'!$G$5,0,10*ROW('Hygiene Data'!G7))),'Data Summary'!DX13="Yes"),OFFSET('Hygiene Data'!$G$5,0,10*ROW('Hygiene Data'!G7)),NA()) -> #N/A | BJ13: =+IF(AND(ISNUMBER(OFFSET('Hygiene Data'!$G$7,0,10*ROW('Hygiene Data'!G7))),'Data Summary'!DY13="Yes"),OFFSET('Hygiene Data'!$G$7,0,10*ROW('Hygiene Data'!G7)),NA()) -> #N/A | BK13: =+IF(AND(ISNUMBER(OFFSET('Hygiene Data'!$G$9,0,10*ROW('Hygiene Data'!G7))),'Data Summary'!DZ13="Yes"),OFFSET('Hygiene Data'!$G$9,0,10*ROW('Hygiene Data'!G7)),NA()) -> #N/A | BL13: =+IF(AND(ISNUMBER(OFFSET('Hygiene Data'!$H$5,0,10*ROW('Hygiene Data'!H7))),'Data Summary'!EA13="Yes"),OFFSET('Hygiene Data'!$H$5,0,10*ROW('Hygiene Data'!H7)),NA()) -> 100 | BM13: =+IF(AND(ISNUMBER(OFFSET('Hygiene Data'!$H$7,0,10*ROW('Hygiene Data'!H7))),'Data Summary'!EB13="Yes"),OFFSET('Hygiene Data'!$H$7,0,10*ROW('Hygiene Data'!H7)),NA()) -> 100 | BN13: =+IF(AND(ISNUMBER(OFFSET('Hygiene Data'!$H$9,0,10*ROW('Hygiene Data'!H7))),'Data Summary'!EC13="Yes"),OFFSET('Hygiene Data'!$H$9,0,10*ROW('Hygiene Data'!H7)),NA()) -> 100 | BO13: =+IF(AND(ISNUMBER(OFFSET('Hygiene Data'!$I$5,0,10*ROW('Hygiene Data'!I7))),'Data Summary'!ED13="Yes"),OFFSET('Hygiene Data'!$I$5,0,10*ROW('Hygiene Data'!I7)),NA()) -> 100 | BP13: =+IF(AND(ISNUMBER(OFFSET('Hygiene Data'!$I$7,0,10*ROW('Hygiene Data'!I7))),'Data Summary'!EE13="Yes"),OFFSET('Hygiene Data'!$I$7,0,10*ROW('Hygiene Data'!I7)),NA()) -> 100 | BQ13: =+IF(AND(ISNUMBER(OFFSET('Hygiene Data'!$I$9,0,10*ROW('Hygiene Data'!I7))),'Data Summary'!EF13="Yes"),OFFSET('Hygiene Data'!$I$9,0,10*ROW('Hygiene Data'!I7)),NA()) -> 100
A14: =+RIGHT('Data Summary'!A14,LEN('Data Summary'!A14)-9) -> PWH | B14: =+IF(ISTEXT('Data Summary'!B14),'Data Summary'!B14,"") -> Other | C14: =+VALUE('Data Summary'!C14) -> 2021 | D14: =+IF(AND(ISNUMBER(OFFSET('Water Data'!$D$4,0,10*ROW('Water Data'!D8))),'Data Summary'!BS14="Yes"),100-OFFSET('Water Data'!$D$4,0,10*ROW('Water Data'!D8)),NA()) -> 100 | E14: =+IF(AND(ISNUMBER(OFFSET('Water Data'!$D$6,0,10*ROW('Water Data'!D8))),'Data Summary'!BT14="Yes"),OFFSET('Water Data'!$D$6,0,10*ROW('Water Data'!D8)),NA()) -> #N/A | F14: =+IF(AND(ISNUMBER(OFFSET('Water Data'!$D$9,0,10*ROW('Water Data'!D8))),'Data Summary'!BU14="Yes"),OFFSET('Water Data'!$D$9,0,10*ROW('Water Data'!D8)),NA()) -> #N/A | G14: =+IF(AND(ISNUMBER(OFFSET('Water Data'!$E$4,0,10*ROW('Water Data'!E8))),'Data Summary'!BV14="Yes"),100-OFFSET('Water Data'!$E$4,0,10*ROW('Water Data'!E8)),NA()) -> #N/A | H14: =+IF(AND(ISNUMBER(OFFSET('Water Data'!$E$6,0,10*ROW('Water Data'!E8))),'Data Summary'!BW14="Yes"),OFFSET('Water Data'!$E$6,0,10*ROW('Water Data'!E8)),NA()) -> #N/A | I14: =+IF(AND(ISNUMBER(OFFSET('Water Data'!$E$9,0,10*ROW('Water Data'!E8))),'Data Summary'!BX14="Yes"),OFFSET('Water Data'!$E$9,0,10*ROW('Water Data'!E8)),NA()) -> #N/A | J14: =+IF(AND(ISNUMBER(OFFSET('Water Data'!$F$4,0,10*ROW('Water Data'!F8))),'Data Summary'!BY14="Yes"),100-OFFSET('Water Data'!$F$4,0,10*ROW('Water Data'!F8)),NA()) -> #N/A | K14: =+IF(AND(ISNUMBER(OFFSET('Water Data'!$F$6,0,10*ROW('Water Data'!F8))),'Data Summary'!BZ14="Yes"),OFFSET('Water Data'!$F$6,0,10*ROW('Water Data'!F8)),NA()) -> #N/A | L14: =+IF(AND(ISNUMBER(OFFSET('Water Data'!$F$9,0,10*ROW('Water Data'!F8))),'Data Summary'!CA14="Yes"),OFFSET('Water Data'!$F$9,0,10*ROW('Water Data'!F8)),NA()) -> #N/A | M14: =+IF(AND(ISNUMBER(OFFSET('Water Data'!$G$4,0,10*ROW('Water Data'!G8))),'Data Summary'!CB14="Yes"),100-OFFSET('Water Data'!$G$4,0,10*ROW('Water Data'!G8)),NA()) -> #N/A | N14: =+IF(AND(ISNUMBER(OFFSET('Water Data'!$G$6,0,10*ROW('Water Data'!G8))),'Data Summary'!CC14="Yes"),OFFSET('Water Data'!$G$6,0,10*ROW('Water Data'!G8)),NA()) -> #N/A | O14: =+IF(AND(ISNUMBER(OFFSET('Water Data'!$G$9,0,10*ROW('Water Data'!G8))),'Data Summary'!CD14="Yes"),OFFSET('Water Data'!$G$9,0,10*ROW('Water Data'!G8)),NA()) -> #N/A | P14: =+IF(AND(ISNUMBER(OFFSET('Water Data'!$H$4,0,10*ROW('Water Data'!H8))),'Data Summary'!CE14="Yes"),100-OFFSET('Water Data'!$H$4,0,10*ROW('Water Data'!H8)),NA()) -> #N/A | Q14: =+IF(AND(ISNUMBER(OFFSET('Water Data'!$H$6,0,10*ROW('Water Data'!H8))),'Data Summary'!CF14="Yes"),OFFSET('Water Data'!$H$6,0,10*ROW('Water Data'!H8)),NA()) -> #N/A | R14: =+IF(AND(ISNUMBER(OFFSET('Water Data'!$H$9,0,10*ROW('Water Data'!H8))),'Data Summary'!CG14="Yes"),OFFSET('Water Data'!$H$9,0,10*ROW('Water Data'!H8)),NA()) -> #N/A | S14: =+IF(AND(ISNUMBER(OFFSET('Water Data'!$I$4,0,10*ROW('Water Data'!I8))),'Data Summary'!CH14="Yes"),100-OFFSET('Water Data'!$I$4,0,10*ROW('Water Data'!I8)),NA()) -> #N/A | T14: =+IF(AND(ISNUMBER(OFFSET('Water Data'!$I$6,0,10*ROW('Water Data'!I8))),'Data Summary'!CI14="Yes"),OFFSET('Water Data'!$I$6,0,10*ROW('Water Data'!I8)),NA()) -> #N/A | U14: =+IF(AND(ISNUMBER(OFFSET('Water Data'!$I$9,0,10*ROW('Water Data'!I8))),'Data Summary'!CJ14="Yes"),OFFSET('Water Data'!$I$9,0,10*ROW('Water Data'!I8)),NA()) -> #N/A | V14: =+IF(AND(ISNUMBER(OFFSET('Sanitation Data'!$D$4,0,10*ROW('Sanitation Data'!D8))),'Data Summary'!CK14="Yes"),100-OFFSET('Sanitation Data'!$D$4,0,10*ROW('Sanitation Data'!D8)),NA()) -> #N/A | W14: =+IF(AND(ISNUMBER(OFFSET('Sanitation Data'!$D$6,0,10*ROW('Sanitation Data'!D8))),'Data Summary'!CL14="Yes"),OFFSET('Sanitation Data'!$D$6,0,10*ROW('Sanitation Data'!D8)),NA()) -> #N/A | X14: =+IF(AND(ISNUMBER(OFFSET('Sanitation Data'!$D$10,0,10*ROW('Sanitation Data'!D8))),'Data Summary'!CM14="Yes"),OFFSET('Sanitation Data'!$D$10,0,10*ROW('Sanitation Data'!D8)),NA()) -> #N/A | Y14: =+IF(AND(ISNUMBER(OFFSET('Sanitation Data'!$D$11,0,10*ROW('Sanitation Data'!D8))),'Data Summary'!CN14="Yes"),OFFSET('Sanitation Data'!$D$11,0,10*ROW('Sanitation Data'!D8)),NA()) -> #N/A | Z14: =+IF(AND(ISNUMBER(OFFSET('Sanitation Data'!$D$12,0,10*ROW('Sanitation Data'!D8))),'Data Summary'!CO14="Yes"),OFFSET('Sanitation Data'!$D$12,0,10*ROW('Sanitation Data'!D8)),NA()) -> 88 | AA14: =+IF(AND(ISNUMBER(OFFSET('Sanitation Data'!$E$4,0,10*ROW('Sanitation Data'!E8))),'Data Summary'!CP14="Yes"),100-OFFSET('Sanitation Data'!$E$4,0,10*ROW('Sanitation Data'!E8)),NA()) -> #N/A | AB14: =+IF(AND(ISNUMBER(OFFSET('Sanitation Data'!$E$6,0,10*ROW('Sanitation Data'!E8))),'Data Summary'!CQ14="Yes"),OFFSET('Sanitation Data'!$E$6,0,10*ROW('Sanitation Data'!E8)),NA()) -> #N/A | AC14: =+IF(AND(ISNUMBER(OFFSET('Sanitation Data'!$E$10,0,10*ROW('Sanitation Data'!E8))),'Data Summary'!CR14="Yes"),OFFSET('Sanitation Data'!$E$10,0,10*ROW('Sanitation Data'!E8)),NA()) -> #N/A | AD14: =+IF(AND(ISNUMBER(OFFSET('Sanitation Data'!$E$11,0,10*ROW('Sanitation Data'!E8))),'Data Summary'!CS14="Yes"),OFFSET('Sanitation Data'!$E$11,0,10*ROW('Sanitation Data'!E8)),NA()) -> #N/A | AE14: =+IF(AND(ISNUMBER(OFFSET('Sanitation Data'!$E$12,0,10*ROW('Sanitation Data'!E8))),'Data Summary'!CT14="Yes"),OFFSET('Sanitation Data'!$E$12,0,10*ROW('Sanitation Data'!E8)),NA()) -> #N/A | AF14: =+IF(AND(ISNUMBER(OFFSET('Sanitation Data'!$F$4,0,10*ROW('Sanitation Data'!F8))),'Data Summary'!CU14="Yes"),100-OFFSET('Sanitation Data'!$F$4,0,10*ROW('Sanitation Data'!F8)),NA()) -> #N/A | AG14: =+IF(AND(ISNUMBER(OFFSET('Sanitation Data'!$F$6,0,10*ROW('Sanitation Data'!F8))),'Data Summary'!CV14="Yes"),OFFSET('Sanitation Data'!$F$6,0,10*ROW('Sanitation Data'!F8)),NA()) -> #N/A | AH14: =+IF(AND(ISNUMBER(OFFSET('Sanitation Data'!$F$10,0,10*ROW('Sanitation Data'!F8))),'Data Summary'!CW14="Yes"),OFFSET('Sanitation Data'!$F$10,0,10*ROW('Sanitation Data'!F8)),NA()) -> #N/A | AI14: =+IF(AND(ISNUMBER(OFFSET('Sanitation Data'!$F$11,0,10*ROW('Sanitation Data'!F8))),'Data Summary'!CX14="Yes"),OFFSET('Sanitation Data'!$F$11,0,10*ROW('Sanitation Data'!F8)),NA()) -> #N/A | AJ14: =+IF(AND(ISNUMBER(OFFSET('Sanitation Data'!$F$12,0,10*ROW('Sanitation Data'!F8))),'Data Summary'!CY14="Yes"),OFFSET('Sanitation Data'!$F$12,0,10*ROW('Sanitation Data'!F8)),NA()) -> #N/A | AK14: =+IF(AND(ISNUMBER(OFFSET('Sanitation Data'!$G$4,0,10*ROW('Sanitation Data'!G8))),'Data Summary'!CZ14="Yes"),100-OFFSET('Sanitation Data'!$G$4,0,10*ROW('Sanitation Data'!G8)),NA()) -> #N/A | AL14: =+IF(AND(ISNUMBER(OFFSET('Sanitation Data'!$G$6,0,10*ROW('Sanitation Data'!G8))),'Data Summary'!DA14="Yes"),OFFSET('Sanitation Data'!$G$6,0,10*ROW('Sanitation Data'!G8)),NA()) -> #N/A | AM14: =+IF(AND(ISNUMBER(OFFSET('Sanitation Data'!$G$10,0,10*ROW('Sanitation Data'!G8))),'Data Summary'!DB14="Yes"),OFFSET('Sanitation Data'!$G$10,0,10*ROW('Sanitation Data'!G8)),NA()) -> #N/A | AN14: =+IF(AND(ISNUMBER(OFFSET('Sanitation Data'!$G$11,0,10*ROW('Sanitation Data'!G8))),'Data Summary'!DC14="Yes"),OFFSET('Sanitation Data'!$G$11,0,10*ROW('Sanitation Data'!G8)),NA()) -> #N/A | AO14: =+IF(AND(ISNUMBER(OFFSET('Sanitation Data'!$G$12,0,10*ROW('Sanitation Data'!G8))),'Data Summary'!DD14="Yes"),OFFSET('Sanitation Data'!$G$12,0,10*ROW('Sanitation Data'!G8)),NA()) -> #N/A | AP14: =+IF(AND(ISNUMBER(OFFSET('Sanitation Data'!$H$4,0,10*ROW('Sanitation Data'!H8))),'Data Summary'!DE14="Yes"),100-OFFSET('Sanitation Data'!$H$4,0,10*ROW('Sanitation Data'!H8)),NA()) -> #N/A | AQ14: =+IF(AND(ISNUMBER(OFFSET('Sanitation Data'!$H$6,0,10*ROW('Sanitation Data'!H8))),'Data Summary'!DF14="Yes"),OFFSET('Sanitation Data'!$H$6,0,10*ROW('Sanitation Data'!H8)),NA()) -> #N/A | AR14: =+IF(AND(ISNUMBER(OFFSET('Sanitation Data'!$H$10,0,10*ROW('Sanitation Data'!H8))),'Data Summary'!DG14="Yes"),OFFSET('Sanitation Data'!$H$10,0,10*ROW('Sanitation Data'!H8)),NA()) -> #N/A | AS14: =+IF(AND(ISNUMBER(OFFSET('Sanitation Data'!$H$11,0,10*ROW('Sanitation Data'!H8))),'Data Summary'!DH14="Yes"),OFFSET('Sanitation Data'!$H$11,0,10*ROW('Sanitation Data'!H8)),NA()) -> #N/A | AT14: =+IF(AND(ISNUMBER(OFFSET('Sanitation Data'!$H$12,0,10*ROW('Sanitation Data'!H8))),'Data Summary'!DI14="Yes"),OFFSET('Sanitation Data'!$H$12,0,10*ROW('Sanitation Data'!H8)),NA()) -> #N/A | AU14: =+IF(AND(ISNUMBER(OFFSET('Sanitation Data'!$I$4,0,10*ROW('Sanitation Data'!I8))),'Data Summary'!DJ14="Yes"),100-OFFSET('Sanitation Data'!$I$4,0,10*ROW('Sanitation Data'!I8)),NA()) -> #N/A | AV14: =+IF(AND(ISNUMBER(OFFSET('Sanitation Data'!$I$6,0,10*ROW('Sanitation Data'!I8))),'Data Summary'!DK14="Yes"),OFFSET('Sanitation Data'!$I$6,0,10*ROW('Sanitation Data'!I8)),NA()) -> #N/A | AW14: =+IF(AND(ISNUMBER(OFFSET('Sanitation Data'!$I$10,0,10*ROW('Sanitation Data'!I8))),'Data Summary'!DL14="Yes"),OFFSET('Sanitation Data'!$I$10,0,10*ROW('Sanitation Data'!I8)),NA()) -> #N/A | AX14: =+IF(AND(ISNUMBER(OFFSET('Sanitation Data'!$I$11,0,10*ROW('Sanitation Data'!I8))),'Data Summary'!DM14="Yes"),OFFSET('Sanitation Data'!$I$11,0,10*ROW('Sanitation Data'!I8)),NA()) -> #N/A | AY14: =+IF(AND(ISNUMBER(OFFSET('Sanitation Data'!$I$12,0,10*ROW('Sanitation Data'!I8))),'Data Summary'!DN14="Yes"),OFFSET('Sanitation Data'!$I$12,0,10*ROW('Sanitation Data'!I8)),NA()) -> #N/A | AZ14: =+IF(AND(ISNUMBER(OFFSET('Hygiene Data'!$D$5,0,10*ROW('Hygiene Data'!D8))),'Data Summary'!DO14="Yes"),OFFSET('Hygiene Data'!$D$5,0,10*ROW('Hygiene Data'!D8)),NA()) -> #N/A | BA14: =+IF(AND(ISNUMBER(OFFSET('Hygiene Data'!$D$7,0,10*ROW('Hygiene Data'!D8))),'Data Summary'!DP14="Yes"),OFFSET('Hygiene Data'!$D$7,0,10*ROW('Hygiene Data'!D8)),NA()) -> #N/A | BB14: =+IF(AND(ISNUMBER(OFFSET('Hygiene Data'!$D$9,0,10*ROW('Hygiene Data'!D8))),'Data Summary'!DQ14="Yes"),OFFSET('Hygiene Data'!$D$9,0,10*ROW('Hygiene Data'!D8)),NA()) -> 90 | BC14: =+IF(AND(ISNUMBER(OFFSET('Hygiene Data'!$E$5,0,10*ROW('Hygiene Data'!E8))),'Data Summary'!DR14="Yes"),OFFSET('Hygiene Data'!$E$5,0,10*ROW('Hygiene Data'!E8)),NA()) -> #N/A | BD14: =+IF(AND(ISNUMBER(OFFSET('Hygiene Data'!$E$7,0,10*ROW('Hygiene Data'!E8))),'Data Summary'!DS14="Yes"),OFFSET('Hygiene Data'!$E$7,0,10*ROW('Hygiene Data'!E8)),NA()) -> #N/A | BE14: =+IF(AND(ISNUMBER(OFFSET('Hygiene Data'!$E$9,0,10*ROW('Hygiene Data'!E8))),'Data Summary'!DT14="Yes"),OFFSET('Hygiene Data'!$E$9,0,10*ROW('Hygiene Data'!E8)),NA()) -> #N/A | BF14: =+IF(AND(ISNUMBER(OFFSET('Hygiene Data'!$F$5,0,10*ROW('Hygiene Data'!F8))),'Data Summary'!DU14="Yes"),OFFSET('Hygiene Data'!$F$5,0,10*ROW('Hygiene Data'!F8)),NA()) -> #N/A | BG14: =+IF(AND(ISNUMBER(OFFSET('Hygiene Data'!$F$7,0,10*ROW('Hygiene Data'!F8))),'Data Summary'!DV14="Yes"),OFFSET('Hygiene Data'!$F$7,0,10*ROW('Hygiene Data'!F8)),NA()) -> #N/A | BH14: =+IF(AND(ISNUMBER(OFFSET('Hygiene Data'!$F$9,0,10*ROW('Hygiene Data'!F8))),'Data Summary'!DW14="Yes"),OFFSET('Hygiene Data'!$F$9,0,10*ROW('Hygiene Data'!F8)),NA()) -> #N/A | BI14: =+IF(AND(ISNUMBER(OFFSET('Hygiene Data'!$G$5,0,10*ROW('Hygiene Data'!G8))),'Data Summary'!DX14="Yes"),OFFSET('Hygiene Data'!$G$5,0,10*ROW('Hygiene Data'!G8)),NA()) -> #N/A | BJ14: =+IF(AND(ISNUMBER(OFFSET('Hygiene Data'!$G$7,0,10*ROW('Hygiene Data'!G8))),'Data Summary'!DY14="Yes"),OFFSET('Hygiene Data'!$G$7,0,10*ROW('Hygiene Data'!G8)),NA()) -> #N/A | BK14: =+IF(AND(ISNUMBER(OFFSET('Hygiene Data'!$G$9,0,10*ROW('Hygiene Data'!G8))),'Data Summary'!DZ14="Yes"),OFFSET('Hygiene Data'!$G$9,0,10*ROW('Hygiene Data'!G8)),NA()) -> #N/A | BL14: =+IF(AND(ISNUMBER(OFFSET('Hygiene Data'!$H$5,0,10*ROW('Hygiene Data'!H8))),'Data Summary'!EA14="Yes"),OFFSET('Hygiene Data'!$H$5,0,10*ROW('Hygiene Data'!H8)),NA()) -> #N/A | BM14: =+IF(AND(ISNUMBER(OFFSET('Hygiene Data'!$H$7,0,10*ROW('Hygiene Data'!H8))),'Data Summary'!EB14="Yes"),OFFSET('Hygiene Data'!$H$7,0,10*ROW('Hygiene Data'!H8)),NA()) -> #N/A | BN14: =+IF(AND(ISNUMBER(OFFSET('Hygiene Data'!$H$9,0,10*ROW('Hygiene Data'!H8))),'Data Summary'!EC14="Yes"),OFFSET('Hygiene Data'!$H$9,0,10*ROW('Hygiene Data'!H8)),NA()) -> #N/A | BO14: =+IF(AND(ISNUMBER(OFFSET('Hygiene Data'!$I$5,0,10*ROW('Hygiene Data'!I8))),'Data Summary'!ED14="Yes"),OFFSET('Hygiene Data'!$I$5,0,10*ROW('Hygiene Data'!I8)),NA()) -> #N/A | BP14: =+IF(AND(ISNUMBER(OFFSET('Hygiene Data'!$I$7,0,10*ROW('Hygiene Data'!I8))),'Data Summary'!EE14="Yes"),OFFSET('Hygiene Data'!$I$7,0,10*ROW('Hygiene Data'!I8)),NA()) -> #N/A | BQ14: =+IF(AND(ISNUMBER(OFFSET('Hygiene Data'!$I$9,0,10*ROW('Hygiene Data'!I8))),'Data Summary'!EF14="Yes"),OFFSET('Hygiene Data'!$I$9,0,10*ROW('Hygiene Data'!I8)),NA()) -> #N/A
A15: =+RIGHT('Data Summary'!A15,LEN('Data Summary'!A15)-9) -> SUR | B15: =+IF(ISTEXT('Data Summary'!B15),'Data Summary'!B15,"") -> Survey | C15: =+VALUE('Data Summary'!C15) -> 2023 | D15: =+IF(AND(ISNUMBER(OFFSET('Water Data'!$D$4,0,10*ROW('Water Data'!D9))),'Data Summary'!BS15="Yes"),100-OFFSET('Water Data'!$D$4,0,10*ROW('Water Data'!D9)),NA()) -> #N/A | E15: =+IF(AND(ISNUMBER(OFFSET('Water Data'!$D$6,0,10*ROW('Water Data'!D9))),'Data Summary'!BT15="Yes"),OFFSET('Water Data'!$D$6,0,10*ROW('Water Data'!D9)),NA()) -> #N/A | F15: =+IF(AND(ISNUMBER(OFFSET('Water Data'!$D$9,0,10*ROW('Water Data'!D9))),'Data Summary'!BU15="Yes"),OFFSET('Water Data'!$D$9,0,10*ROW('Water Data'!D9)),NA()) -> #N/A | G15: =+IF(AND(ISNUMBER(OFFSET('Water Data'!$E$4,0,10*ROW('Water Data'!E9))),'Data Summary'!BV15="Yes"),100-OFFSET('Water Data'!$E$4,0,10*ROW('Water Data'!E9)),NA()) -> #N/A | H15: =+IF(AND(ISNUMBER(OFFSET('Water Data'!$E$6,0,10*ROW('Water Data'!E9))),'Data Summary'!BW15="Yes"),OFFSET('Water Data'!$E$6,0,10*ROW('Water Data'!E9)),NA()) -> #N/A | I15: =+IF(AND(ISNUMBER(OFFSET('Water Data'!$E$9,0,10*ROW('Water Data'!E9))),'Data Summary'!BX15="Yes"),OFFSET('Water Data'!$E$9,0,10*ROW('Water Data'!E9)),NA()) -> #N/A | J15: =+IF(AND(ISNUMBER(OFFSET('Water Data'!$F$4,0,10*ROW('Water Data'!F9))),'Data Summary'!BY15="Yes"),100-OFFSET('Water Data'!$F$4,0,10*ROW('Water Data'!F9)),NA()) -> #N/A | K15: =+IF(AND(ISNUMBER(OFFSET('Water Data'!$F$6,0,10*ROW('Water Data'!F9))),'Data Summary'!BZ15="Yes"),OFFSET('Water Data'!$F$6,0,10*ROW('Water Data'!F9)),NA()) -> #N/A | L15: =+IF(AND(ISNUMBER(OFFSET('Water Data'!$F$9,0,10*ROW('Water Data'!F9))),'Data Summary'!CA15="Yes"),OFFSET('Water Data'!$F$9,0,10*ROW('Water Data'!F9)),NA()) -> #N/A | M15: =+IF(AND(ISNUMBER(OFFSET('Water Data'!$G$4,0,10*ROW('Water Data'!G9))),'Data Summary'!CB15="Yes"),100-OFFSET('Water Data'!$G$4,0,10*ROW('Water Data'!G9)),NA()) -> #N/A | N15: =+IF(AND(ISNUMBER(OFFSET('Water Data'!$G$6,0,10*ROW('Water Data'!G9))),'Data Summary'!CC15="Yes"),OFFSET('Water Data'!$G$6,0,10*ROW('Water Data'!G9)),NA()) -> #N/A | O15: =+IF(AND(ISNUMBER(OFFSET('Water Data'!$G$9,0,10*ROW('Water Data'!G9))),'Data Summary'!CD15="Yes"),OFFSET('Water Data'!$G$9,0,10*ROW('Water Data'!G9)),NA()) -> #N/A | P15: =+IF(AND(ISNUMBER(OFFSET('Water Data'!$H$4,0,10*ROW('Water Data'!H9))),'Data Summary'!CE15="Yes"),100-OFFSET('Water Data'!$H$4,0,10*ROW('Water Data'!H9)),NA()) -> #N/A | Q15: =+IF(AND(ISNUMBER(OFFSET('Water Data'!$H$6,0,10*ROW('Water Data'!H9))),'Data Summary'!CF15="Yes"),OFFSET('Water Data'!$H$6,0,10*ROW('Water Data'!H9)),NA()) -> #N/A | R15: =+IF(AND(ISNUMBER(OFFSET('Water Data'!$H$9,0,10*ROW('Water Data'!H9))),'Data Summary'!CG15="Yes"),OFFSET('Water Data'!$H$9,0,10*ROW('Water Data'!H9)),NA()) -> #N/A | S15: =+IF(AND(ISNUMBER(OFFSET('Water Data'!$I$4,0,10*ROW('Water Data'!I9))),'Data Summary'!CH15="Yes"),100-OFFSET('Water Data'!$I$4,0,10*ROW('Water Data'!I9)),NA()) -> #N/A | T15: =+IF(AND(ISNUMBER(OFFSET('Water Data'!$I$6,0,10*ROW('Water Data'!I9))),'Data Summary'!CI15="Yes"),OFFSET('Water Data'!$I$6,0,10*ROW('Water Data'!I9)),NA()) -> #N/A | U15: =+IF(AND(ISNUMBER(OFFSET('Water Data'!$I$9,0,10*ROW('Water Data'!I9))),'Data Summary'!CJ15="Yes"),OFFSET('Water Data'!$I$9,0,10*ROW('Water Data'!I9)),NA()) -> #N/A | V15: =+IF(AND(ISNUMBER(OFFSET('Sanitation Data'!$D$4,0,10*ROW('Sanitation Data'!D9))),'Data Summary'!CK15="Yes"),100-OFFSET('Sanitation Data'!$D$4,0,10*ROW('Sanitation Data'!D9)),NA()) -> #N/A | W15: =+IF(AND(ISNUMBER(OFFSET('Sanitation Data'!$D$6,0,10*ROW('Sanitation Data'!D9))),'Data Summary'!CL15="Yes"),OFFSET('Sanitation Data'!$D$6,0,10*ROW('Sanitation Data'!D9)),NA()) -> #N/A | X15: =+IF(AND(ISNUMBER(OFFSET('Sanitation Data'!$D$10,0,10*ROW('Sanitation Data'!D9))),'Data Summary'!CM15="Yes"),OFFSET('Sanitation Data'!$D$10,0,10*ROW('Sanitation Data'!D9)),NA()) -> #N/A | Y15: =+IF(AND(ISNUMBER(OFFSET('Sanitation Data'!$D$11,0,10*ROW('Sanitation Data'!D9))),'Data Summary'!CN15="Yes"),OFFSET('Sanitation Data'!$D$11,0,10*ROW('Sanitation Data'!D9)),NA()) -> #N/A | Z15: =+IF(AND(ISNUMBER(OFFSET('Sanitation Data'!$D$12,0,10*ROW('Sanitation Data'!D9))),'Data Summary'!CO15="Yes"),OFFSET('Sanitation Data'!$D$12,0,10*ROW('Sanitation Data'!D9)),NA()) -> #N/A | AA15: =+IF(AND(ISNUMBER(OFFSET('Sanitation Data'!$E$4,0,10*ROW('Sanitation Data'!E9))),'Data Summary'!CP15="Yes"),100-OFFSET('Sanitation Data'!$E$4,0,10*ROW('Sanitation Data'!E9)),NA()) -> #N/A | AB15: =+IF(AND(ISNUMBER(OFFSET('Sanitation Data'!$E$6,0,10*ROW('Sanitation Data'!E9))),'Data Summary'!CQ15="Yes"),OFFSET('Sanitation Data'!$E$6,0,10*ROW('Sanitation Data'!E9)),NA()) -> #N/A | AC15: =+IF(AND(ISNUMBER(OFFSET('Sanitation Data'!$E$10,0,10*ROW('Sanitation Data'!E9))),'Data Summary'!CR15="Yes"),OFFSET('Sanitation Data'!$E$10,0,10*ROW('Sanitation Data'!E9)),NA()) -> #N/A | AD15: =+IF(AND(ISNUMBER(OFFSET('Sanitation Data'!$E$11,0,10*ROW('Sanitation Data'!E9))),'Data Summary'!CS15="Yes"),OFFSET('Sanitation Data'!$E$11,0,10*ROW('Sanitation Data'!E9)),NA()) -> #N/A | AE15: =+IF(AND(ISNUMBER(OFFSET('Sanitation Data'!$E$12,0,10*ROW('Sanitation Data'!E9))),'Data Summary'!CT15="Yes"),OFFSET('Sanitation Data'!$E$12,0,10*ROW('Sanitation Data'!E9)),NA()) -> #N/A | AF15: =+IF(AND(ISNUMBER(OFFSET('Sanitation Data'!$F$4,0,10*ROW('Sanitation Data'!F9))),'Data Summary'!CU15="Yes"),100-OFFSET('Sanitation Data'!$F$4,0,10*ROW('Sanitation Data'!F9)),NA()) -> #N/A | AG15: =+IF(AND(ISNUMBER(OFFSET('Sanitation Data'!$F$6,0,10*ROW('Sanitation Data'!F9))),'Data Summary'!CV15="Yes"),OFFSET('Sanitation Data'!$F$6,0,10*ROW('Sanitation Data'!F9)),NA()) -> #N/A | AH15: =+IF(AND(ISNUMBER(OFFSET('Sanitation Data'!$F$10,0,10*ROW('Sanitation Data'!F9))),'Data Summary'!CW15="Yes"),OFFSET('Sanitation Data'!$F$10,0,10*ROW('Sanitation Data'!F9)),NA()) -> #N/A | AI15: =+IF(AND(ISNUMBER(OFFSET('Sanitation Data'!$F$11,0,10*ROW('Sanitation Data'!F9))),'Data Summary'!CX15="Yes"),OFFSET('Sanitation Data'!$F$11,0,10*ROW('Sanitation Data'!F9)),NA()) -> #N/A | AJ15: =+IF(AND(ISNUMBER(OFFSET('Sanitation Data'!$F$12,0,10*ROW('Sanitation Data'!F9))),'Data Summary'!CY15="Yes"),OFFSET('Sanitation Data'!$F$12,0,10*ROW('Sanitation Data'!F9)),NA()) -> #N/A | AK15: =+IF(AND(ISNUMBER(OFFSET('Sanitation Data'!$G$4,0,10*ROW('Sanitation Data'!G9))),'Data Summary'!CZ15="Yes"),100-OFFSET('Sanitation Data'!$G$4,0,10*ROW('Sanitation Data'!G9)),NA()) -> #N/A | AL15: =+IF(AND(ISNUMBER(OFFSET('Sanitation Data'!$G$6,0,10*ROW('Sanitation Data'!G9))),'Data Summary'!DA15="Yes"),OFFSET('Sanitation Data'!$G$6,0,10*ROW('Sanitation Data'!G9)),NA()) -> #N/A | AM15: =+IF(AND(ISNUMBER(OFFSET('Sanitation Data'!$G$10,0,10*ROW('Sanitation Data'!G9))),'Data Summary'!DB15="Yes"),OFFSET('Sanitation Data'!$G$10,0,10*ROW('Sanitation Data'!G9)),NA()) -> #N/A | AN15: =+IF(AND(ISNUMBER(OFFSET('Sanitation Data'!$G$11,0,10*ROW('Sanitation Data'!G9))),'Data Summary'!DC15="Yes"),OFFSET('Sanitation Data'!$G$11,0,10*ROW('Sanitation Data'!G9)),NA()) -> #N/A | AO15: =+IF(AND(ISNUMBER(OFFSET('Sanitation Data'!$G$12,0,10*ROW('Sanitation Data'!G9))),'Data Summary'!DD15="Yes"),OFFSET('Sanitation Data'!$G$12,0,10*ROW('Sanitation Data'!G9)),NA()) -> #N/A | AP15: =+IF(AND(ISNUMBER(OFFSET('Sanitation Data'!$H$4,0,10*ROW('Sanitation Data'!H9))),'Data Summary'!DE15="Yes"),100-OFFSET('Sanitation Data'!$H$4,0,10*ROW('Sanitation Data'!H9)),NA()) -> #N/A | AQ15: =+IF(AND(ISNUMBER(OFFSET('Sanitation Data'!$H$6,0,10*ROW('Sanitation Data'!H9))),'Data Summary'!DF15="Yes"),OFFSET('Sanitation Data'!$H$6,0,10*ROW('Sanitation Data'!H9)),NA()) -> #N/A | AR15: =+IF(AND(ISNUMBER(OFFSET('Sanitation Data'!$H$10,0,10*ROW('Sanitation Data'!H9))),'Data Summary'!DG15="Yes"),OFFSET('Sanitation Data'!$H$10,0,10*ROW('Sanitation Data'!H9)),NA()) -> #N/A | AS15: =+IF(AND(ISNUMBER(OFFSET('Sanitation Data'!$H$11,0,10*ROW('Sanitation Data'!H9))),'Data Summary'!DH15="Yes"),OFFSET('Sanitation Data'!$H$11,0,10*ROW('Sanitation Data'!H9)),NA()) -> #N/A | AT15: =+IF(AND(ISNUMBER(OFFSET('Sanitation Data'!$H$12,0,10*ROW('Sanitation Data'!H9))),'Data Summary'!DI15="Yes"),OFFSET('Sanitation Data'!$H$12,0,10*ROW('Sanitation Data'!H9)),NA()) -> #N/A | AU15: =+IF(AND(ISNUMBER(OFFSET('Sanitation Data'!$I$4,0,10*ROW('Sanitation Data'!I9))),'Data Summary'!DJ15="Yes"),100-OFFSET('Sanitation Data'!$I$4,0,10*ROW('Sanitation Data'!I9)),NA()) -> #N/A | AV15: =+IF(AND(ISNUMBER(OFFSET('Sanitation Data'!$I$6,0,10*ROW('Sanitation Data'!I9))),'Data Summary'!DK15="Yes"),OFFSET('Sanitation Data'!$I$6,0,10*ROW('Sanitation Data'!I9)),NA()) -> #N/A | AW15: =+IF(AND(ISNUMBER(OFFSET('Sanitation Data'!$I$10,0,10*ROW('Sanitation Data'!I9))),'Data Summary'!DL15="Yes"),OFFSET('Sanitation Data'!$I$10,0,10*ROW('Sanitation Data'!I9)),NA()) -> #N/A | AX15: =+IF(AND(ISNUMBER(OFFSET('Sanitation Data'!$I$11,0,10*ROW('Sanitation Data'!I9))),'Data Summary'!DM15="Yes"),OFFSET('Sanitation Data'!$I$11,0,10*ROW('Sanitation Data'!I9)),NA()) -> #N/A | AY15: =+IF(AND(ISNUMBER(OFFSET('Sanitation Data'!$I$12,0,10*ROW('Sanitation Data'!I9))),'Data Summary'!DN15="Yes"),OFFSET('Sanitation Data'!$I$12,0,10*ROW('Sanitation Data'!I9)),NA()) -> #N/A | AZ15: =+IF(AND(ISNUMBER(OFFSET('Hygiene Data'!$D$5,0,10*ROW('Hygiene Data'!D9))),'Data Summary'!DO15="Yes"),OFFSET('Hygiene Data'!$D$5,0,10*ROW('Hygiene Data'!D9)),NA()) -> #N/A | BA15: =+IF(AND(ISNUMBER(OFFSET('Hygiene Data'!$D$7,0,10*ROW('Hygiene Data'!D9))),'Data Summary'!DP15="Yes"),OFFSET('Hygiene Data'!$D$7,0,10*ROW('Hygiene Data'!D9)),NA()) -> #N/A | BB15: =+IF(AND(ISNUMBER(OFFSET('Hygiene Data'!$D$9,0,10*ROW('Hygiene Data'!D9))),'Data Summary'!DQ15="Yes"),OFFSET('Hygiene Data'!$D$9,0,10*ROW('Hygiene Data'!D9)),NA()) -> #N/A | BC15: =+IF(AND(ISNUMBER(OFFSET('Hygiene Data'!$E$5,0,10*ROW('Hygiene Data'!E9))),'Data Summary'!DR15="Yes"),OFFSET('Hygiene Data'!$E$5,0,10*ROW('Hygiene Data'!E9)),NA()) -> #N/A | BD15: =+IF(AND(ISNUMBER(OFFSET('Hygiene Data'!$E$7,0,10*ROW('Hygiene Data'!E9))),'Data Summary'!DS15="Yes"),OFFSET('Hygiene Data'!$E$7,0,10*ROW('Hygiene Data'!E9)),NA()) -> #N/A | BE15: =+IF(AND(ISNUMBER(OFFSET('Hygiene Data'!$E$9,0,10*ROW('Hygiene Data'!E9))),'Data Summary'!DT15="Yes"),OFFSET('Hygiene Data'!$E$9,0,10*ROW('Hygiene Data'!E9)),NA()) -> #N/A | BF15: =+IF(AND(ISNUMBER(OFFSET('Hygiene Data'!$F$5,0,10*ROW('Hygiene Data'!F9))),'Data Summary'!DU15="Yes"),OFFSET('Hygiene Data'!$F$5,0,10*ROW('Hygiene Data'!F9)),NA()) -> #N/A | BG15: =+IF(AND(ISNUMBER(OFFSET('Hygiene Data'!$F$7,0,10*ROW('Hygiene Data'!F9))),'Data Summary'!DV15="Yes"),OFFSET('Hygiene Data'!$F$7,0,10*ROW('Hygiene Data'!F9)),NA()) -> #N/A | BH15: =+IF(AND(ISNUMBER(OFFSET('Hygiene Data'!$F$9,0,10*ROW('Hygiene Data'!F9))),'Data Summary'!DW15="Yes"),OFFSET('Hygiene Data'!$F$9,0,10*ROW('Hygiene Data'!F9)),NA()) -> #N/A | BI15: =+IF(AND(ISNUMBER(OFFSET('Hygiene Data'!$G$5,0,10*ROW('Hygiene Data'!G9))),'Data Summary'!DX15="Yes"),OFFSET('Hygiene Data'!$G$5,0,10*ROW('Hygiene Data'!G9)),NA()) -> #N/A | BJ15: =+IF(AND(ISNUMBER(OFFSET('Hygiene Data'!$G$7,0,10*ROW('Hygiene Data'!G9))),'Data Summary'!DY15="Yes"),OFFSET('Hygiene Data'!$G$7,0,10*ROW('Hygiene Data'!G9)),NA()) -> #N/A | BK15: =+IF(AND(ISNUMBER(OFFSET('Hygiene Data'!$G$9,0,10*ROW('Hygiene Data'!G9))),'Data Summary'!DZ15="Yes"),OFFSET('Hygiene Data'!$G$9,0,10*ROW('Hygiene Data'!G9)),NA()) -> #N/A | BL15: =+IF(AND(ISNUMBER(OFFSET('Hygiene Data'!$H$5,0,10*ROW('Hygiene Data'!H9))),'Data Summary'!EA15="Yes"),OFFSET('Hygiene Data'!$H$5,0,10*ROW('Hygiene Data'!H9)),NA()) -> #N/A | BM15: =+IF(AND(ISNUMBER(OFFSET('Hygiene Data'!$H$7,0,10*ROW('Hygiene Data'!H9))),'Data Summary'!EB15="Yes"),OFFSET('Hygiene Data'!$H$7,0,10*ROW('Hygiene Data'!H9)),NA()) -> #N/A | BN15: =+IF(AND(ISNUMBER(OFFSET('Hygiene Data'!$H$9,0,10*ROW('Hygiene Data'!H9))),'Data Summary'!EC15="Yes"),OFFSET('Hygiene Data'!$H$9,0,10*ROW('Hygiene Data'!H9)),NA()) -> #N/A | BO15: =+IF(AND(ISNUMBER(OFFSET('Hygiene Data'!$I$5,0,10*ROW('Hygiene Data'!I9))),'Data Summary'!ED15="Yes"),OFFSET('Hygiene Data'!$I$5,0,10*ROW('Hygiene Data'!I9)),NA()) -> #N/A | BP15: =+IF(AND(ISNUMBER(OFFSET('Hygiene Data'!$I$7,0,10*ROW('Hygiene Data'!I9))),'Data Summary'!EE15="Yes"),OFFSET('Hygiene Data'!$I$7,0,10*ROW('Hygiene Data'!I9)),NA()) -> #N/A | BQ15: =+IF(AND(ISNUMBER(OFFSET('Hygiene Data'!$I$9,0,10*ROW('Hygiene Data'!I9))),'Data Summary'!EF15="Yes"),OFFSET('Hygiene Data'!$I$9,0,10*ROW('Hygiene Data'!I9)),NA()) -> #N/A
