Workbook
Name ISO3language: [1]Key!$T:$U
Name ISO3language: [1]Key!$T:$U
Name ISO3language: Key!$T:$U
Name myrangeH0: 'Hygiene Data'!$B$1:$K$2
Name myrangeH1: 'Hygiene Data'!$L$1:$U$2
Name myrangeH2: 'Hygiene Data'!$V$1:$AE$2
Name myrangeH3: 'Hygiene Data'!$AF$1:$AO$2
Name myrangeH4: 'Hygiene Data'!$AP$1:$AY$2
Name myrangeH5: 'Hygiene Data'!$AZ$1:$BI$2
Name myrangeH6: 'Hygiene Data'!$BJ$1:$BS$2
Name myrangeH7: 'Hygiene Data'!$BT$1:$CC$2
Name myrangeS0: 'Sanitation Data'!$B$1:$K$2
Name myrangeS1: 'Sanitation Data'!$L$1:$U$2
Name myrangeS2: 'Sanitation Data'!$V$1:$AE$2
Name myrangeS3: 'Sanitation Data'!$AF$1:$AO$2
Name myrangeS4: 'Sanitation Data'!$AP$1:$AY$2
Name myrangeS5: 'Sanitation Data'!$AZ$1:$BI$2
Name myrangeS6: 'Sanitation Data'!$BJ$1:$BS$2
Name myrangeS7: 'Sanitation Data'!$BT$1:$CC$2
Name myrangeW0: 'Water Data'!$B$1:$K$2
Name myrangeW1: 'Water Data'!$L$1:$U$2
Name myrangeW2: 'Water Data'!$V$1:$AE$2
Name myrangeW3: 'Water Data'!$AF$1:$AO$2
Name myrangeW4: 'Water Data'!$AP$1:$AY$2
Name myrangeW5: 'Water Data'!$AZ$1:$BI$2
Name myrangeW6: 'Water Data'!$BJ$1:$BS$2
Name myrangeW7: 'Water Data'!$BT$1:$CC$2
Name nametranslations: [1]Key!$A:$G
Name nametranslations: [1]Key!$A:$G
Name nametranslations: Key!$A:$G
Name RURAL_SANITATION: #REF!
Name RURAL_SANITATION: #REF!
Name RURAL_SANITATION: #REF!
Name RURAL_WATER: #REF!
Name RURAL_WATER: #REF!
Name translationcountries: [1]Key!$M:$U
Name translationcountries: [1]Key!$M:$U
Name translationcountries: Key!$M:$U

Sheet Key
A1: English | B1: Spanish | C1: French | D1: Russian | E1: Arabic | F1: Other | I1: Language | L1: ISO3 | M1: name | N1: name_FR | O1: name_ES | P1: name_RU | Q1: name_AR | R1: name_CH | S1: name_other | T1: ISO3 | U1: Language
A2: Introduction tab glossary | I2: English | L2: ABW | M2: Aruba | N2: Aruba | O2: Aruba | P2: Аруба | Q2: أروبا | T2: ABW | U2: English
A3: Joint Monitoring Programme for Water Supply, Sanitation and Hygiene | B3: Programa Conjunto OMS/UNICEF de Monitoreo del Abastecimiento del Agua, el Saneamiento y la Higiene | C3: Programme commun OMS/UNICEF de suivi de l’approvisionnement en eau, de l’assainissement et de l’hygiène | D3: Совместная программа по мониторингу водоснабжения, санитарии и гигиены (СПМ) | E3: برنامج الرصد المشترك بين منظمة الصحة العالمية واليونيسف إلمدادات المياه والمرافق الصحي | I3: Spanish | L3: AFG | M3: Afghanistan | N3: Afghanistan | O3: Afganistán | P3: Афганистан | Q3: أفغانستان | T3: AFG | U3: English | W3: Introduction!G4 | X3: VLOOKUP(Introduction!$G$8,ISO3language,2,FALSE)
A4: Estimates on water, sanitation, hygiene in schools | B4: Estimaciones sobre servicios de agua, saneamiento, higiene en las escuelas | C4: Estimations sur l'eau, l'assainissement, l'hygiène en milieu scolaire | D4: Расчётные оценки услуг водоснабжения, санитарии, обеспечения средствами гигиены в школах | E4: التقديرات لتقدم في خدمات مياه الشرب والصرف الصحي والنظافة الصحية في المدارس | I4: French | L4: AGO | M4: Angola | N4: Angola | O4: Angola | P4: Ангола | Q4: أنغولا | T4: AGO | U4: French
A5: =+Introduction!C7 -> Liberia | B5: =VLOOKUP($A$5,translationcountries,3,FALSE) -> Liberia | C5: =VLOOKUP($A$5,translationcountries,2,FALSE) -> Libéria | D5: =VLOOKUP($A$5,translationcountries,4,FALSE) -> Либерия | E5: =VLOOKUP($A$5,translationcountries,5,FALSE) -> ليبريا | F5: =VLOOKUP($A$5,translationcountries,6,FALSE) -> 0 | I5: Russian | L5: AIA | M5: Anguilla | N5: Anguilla | O5: Anguila | P5: Ангилья | Q5: أنغويلا | T5: AIA | U5: English
A6: Updated September 2026 | B6: Actualizado en septiembre de 2026 | C6: Mis à jour en septembre 2026 | D6: Обновлено в сентябре 2026 года | E6: تم التحديث في سبتمبر 2026 | I6: Arabic | L6: ALA | M6: Åland Islands | N6: Îles d’Åland | O6: Islas Åland | P6: Аландских островов | Q6: جزر ألاند | T6: ALA | U6: English
A7: Follow the links below to find the following information: | B7: Siga los enlaces a continuación para encontrar la siguiente información: | C7: Suivez les liens ci-dessous pour trouver les informations suivantes : | D7: Для нахождения следующей информации используйте указанные ниже ссылки: | E7: اتبع الروابط أدناه للعثور على المعلومات التالية: | I7: Other | L7: ALB | M7: Albania | N7: Albanie | O7: Albania | P7: Албания | Q7: ألبانيا | T7: ALB | U7: English | X7: {=CELL("filename")} -> C:\Users\johnstonr\WHOUNICEF Dropbox\WHOUNICEF Team Folder\Schools\2026 Report\Country files\Country files multilingual\Country files v09\[JMP_2026_WinS_LBR_Liberia.xlsx]Introduction
A8: JMP Estimates: | B8: Estimaciones de JMP: | C8: Estimations JMP : | D8: Расчётные оценки СПМ: | E8: تقديرات JMP: | L8: AND | M8: Andorra | N8: Andorre | O8: Andorra | P8: Андорра | Q8: أندورا | T8: AND | U8: French | X8: =IFERROR(MID(X7,FIND(CHAR(1),SUBSTITUTE(X7,"\",CHAR(1),LEN(X7)-LEN(SUBSTITUTE(X7,"\",""))))+1,FIND(CHAR(1),SUBSTITUTE(X7,".",CHAR(1),LEN(X7)-LEN(SUBSTITUTE(X7,".",""))))-FIND(CHAR(1),SUBSTITUTE(X7,"\",CHAR(1),LEN(X7)-LEN(SUBSTITUTE(X7,"\",""))))-1),"") -> [JMP_2026_WinS_LBR_Liberia
A9: WASH ladders for schools | B9: Escaleras WASH para las escuelas | C9: Échelles WASH en milieu scolaire | D9: Иерархические лестницы услуг WASH для школ | E9: سلالم المياه والصرف الصحي للمدارس | L9: ARE | M9: United Arab Emirates | N9: Émirats arabes unis | O9: Emiratos Árabes Unidos | P9: Объединенные Арабские Эмираты | Q9: الإمارات العربية المتحدة | T9: ARE | U9: Arabic | X9: Template
A10: Trends in basic WASH in schools | B10: Tendencias en WASH básico en las escuelas | C10: Tendances : services de base WASH en milieu scolaire | D10: Тенденции в базовых уровнях WASH в школах | E10: الاتجاهات الأساسية في مجال المياه والصرف الصحي والنظافة الصحية في المدارس | I10: Buttons | L10: ARG | M10: Argentina | N10: Argentine | O10: Argentina | P10: Аргентина | Q10: الأرجنتين | T10: ARG | U10: Spanish | W10: countryname | X10: IF($G$4="English",VLOOKUP($G$8,Key!$L$2:$S$247,2,FALSE),IF($G$4="Spanish",VLOOKUP($G$8,Key!$L$2:$S$247,4,FALSE),IF($G$4="French",VLOOKUP($G$8,Key!$L$2:$S$247,3,FALSE),IF($G$4="Russian",VLOOKUP($G$8,Key!$L$2:$S$247,5,FALSE),IF($G$4="Arabic",VLOOKUP($G$8,Key!$L$2:$S$247,5,FALSE),IF($G$4="Chinese",VLOOKUP($G$8,Key!$L$2:$S$247,6,FALSE),IF($G$4="Other",VLOOKUP($G$8,Key!$L$2:$S$247,7,FALSE))))))))
A11: Estimates (2000-2025) for schools | B11: Estimaciones (2000-2025) para las escuelas | C11: Estimations (2000-2025) en milieu scolaire | D11: Расчётные оценки (2000-2025 гг.) для школ | E11: تقديرات (2000 - 2025) للمدارس | I11: =HLOOKUP(Introduction!$G$4,nametranslations,18,FALSE) -> Notes on how to read the country file | L11: ARM | M11: Armenia | N11: Arménie | O11: Armenia | P11: Армения | Q11: أرمينيا | T11: ARM | U11: English
A12: Data inputs: | B12: Entradas de datos: | C12: Entrées de données : | D12: Наборы входных данных: | E12: مدخلات البيانات: | I12: =HLOOKUP(Introduction!$G$4,nametranslations,24,FALSE) -> Total | L12: ASM | M12: American Samoa | N12: Samoa américaines | O12: Samoa Americana | P12: Американское Самоа | Q12: ساموا الأمريكية | T12: ASM | U12: English | W12: iso3 | X12: MID(A2,A3+1,3) | Z12: where A2=cell("filename") | AC12: A3=FIND("~",SUBSTITUTE(A2,"_","~",3)) | AH12: {=MID(CELL("filename"),FIND("~",SUBSTITUTE(CELL("filename"),"_","~",3))+1,3)} -> LBR
A13: Data summary | B13: Resumen de datos | C13: Résumé des données | D13: Перечень данных | E13: ملخص البيانات | I13: =HLOOKUP(Introduction!$G$4,nametranslations,25,FALSE) -> Rural | L13: ATF | M13: French Southern Territories | N13: Terres australes françaises | O13: Territorio de las Tierras Australes Francesas | P13: Южные земли (французская заморская территория) | Q13: الأراضي الفرنسية الجنوبية الجنوبية | T13: ATF | U13: French
A14: Water Data | B14: Datos de agua | C14: Données sur l'eau | D14: Данные о водоснабжении | E14: بيانات المياه | I14: =HLOOKUP(Introduction!$G$4,nametranslations,26,FALSE) -> Urban | L14: ATG | M14: Antigua and Barbuda | N14: Antigua-et-Barbuda | O14: Antigua y Barbuda | P14: Антигуа и Барбуда | Q14: أنتيغوا وبربودا | T14: ATG | U14: English
A15: Sanitation Data | B15: Datos de saneamiento | C15: Données sur l'assainissement | D15: Данные о санитарии | E15: بيانات الصرف الصحي | I15: =HLOOKUP(Introduction!$G$4,nametranslations,27,FALSE) -> Pre-primary | L15: AUS | M15: Australia | N15: Australie | O15: Australia | P15: Австралия | Q15: أستراليا | T15: AUS | U15: English
A16: Hygiene Data | B16: Datos de higiene | C16: Données sur l'hygiène | D16: Данные о средствах гигиены | E16: بيانات النظافة | I16: =HLOOKUP(Introduction!$G$4,nametranslations,28,FALSE) -> Primary | L16: AUT | M16: Austria | N16: Autriche | O16: Austria | P16: Австрия | Q16: النمسا | T16: AUT | U16: English
A17: Population Data | B17: Datos de población | C17: Données démographiques | D17: Данные о численности населения | E17: بيانات السكان | I17: =HLOOKUP(Introduction!$G$4,nametranslations,29,FALSE) -> Secondary | L17: AZE | M17: Azerbaijan | N17: Azerbaïdjan | O17: Azerbaiyán | P17: Азербайджан | Q17: أذربيجان | T17: AZE | U17: English
A18: Notes on how to read the country file | B18: Notas sobre cómo leer el archivo de país | C18: Notes sur la façon de lire le fichier pays | D18: Заметки о том, как читать страновой файл | E18: ملاحظات حول كيفية قراءة ملف الدولة | L18: BDI | M18: Burundi | N18: Burundi | O18: Burundi | P18: Бурунди | Q18: بوروندي | T18: BDI | U18: French
A19: Ladders tab glossary (if not already translated above) | L19: BEL | M19: Belgium | N19: Belgique | O19: Bélgica | P19: Бельгия | Q19: بلجيكا | T19: BEL | U19: French
A20: Water, sanitation and hygiene ladders for schools | B20: Escaleras de agua, saneamiento e higiene para las escuelas | C20: Echelles d'eau, d'assainissement et d'hygiène en milieu scolaire | D20: Иерархические лестницы услуг водоснабжения и санитарии и обеспеченности средствами гигиены для школ | E20: سلالم المياه والصرف الصحي والنظافة للمدارس | L20: BEN | M20: Benin | N20: Bénin | O20: Benin | P20: Бенин | Q20: بنن | T20: BEN | U20: French
A21: Water | B21: Agua | C21: Eau | D21: Водоснабжение | E21: ماء | L21: BES | M21: Bonaire, Sint Eustatius and Saba | N21: Bonaire, Saint-Eustache et Saba | O21: Bonaire, San Eustaquio y Saba | P21: Бонайре, Синт-Эстатиус и Саба | Q21: بونير وسانت يوستاشيوس وسابا | T21: BES | U21: English
A22: Sanitation | B22: Saneamiento | C22: Assainissement | D22: Санитария | E22: الصرف الصحي | L22: BFA | M22: Burkina Faso | N22: Burkina Faso | O22: Burkina Faso | P22: Буркина-Фасо | Q22: بوركينا فاسو | T22: BFA | U22: French
A23: Hygiene | B23: Higiene | C23: Hygiène | D23: Гигиена | E23: صحة | L23: BGD | M23: Bangladesh | N23: Bangladesh | O23: Bangladesh | P23: Бангладеш | Q23: بنغلاديش | T23: BGD | U23: English
A24: Total | B24: Total | C24: Total | D24: Во всей стране | E24: المجموع | I24: Chart titles/ladders | L24: BGR | M24: Bulgaria | N24: Bulgarie | O24: Bulgaria | P24: Болгария | Q24: بلغاريا | T24: BGR | U24: English
A25: Rural | B25: Rural | C25: Rural | D25: Сельские | E25: ريفي | I25: =HLOOKUP(Introduction!$G$4,nametranslations,36,FALSE) -> Proportion of Schools (%) | L25: BHR | M25: Bahrain | N25: Bahreïn | O25: Bahrein | P25: Бахрейн | Q25: البحرين | T25: BHR | U25: Arabic
A26: Urban | B26: Urbano | C26: Urbain | D26: Городские | E26: الحضاري | I26: Total | L26: BHS | M26: Bahamas | N26: Bahamas | O26: Bahamas | P26: Багамские Острова | Q26: جزر البهاما | T26: BHS | U26: English
A27: Pre-primary | B27: Preprimaria | C27: Pré-primaire | D27: Дошкольные учреждения | E27: المرحلة الابتدائية | I27: =HLOOKUP(Introduction!$G$4,nametranslations,25,FALSE) -> Rural | L27: BIH | M27: Bosnia and Herzegovina | N27: Bosnie-Herzégovine | O27: Bosnia y Herzegovina | P27: Босния и Герцеговина | Q27: البوسنة والهرسك | T27: BIH | U27: English
A28: Primary | B28: Primaria | C28: Primaire | D28: Начальные | E28: خبرات | I28: =HLOOKUP(Introduction!$G$4,nametranslations,26,FALSE) -> Urban | L28: BLM | M28: Saint Barthélemy | N28: Saint-Barthélemy | O28: San Barthélemy | P28: Сен-Бартелеми | Q28: سان بارتليمي | T28: BLM | U28: French
A29: Secondary | B29: Secundaria | C29: Secondaire | D29: Средние | E29: ثانوي | I29: =HLOOKUP(Introduction!$G$4,nametranslations,27,FALSE) -> Pre-primary | L29: BLR | M29: Belarus | N29: Bélarus | O29: Belarús | P29: Беларусь | Q29: بيلاروس | T29: BLR | U29: English
A30: Basic service | B30: Servicio básico | C30: Service de base | D30: Базовый уровень услуг | E30: الخدمة الأساسية | I30: =HLOOKUP(Introduction!$G$4,nametranslations,28,FALSE) -> Primary | L30: BLZ | M30: Belize | N30: Belize | O30: Belice | P30: Белиз | Q30: بليز | T30: BLZ | U30: English
A31: Limited service | B31: Servicio limitado | C31: Service limité | D31: Ограниченный уровень | E31: خدمة محدودة | I31: =HLOOKUP(Introduction!$G$4,nametranslations,29,FALSE) -> Secondary | L31: BMU | M31: Bermuda | N31: Bermudes | O31: Bermuda | P31: Бермудские острова | Q31: برمودا | T31: BMU | U31: English
A32: No service | B32: Sin servicio | C32: Pas de service | D32: Отсутствие услуг | E32: لاتوجد خدمة | L32: BOL | M32: Bolivia (Plurinational State of) | N32: Bolivie (État plurinational de) | O32: Bolivia (Estado Plurinacional de) | P32: Боливия (Многонациональное Государство) | Q32: بوليفيا (دولة - المتعددة القوميات) | T32: BOL | U32: Spanish
A33: Insufficient data | B33: Datos insuficientes | C33: Données insuffisantes | D33: Недостаточно данных | E33: البيانات غير كافية | L33: BRA | M33: Brazil | N33: Brésil | O33: Brasil | P33: Бразилия | Q33: البرازيل | T33: BRA | U33: English
A34: Source: WHO/UNICEF JMP (2026) | B34: Fuente: OMS/UNICEF JMP (2026) | C34: Source : OMS/UNICEF JMP (2026) | D34: Источник: СПМ ВОЗ/ЮНИСЕФ (2026 г.) | E34: المصدر: WHO/UNICEF JMP (2024) | L34: BRB | M34: Barbados | N34: Barbade | O34: Barbados | P34: Барбадос | Q34: بربادوس | T34: BRB | U34: English
A35: No basic service estimate available | B35: No hay estimaciones de servicio básico disponible | C35: Aucune estimation de service de base disponible | D35: Оценок базового уровня услуг нет | E35: لا يتوفر تقدير الخدمة الأساسية | L35: BRN | M35: Brunei Darussalam | N35: Brunéi Darussalam | O35: Brunei Darussalam | P35: Бруней-Даруссалам | Q35: بروني دار السلام | T35: BRN | U35: English
A36: Proportion of Schools (%) | B36: Proporción de escuelas (%) | C36: Proportion des écoles (%) | D36: Доля школ (%) | E36: نسبة المدارس (٪) | L36: BTN | M36: Bhutan | N36: Bhoutan | O36: Bhután | P36: Бутан | Q36: بوتان | T36: BTN | U36: English
A37: Charts tab glossary (if not already translated above) | L37: BWA | M37: Botswana | N37: Botswana | O37: Botswana | P37: Ботсвана | Q37: بوتسوانا | T37: BWA | U37: English
A38: Water, sanitation and hygiene services in schools | B38: Servicios de agua, saneamiento e higiene en las escuelas | C38: Services d'eau, d'assainissement et d'hygiène en milieu scolaire | D38: Услуги водоснабжения и санитарии и обеспеченность средствами гигиены в школах | E38: خدمات المياه والصرف الصحي والنظافة في المدارس | L38: CAF | M38: Central African Republic | N38: République centrafricaine | O38: República Centroafricana | P38: Центральноафриканская Республика | Q38: جمهورية أفريقيا الوسطى | T38: CAF | U38: French
A39: Water: total | B39: Agua: total | C39: Eau : total | D39: Вода: всего | E39: الماء: المجموع | L39: CAN | M39: Canada | N39: Canada | O39: Canadá | P39: Канада | Q39: كندا | T39: CAN | U39: English
A40: Water: urban | B40: Agua: urbano | C40: Eau : urbain | D40: Водоснабжение: городские | E40: المياه: حضرية | L40: CCK | M40: Cocos (Keeling) Islands | N40: Îles des Cocos (Keeling) | O40: Islas Cocos (Keeling) | P40: Кокосовых (Килинг) островов | Q40: جزر كوكس (كيلينغ) | T40: CCK | U40: English
...

Sheet Introduction
G3: Choose language
C4: =HLOOKUP(Introduction!$G$4,Key!A:G,3,FALSE) -> Joint Monitoring Programme for Water Supply, Sanitation and Hygiene | G4: =+VLOOKUP(Introduction!$G$8,ISO3language,2,FALSE) -> English
C6: =HLOOKUP(Introduction!$G$4,Key!A:G,4,FALSE) -> Estimates on water, sanitation, hygiene in schools
C7: =IF($G$4="English",VLOOKUP($G$8,Key!$L$2:$S$247,2,FALSE),IF($G$4="Spanish",VLOOKUP($G$8,Key!$L$2:$S$247,4,FALSE),IF($G$4="French",VLOOKUP($G$8,Key!$L$2:$S$247,3,FALSE),IF($G$4="Russian",VLOOKUP($G$8,Key!$L$2:$S$247,5,FALSE),IF($G$4="Arabic",VLOOKUP($G$8,Key!$L$2:$S$247,6,FALSE),IF($G$4="Other",VLOOKUP($G$8,Key!$L$2:$S$247,7,FALSE))))))) -> Liberia | G7: ISO3 CODE
G8: LBR
C9: =HLOOKUP(Introduction!$G$4,Key!A:G,6,FALSE) -> Updated September 2026
C11: =HLOOKUP(Introduction!$G$4,Key!A:G,7,FALSE) -> Follow the links below to find the following information:
C13: =HLOOKUP(Introduction!$G$4,Key!A:G,8,FALSE) -> JMP Estimates:
C14: =HLOOKUP(Introduction!$G$4,Key!A:G,9,FALSE) -> WASH ladders for schools
C15: =HLOOKUP(Introduction!$G$4,Key!A:G,10,FALSE) -> Trends in basic WASH in schools
C16: =HLOOKUP(Introduction!$G$4,Key!A:G,11,FALSE) -> Estimates (2000-2025) for schools
C18: =HLOOKUP(Introduction!$G$4,Key!A:G,12,FALSE) -> Data inputs:
C19: =HLOOKUP(Introduction!$G$4,Key!A:G,13,FALSE) -> Data summary
C20: =HLOOKUP(Introduction!$G$4,Key!A:G,14,FALSE) -> Water Data
C21: =HLOOKUP(Introduction!$G$4,Key!A:G,15,FALSE) -> Sanitation Data
C22: =HLOOKUP(Introduction!$G$4,Key!A:G,16,FALSE) -> Hygiene Data
C23: =HLOOKUP(Introduction!$G$4,Key!A:G,17,FALSE) -> Population Data
L46: =+IF(ISNUMBER(M39), "", "Insufficient data to estimate safely managed sanitation services at national level") -> Insufficient data to estimate safely managed sanitation services at national level

Sheet Regressions
A1: Ladders
A2: Drinking water | J2: Sanitation | S2: Hygiene
B3: Year | C3: National | D3: Rural | E3: Urban | F3: Pre-Primary | G3: Primary | H3: Secondary | K3: Year | L3: National | M3: Rural | N3: Urban | O3: Pre-Primary | P3: Primary | Q3: Secondary | T3: Year | U3: National | V3: Rural | W3: Urban | X3: Pre-Primary | Y3: Primary | Z3: Secondary
A4: Basic service | B4: 2022 | C4: 50.06698 | G4: 41.129947 | H4: 64.81037 | J4: Basic service | K4: 2022 | L4: 26.789051 | P4: 23.785937 | Q4: 34.659016 | S4: Basic service | T4: 2025 | U4: 13.793184 | Y4: 0.535885 | Z4: 3.9074457
A5: Limited service | B5: 2022 | C5: 11.781131 | G5: 0 | H5: 14.70191 | J5: Limited service | K5: 2022 | L5: 37.094656 | P5: 36.887913 | Q5: 43.835589 | S5: Limited service | T5: 2025
A6: No service | B6: 2022 | C6: 38.151889 | F6: 33.1 | G6: 58.870053 | H6: 20.48772 | J6: No service | K6: 2022 | L6: 36.116294 | O6: 33.1 | P6: 39.32615 | Q6: 21.505395 | S6: No service | T6: 2025
A7: Insufficient data | B7: 2022 | C7: 0 | D7: 100 | E7: 100 | F7: 66.9 | G7: 0 | H7: 0 | J7: Insufficient data | K7: 2022 | L7: 0 | M7: 100 | N7: 100 | O7: 66.9 | P7: 0 | Q7: 0 | S7: Insufficient data | T7: 2025 | U7: 86.206816 | V7: 100 | W7: 100 | X7: 100 | Y7: 99.464115 | Z7: 96.092554
A12: Estimates (based on data summary tab)
A13: country | B13: year | C13: setting | D13: pop_ | E13: wat_fac_ | F13: wat_imp_ | G13: wat_bas_ | H13: wat_lim_ | I13: wat_none_ | J13: wat_nd_ | K13: san_fac_ | L13: san_imp_ | M13: san_bas_ | N13: san_lim_ | O13: san_none_ | P13: san_nd_ | Q13: hyg_fac_ | R13: hyg_wat_ | S13: hyg_bas_ | T13: hyg_lim_ | U13: hyg_none_ | V13: hyg_nd_
A14: Liberia | B14: 2000 | C14: National | D14: 1120837 | J14: 100 | P14: 100 | V14: 100
A15: Liberia | B15: 2001 | C15: National | D15: 1149791 | J15: 100 | P15: 100 | V15: 100
A16: Liberia | B16: 2002 | C16: National | D16: 1184465 | J16: 100 | P16: 100 | V16: 100
A17: Liberia | B17: 2003 | C17: National | D17: 1209309 | J17: 100 | P17: 100 | V17: 100
A18: Liberia | B18: 2004 | C18: National | D18: 1203749 | J18: 100 | P18: 100 | V18: 100
A19: Liberia | B19: 2005 | C19: National | D19: 1238814 | J19: 100 | P19: 100 | V19: 100
A20: Liberia | B20: 2006 | C20: National | D20: 1314821 | F20: 56.470519 | I20: 43.529481 | J20: 56.470519 | P20: 100 | V20: 100
A21: Liberia | B21: 2007 | C21: National | D21: 1384797 | E21: 58.924624 | F21: 56.470519 | I21: 43.529481 | J21: 56.470519 | K21: 69.155273 | P21: 100 | V21: 100
A22: Liberia | B22: 2008 | C22: National | D22: 1453552 | E22: 58.924624 | F22: 56.470519 | G22: 50.06698 | H22: 6.4035385 | I22: 43.529481 | J22: 0 | K22: 69.155273 | L22: 69.155273 | M22: 26.789051 | N22: 42.366222 | O22: 30.844727 | P22: 0 | V22: 100
A23: Liberia | B23: 2009 | C23: National | D23: 1503353 | E23: 58.924624 | F23: 56.470519 | G23: 50.06698 | H23: 6.4035385 | I23: 43.529481 | J23: 0 | K23: 69.155273 | L23: 69.155273 | M23: 26.789051 | N23: 42.366222 | O23: 30.844727 | P23: 0 | V23: 100
A24: Liberia | B24: 2010 | C24: National | D24: 1554117 | E24: 58.924624 | F24: 56.470519 | G24: 50.06698 | H24: 6.4035385 | I24: 43.529481 | J24: 0 | K24: 69.155273 | L24: 69.155273 | M24: 26.789051 | N24: 42.366222 | O24: 30.844727 | P24: 0 | S24: 87.510045 | V24: 12.489955
A25: Liberia | B25: 2011 | C25: National | D25: 1606335 | E25: 58.924624 | F25: 56.918652 | G25: 50.06698 | H25: 6.8516712 | I25: 43.081348 | J25: 0 | K25: 69.155273 | L25: 69.155273 | M25: 26.789051 | N25: 42.366222 | O25: 30.844727 | P25: 0 | S25: 87.510045 | V25: 12.489955
A26: Liberia | B26: 2012 | C26: National | D26: 1668429 | E26: 59.876153 | F26: 57.366784 | G26: 50.06698 | H26: 7.2998039 | I26: 42.633216 | J26: 0 | K26: 70.313789 | L26: 69.303727 | M26: 26.789051 | N26: 42.514677 | O26: 30.696273 | P26: 0 | Q26: 87.99924 | R26: 85.38123 | S26: 85.38123 | T26: 0 | U26: 14.61877 | V26: 0
A27: Liberia | B27: 2013 | C27: National | D27: 1714364 | E27: 60.827682 | F27: 57.814917 | G27: 50.06698 | H27: 7.7479366 | I27: 42.185083 | J27: 0 | K27: 71.472305 | L27: 68.761725 | M27: 26.789051 | N27: 41.972675 | O27: 31.238275 | P27: 0 | Q27: 87.99924 | R27: 85.38123 | S27: 85.38123 | T27: 0 | U27: 14.61877 | V27: 0
A28: Liberia | B28: 2014 | C28: National | D28: 1759913 | E28: 61.77921 | F28: 58.26305 | G28: 50.06698 | H28: 8.1960693 | I28: 41.73695 | J28: 0 | K28: 72.630822 | L28: 68.219723 | M28: 26.789051 | N28: 41.430673 | O28: 31.780277 | P28: 0 | Q28: 87.99924 | R28: 85.38123 | S28: 85.38123 | T28: 0 | U28: 14.61877 | V28: 0
A29: Liberia | B29: 2015 | C29: National | D29: 1803599 | E29: 62.730739 | F29: 58.711182 | G29: 50.06698 | H29: 8.644202 | I29: 41.288818 | J29: 0 | K29: 73.789338 | L29: 67.677721 | M29: 26.789051 | N29: 40.88867 | O29: 32.322279 | P29: 0 | Q29: 87.99924 | R29: 85.38123 | S29: 78.295438 | T29: 7.0857924 | U29: 14.61877 | V29: 0
A30: Liberia | B30: 2016 | C30: National | D30: 1851383 | E30: 63.682267 | F30: 59.159315 | G30: 50.06698 | H30: 9.0923347 | I30: 40.840685 | J30: 0 | K30: 74.947855 | L30: 67.135719 | M30: 26.789051 | N30: 40.346668 | O30: 32.864281 | P30: 0 | Q30: 87.99924 | R30: 85.38123 | S30: 69.08083 | T30: 16.3004 | U30: 14.61877 | V30: 0
A31: Liberia | B31: 2017 | C31: National | D31: 1893926 | E31: 64.633796 | F31: 59.607448 | G31: 50.06698 | H31: 9.5404674 | I31: 40.392552 | J31: 0 | K31: 76.106371 | L31: 66.593717 | M31: 26.789051 | N31: 39.804666 | O31: 33.406283 | P31: 0 | Q31: 87.99924 | R31: 85.38123 | S31: 59.866222 | T31: 25.515008 | U31: 14.61877 | V31: 0
A32: Liberia | B32: 2018 | C32: National | D32: 1932766 | E32: 65.585325 | F32: 60.05558 | G32: 50.06698 | H32: 9.9886001 | I32: 39.94442 | J32: 0 | K32: 77.264887 | L32: 66.051715 | M32: 26.789051 | N32: 39.262664 | O32: 33.948285 | P32: 0 | Q32: 87.99924 | R32: 85.38123 | S32: 50.651615 | T32: 34.729615 | U32: 14.61877 | V32: 0
A33: Liberia | B33: 2019 | C33: National | D33: 1968674 | E33: 66.536853 | F33: 60.503713 | G33: 50.06698 | H33: 10.436733 | I33: 39.496287 | J33: 0 | K33: 78.423404 | L33: 65.509713 | M33: 26.789051 | N33: 38.720662 | O33: 34.490287 | P33: 0 | Q33: 87.99924 | R33: 85.38123 | S33: 41.437007 | T33: 43.944223 | U33: 14.61877 | V33: 0
A34: Liberia | B34: 2020 | C34: National | D34: 2003607 | E34: 67.488382 | F34: 60.951846 | G34: 50.06698 | H34: 10.884865 | I34: 39.048154 | J34: 0 | K34: 79.58192 | L34: 64.96771 | M34: 26.789051 | N34: 38.17866 | O34: 35.03229 | P34: 0 | Q34: 87.99924 | R34: 85.38123 | S34: 32.2224 | T34: 53.15883 | U34: 14.61877 | V34: 0
A35: Liberia | B35: 2021 | C35: National | D35: 2038060 | E35: 68.439911 | F35: 61.399979 | G35: 50.06698 | H35: 11.332998 | I35: 38.600021 | J35: 0 | K35: 80.740437 | L35: 64.425708 | M35: 26.789051 | N35: 37.636658 | O35: 35.574292 | P35: 0 | S35: 23.007792 | V35: 76.992208
A36: Liberia | B36: 2022 | C36: National | D36: 2070538 | E36: 69.391439 | F36: 61.848111 | G36: 50.06698 | H36: 11.781131 | I36: 38.151889 | J36: 0 | K36: 81.898953 | L36: 63.883706 | M36: 26.789051 | N36: 37.094656 | O36: 36.116294 | P36: 0 | S36: 13.793184 | V36: 86.206816
A37: Liberia | B37: 2023 | C37: National | D37: 2100634 | E37: 70.342968 | F37: 62.296244 | I37: 37.703756 | J37: 62.296244 | K37: 83.05747 | L37: 63.341704 | O37: 36.658296 | P37: 63.341704 | S37: 13.793184 | V37: 86.206816
A38: Liberia | B38: 2024 | C38: National | D38: 2194901 | E38: 71.294497 | F38: 62.744377 | I38: 37.255623 | J38: 62.744377 | K38: 84.215986 | L38: 62.799702 | O38: 37.200298 | P38: 62.799702 | S38: 13.793184 | V38: 86.206816
A39: Liberia | B39: 2025 | C39: National | D39: 2241394 | E39: 71.294497 | F39: 62.744377 | I39: 37.255623 | J39: 62.744377 | K39: 84.215986 | L39: 62.799702 | O39: 37.200298 | P39: 62.799702 | S39: 13.793184 | V39: 86.206816
A40: Liberia | B40: 2026 | C40: National | E40: 71.294497 | F40: 62.744377 | I40: 37.255623 | J40: 62.744377 | K40: 84.215986 | L40: 62.799702 | O40: 37.200298 | P40: 62.799702 | S40: 13.793184 | V40: 86.206816
A41: Liberia | B41: 2027 | C41: National | E41: 71.294497 | F41: 62.744377 | I41: 37.255623 | J41: 62.744377 | K41: 84.215986 | L41: 62.799702 | O41: 37.200298 | P41: 62.799702 | V41: 100
A42: Liberia | B42: 2028 | C42: National | E42: 71.294497 | F42: 62.744377 | I42: 37.255623 | J42: 62.744377 | K42: 84.215986 | L42: 62.799702 | O42: 37.200298 | P42: 62.799702 | V42: 100
A43: Liberia | B43: 2029 | C43: National | J43: 100 | P43: 100 | V43: 100
A44: Liberia | B44: 2030 | C44: National | J44: 100 | P44: 100 | V44: 100
...

Sheet Ladders
A1: =HLOOKUP(Introduction!$G$4,nametranslations,20,FALSE) -> Water, sanitation and hygiene ladders for schools | B1: =HLOOKUP([1]Introduction!$G$4,nametranslations,5,FALSE) -> Liberia | C1: =HLOOKUP([1]Introduction!$G$4,nametranslations,5,FALSE) -> Liberia | D1: =HLOOKUP([1]Introduction!$G$4,nametranslations,5,FALSE) -> Liberia | E1: =HLOOKUP([1]Introduction!$G$4,nametranslations,5,FALSE) -> Liberia | F1: =HLOOKUP([1]Introduction!$G$4,nametranslations,5,FALSE) -> Liberia | G1: =HLOOKUP([1]Introduction!$G$4,nametranslations,5,FALSE) -> Liberia | H1: =HLOOKUP([1]Introduction!$G$4,nametranslations,5,FALSE) -> Liberia | I1: =HLOOKUP([1]Introduction!$G$4,nametranslations,5,FALSE) -> Liberia | ... V1: =HLOOKUP([1]Introduction!$G$4,nametranslations,5,FALSE) -> Liberia
A2: =HLOOKUP([1]Introduction!$G$4,nametranslations,5,FALSE) -> Liberia | B2: =HLOOKUP([1]Introduction!$G$4,nametranslations,5,FALSE) -> Liberia | C2: =HLOOKUP([1]Introduction!$G$4,nametranslations,5,FALSE) -> Liberia | D2: =HLOOKUP([1]Introduction!$G$4,nametranslations,5,FALSE) -> Liberia | E2: =HLOOKUP([1]Introduction!$G$4,nametranslations,5,FALSE) -> Liberia | F2: =HLOOKUP([1]Introduction!$G$4,nametranslations,5,FALSE) -> Liberia | G2: =HLOOKUP([1]Introduction!$G$4,nametranslations,5,FALSE) -> Liberia | H2: =HLOOKUP([1]Introduction!$G$4,nametranslations,5,FALSE) -> Liberia | ... V2: =HLOOKUP([1]Introduction!$G$4,nametranslations,5,FALSE) -> Liberia
B4: =HLOOKUP(Introduction!$G$4,nametranslations,85,FALSE) -> Drinking Water | I4: =HLOOKUP(Introduction!$G$4,nametranslations,22,FALSE) -> Sanitation | P4: =HLOOKUP(Introduction!$G$4,nametranslations,23,FALSE) -> Hygiene
C25: =+IF(OR((C28=Key!$I$26&"*"),(D28=Key!$I$28&"*"),(E28=Key!$I$27&"*"),(F28=Key!$I$29&"*"),(G28=Key!$I$30&"*"),(H28=Key!$I$31&"*"),(C28=Key!$I$26&"*^"),(D28=Key!$I$28&"*^"),(E28=Key!$I$27&"*^"),(F28="*^"),(G28=Key!$I$30&"*^"),(H28=Key!$I$31&"*^")),"*"&HLOOKUP(Introduction!$G$4,nametranslations,35,FALSE),"") -> *No basic service estimate available | J25: =+IF(OR((J28=Key!$I$26&"*"),(K28=Key!$I$28&"*"),(L28=Key!$I$27&"*"),(M28=Key!$I$29&"*"),(N28=Key!$I$30&"*"),(O28=Key!$I$31&"*"),(J28=Key!$I$26&"*^"),(K28=Key!$I$28&"*^"),(L28=Key!$I$27&"*^"),(M28="*^"),(N28=Key!$I$30&"*^"),(O28=Key!$I$31&"*^")),"*"&HLOOKUP(Introduction!$G$4,nametranslations,35,FALSE),"") -> *No basic service estimate available | Q25: =+IF(OR((Q28=Key!$I$26&"*"),(R28=Key!$I$28&"*"),(S28=Key!$I$27&"*"),(T28=Key!$I$29&"*"),(U28=Key!$I$30&"*"),(V28=Key!$I$31&"*"),(Q28=Key!$I$26&"*^"),(R28=Key!$I$28&"*^"),(S28=Key!$I$27&"*^"),(T28="*^"),(U28=Key!$I$30&"*^"),(V28=Key!$I$31&"*^")),"*"&HLOOKUP(Introduction!$G$4,nametranslations,35,FALSE),"") -> *No basic service estimate available
C26: =+IF(OR((C28=Key!$I$26&"*^"),(D28=Key!$I$28&"*^"),(E28=Key!$I$27&"*^"),(F28=Key!$I$29&"*^"),(G28=Key!$I$30&"*^"),(H28=Key!$I$31&"^")),HLOOKUP(Introduction!$G$4,nametranslations,155,FALSE),"") | J26: =+IF(OR((J28=Key!$I$26&"*^"),(K28=Key!$I$28&"*^"),(L28=Key!$I$27&"*^"),(M28=Key!$I$29&"*^"),(N28=Key!$I$30&"*^"),(O28=Key!$I$31&"^")),HLOOKUP(Introduction!$G$4,nametranslations,155,FALSE),"") | Q26: =+IF(OR((Q28=Key!$I$26&"*^"),(R28=Key!$I$28&"*^"),(S28=Key!$I$27&"*^"),(T28=Key!$I$29&"*^"),(U28=Key!$I$30&"*^"),(V28=Key!$I$31&"^")),HLOOKUP(Introduction!$G$4,nametranslations,156,FALSE),"")
B27: =+Introduction!C7 -> Liberia | C27: =HLOOKUP(Introduction!$G$4,nametranslations,21,FALSE) -> Water | D27: =HLOOKUP([1]Introduction!$G$4,nametranslations,21,FALSE) -> Water | E27: =HLOOKUP([1]Introduction!$G$4,nametranslations,21,FALSE) -> Water | F27: =HLOOKUP([1]Introduction!$G$4,nametranslations,21,FALSE) -> Water | G27: =HLOOKUP([1]Introduction!$G$4,nametranslations,21,FALSE) -> Water | H27: =HLOOKUP([1]Introduction!$G$4,nametranslations,21,FALSE) -> Water | I27: =+B27 -> Liberia | J27: =HLOOKUP(Introduction!$G$4,nametranslations,22,FALSE) -> Sanitation | K27: =HLOOKUP([1]Introduction!$G$4,nametranslations,21,FALSE) -> Water | L27: =HLOOKUP([1]Introduction!$G$4,nametranslations,21,FALSE) -> Water | M27: =HLOOKUP([1]Introduction!$G$4,nametranslations,21,FALSE) -> Water | N27: =HLOOKUP([1]Introduction!$G$4,nametranslations,21,FALSE) -> Water | O27: =HLOOKUP([1]Introduction!$G$4,nametranslations,21,FALSE) -> Water | P27: =+B27 -> Liberia | Q27: =HLOOKUP(Introduction!$G$4,nametranslations,23,FALSE) -> Hygiene | R27: =HLOOKUP([1]Introduction!$G$4,nametranslations,21,FALSE) -> Water | S27: =HLOOKUP([1]Introduction!$G$4,nametranslations,21,FALSE) -> Water | T27: =HLOOKUP([1]Introduction!$G$4,nametranslations,21,FALSE) -> Water | U27: =HLOOKUP([1]Introduction!$G$4,nametranslations,21,FALSE) -> Water | V27: =HLOOKUP([1]Introduction!$G$4,nametranslations,21,FALSE) -> Water
C28: =IF(AND(C30=0.0000000001,C31=0.0000000001,C32=0.0000000001), Key!$I$26&"*",IF(AND(C30=0.0000000001,ISNUMBER(C32)),Key!I26&"*", Key!$I$26)) -> Total | D28: =IF(AND(D30=0.0000000001,D31=0.0000000001,D32=0.0000000001), Key!$I$28&"*",IF(AND(D30=0.0000000001,ISNUMBER(D32)),Key!$I$28&"*", Key!$I$28)) -> Urban* | E28: =IF(AND(E30=0.0000000001,E31=0.0000000001,E32=0.0000000001), Key!$I$27&"*",IF(AND(E30=0.0000000001,ISNUMBER(E32)),Key!$I$27&"*", Key!$I$27)) -> Rural* | F28: =IF(AND(F30=0.0000000001,F31=0.0000000001,F32=0.0000000001), Key!$I$29&"*",IF(AND(F30=0.0000000001,ISNUMBER(F32)),Key!$I$29&"*", Key!$I$29)) -> Pre-primary* | G28: =IF(AND(G30=0.0000000001,G31=0.0000000001,G32=0.0000000001), Key!$I$30&"*",IF(AND(G30=0.0000000001,ISNUMBER(G32)),Key!$I$30&"*", Key!$I$30)) -> Primary | H28: =IF(AND(H30=0.0000000001,H31=0.0000000001,H32=0.0000000001), Key!$I$31&"*",IF(AND(H30=0.0000000001,ISNUMBER(H32)),Key!$I$31&"*", Key!$I$31)) -> Secondary | J28: =IF(AND(J30=0.0000000001,J31=0.0000000001,J32=0.0000000001), Key!$I$26&"*",IF(AND(J30=0.0000000001,ISNUMBER(J32)),Key!I26&"*", Key!$I$26)) -> Total | K28: =IF(AND(K30=0.0000000001,K31=0.0000000001,K32=0.0000000001), Key!$I$28&"*",IF(AND(K30=0.0000000001,ISNUMBER(K32)),Key!$I$28&"*", Key!$I$28)) -> Urban* | L28: =IF(AND(L30=0.0000000001,L31=0.0000000001,L32=0.0000000001), Key!$I$27&"*",IF(AND(L30=0.0000000001,ISNUMBER(L32)),Key!$I$27&"*", Key!$I$27)) -> Rural* | M28: =IF(AND(M30=0.0000000001,M31=0.0000000001,M32=0.0000000001), Key!$I$29&"*",IF(AND(M30=0.0000000001,ISNUMBER(M32)),Key!$I$29&"*", Key!$I$29)) -> Pre-primary* | N28: =IF(AND(N30=0.0000000001,N31=0.0000000001,N32=0.0000000001), Key!$I$30&"*",IF(AND(N30=0.0000000001,ISNUMBER(N32)),Key!$I$30&"*", Key!$I$30)) -> Primary | O28: =IF(AND(O30=0.0000000001,O31=0.0000000001,O32=0.0000000001), Key!$I$31&"*",IF(AND(O30=0.0000000001,ISNUMBER(O32)),Key!$I$31&"*", Key!$I$31)) -> Secondary | Q28: =IF(AND(Q30=0.0000000001,Q31=0.0000000001,Q32=0.0000000001), Key!$I$26&"*",IF(AND(Q30=0.0000000001,ISNUMBER(Q32)),Key!I26&"*", Key!$I$26)) -> Total | R28: =IF(AND(R30=0.0000000001,R31=0.0000000001,R32=0.0000000001), Key!$I$28&"*",IF(AND(R30=0.0000000001,ISNUMBER(R32)),Key!$I$28&"*", Key!$I$28)) -> Urban* | S28: =IF(AND(S30=0.0000000001,S31=0.0000000001,S32=0.0000000001), Key!$I$27&"*",IF(AND(S30=0.0000000001,ISNUMBER(S32)),Key!$I$27&"*", Key!$I$27)) -> Rural* | T28: =IF(AND(T30=0.0000000001,T31=0.0000000001,T32=0.0000000001), Key!$I$29&"*",IF(AND(T30=0.0000000001,ISNUMBER(T32)),Key!$I$29&"*", Key!$I$29)) -> Pre-primary* | U28: =IF(AND(U30=0.0000000001,U31=0.0000000001,U32=0.0000000001), Key!$I$30&"*",IF(AND(U30=0.0000000001,ISNUMBER(U32)),Key!$I$30&"*", Key!$I$30)) -> Primary | V28: =IF(AND(V30=0.0000000001,V31=0.0000000001,V32=0.0000000001), Key!$I$31&"*",IF(AND(V30=0.0000000001,ISNUMBER(V32)),Key!$I$31&"*", Key!$I$31)) -> Secondary
C29: =IF(ISNUMBER(Regressions!B4), Regressions!B4, "-") -> 2022 | D29: =C29 -> 2022 | E29: =D29 -> 2022 | F29: =E29 -> 2022 | G29: =F29 -> 2022 | H29: =F29 -> 2022 | J29: =IF(ISNUMBER(Regressions!K4), Regressions!K4, "-") -> 2022 | K29: =J29 -> 2022 | L29: =K29 -> 2022 | M29: =L29 -> 2022 | N29: =M29 -> 2022 | O29: =M29 -> 2022 | Q29: =IF(ISNUMBER(Regressions!T4), Regressions!T4, "-") -> 2025 | R29: =Q29 -> 2025 | S29: =R29 -> 2025 | T29: =S29 -> 2025 | U29: =T29 -> 2025 | V29: =T29 -> 2025
A30: =+Key!I46 -> Basic service | B30: Basic Service | C30: =IF(ISNUMBER(Regressions!C4), Regressions!C4, 0.0000000001) -> 50.06698 | D30: =IF(ISNUMBER(Regressions!D4), Regressions!D4, 0.0000000001) -> 1e-10 | E30: =IF(ISNUMBER(Regressions!E4), Regressions!E4, 0.0000000001) -> 1e-10 | F30: =IF(ISNUMBER(Regressions!F4), Regressions!F4, 0.0000000001) -> 1e-10 | G30: =IF(ISNUMBER(Regressions!G4), Regressions!G4, 0.0000000001) -> 41.129947 | H30: =IF(ISNUMBER(Regressions!H4), Regressions!H4, 0.0000000001) -> 64.81037 | I30: Basic Service | J30: =IF(ISNUMBER(Regressions!L4), Regressions!L4,0.0000000001) -> 26.789051 | K30: =IF(ISNUMBER(Regressions!M4), Regressions!M4,0.0000000001) -> 1e-10 | L30: =IF(ISNUMBER(Regressions!N4), Regressions!N4,0.0000000001) -> 1e-10 | M30: =IF(ISNUMBER(Regressions!O4), Regressions!O4,0.0000000001) -> 1e-10 | N30: =IF(ISNUMBER(Regressions!P4), Regressions!P4,0.0000000001) -> 23.785937 | O30: =IF(ISNUMBER(Regressions!Q4), Regressions!Q4,0.0000000001) -> 34.659016 | P30: Basic Service | Q30: =IF(ISNUMBER(Regressions!U4), Regressions!U4,0.0000000001) -> 13.793184 | R30: =IF(ISNUMBER(Regressions!V4), Regressions!V4,0.0000000001) -> 1e-10 | S30: =IF(ISNUMBER(Regressions!W4), Regressions!W4,0.0000000001) -> 1e-10 | T30: =IF(ISNUMBER(Regressions!X4), Regressions!X4,0.0000000001) -> 1e-10 | U30: =IF(ISNUMBER(Regressions!Y4), Regressions!Y4,0.0000000001) -> 0.535885 | V30: =IF(ISNUMBER(Regressions!Z4), Regressions!Z4,0.0000000001) -> 3.9074457
A31: =+Key!I47 -> Limited service | B31: Limited Service | C31: =IF(ISNUMBER(Regressions!C5), Regressions!C5, 0.0000000001) -> 11.781131 | D31: =IF(ISNUMBER(Regressions!D5), Regressions!D5, 0.0000000001) -> 1e-10 | E31: =IF(ISNUMBER(Regressions!E5), Regressions!E5, 0.0000000001) -> 1e-10 | F31: =IF(ISNUMBER(Regressions!F5), Regressions!F5, 0.0000000001) -> 1e-10 | G31: =IF(ISNUMBER(Regressions!G5), Regressions!G5, 0.0000000001) -> 0 | H31: =IF(ISNUMBER(Regressions!H5), Regressions!H5, 0.0000000001) -> 14.70191 | I31: Limited Service | J31: =IF(ISNUMBER(Regressions!L5), Regressions!L5,0.0000000001) -> 37.094656 | K31: =IF(ISNUMBER(Regressions!M5), Regressions!M5,0.0000000001) -> 1e-10 | L31: =IF(ISNUMBER(Regressions!N5), Regressions!N5,0.0000000001) -> 1e-10 | M31: =IF(ISNUMBER(Regressions!O5), Regressions!O5,0.0000000001) -> 1e-10 | N31: =IF(ISNUMBER(Regressions!P5), Regressions!P5,0.0000000001) -> 36.887913 | O31: =IF(ISNUMBER(Regressions!Q5), Regressions!Q5,0.0000000001) -> 43.835589 | P31: Limited Service | Q31: =IF(ISNUMBER(Regressions!U5), Regressions!U5,0.0000000001) -> 1e-10 | R31: =IF(ISNUMBER(Regressions!V5), Regressions!V5,0.0000000001) -> 1e-10 | S31: =IF(ISNUMBER(Regressions!W5), Regressions!W5,0.0000000001) -> 1e-10 | T31: =IF(ISNUMBER(Regressions!X5), Regressions!X5,0.0000000001) -> 1e-10 | U31: =IF(ISNUMBER(Regressions!Y5), Regressions!Y5,0.0000000001) -> 1e-10 | V31: =IF(ISNUMBER(Regressions!Z5), Regressions!Z5,0.0000000001) -> 1e-10
A32: =+Key!I48 -> No service | B32: No Service | C32: =IF(ISNUMBER(Regressions!C6), Regressions!C6, 0.0000000001) -> 38.151889 | D32: =IF(ISNUMBER(Regressions!D6), Regressions!D6, 0.0000000001) -> 1e-10 | E32: =IF(ISNUMBER(Regressions!E6), Regressions!E6, 0.0000000001) -> 1e-10 | F32: =IF(ISNUMBER(Regressions!F6), Regressions!F6, 0.0000000001) -> 33.1 | G32: =IF(ISNUMBER(Regressions!G6), Regressions!G6, 0.0000000001) -> 58.870053 | H32: =IF(ISNUMBER(Regressions!H6), Regressions!H6, 0.0000000001) -> 20.48772 | I32: No Service | J32: =IF(ISNUMBER(Regressions!L6), Regressions!L6,0.0000000001) -> 36.116294 | K32: =IF(ISNUMBER(Regressions!M6), Regressions!M6,0.0000000001) -> 1e-10 | L32: =IF(ISNUMBER(Regressions!N6), Regressions!N6,0.0000000001) -> 1e-10 | M32: =IF(ISNUMBER(Regressions!O6), Regressions!O6,0.0000000001) -> 33.1 | N32: =IF(ISNUMBER(Regressions!P6), Regressions!P6,0.0000000001) -> 39.32615 | O32: =IF(ISNUMBER(Regressions!Q6), Regressions!Q6,0.0000000001) -> 21.505395 | P32: No Service | Q32: =IF(ISNUMBER(Regressions!U6), Regressions!U6,0.0000000001) -> 1e-10 | R32: =IF(ISNUMBER(Regressions!V6), Regressions!V6,0.0000000001) -> 1e-10 | S32: =IF(ISNUMBER(Regressions!W6), Regressions!W6,0.0000000001) -> 1e-10 | T32: =IF(ISNUMBER(Regressions!X6), Regressions!X6,0.0000000001) -> 1e-10 | U32: =IF(ISNUMBER(Regressions!Y6), Regressions!Y6,0.0000000001) -> 1e-10 | V32: =IF(ISNUMBER(Regressions!Z6), Regressions!Z6,0.0000000001) -> 1e-10
A33: =+Key!I49 -> Insufficient data | B33: Insufficient Data | C33: =IF(ISNUMBER(Regressions!C7), Regressions!C7, 0.0000000001) -> 0 | D33: =IF(ISNUMBER(Regressions!D7), Regressions!D7, 0.0000000001) -> 100 | E33: =IF(ISNUMBER(Regressions!E7), Regressions!E7, 0.0000000001) -> 100 | F33: =IF(ISNUMBER(Regressions!F7), Regressions!F7, 0.0000000001) -> 66.9 | G33: =IF(ISNUMBER(Regressions!G7), Regressions!G7, 0.0000000001) -> 0 | H33: =IF(ISNUMBER(Regressions!H7), Regressions!H7, 0.0000000001) -> 0 | I33: Insufficient Data | J33: =IF(ISNUMBER(Regressions!L7), Regressions!L7,0.0000000001) -> 0 | K33: =IF(ISNUMBER(Regressions!M7), Regressions!M7,0.0000000001) -> 100 | L33: =IF(ISNUMBER(Regressions!N7), Regressions!N7,0.0000000001) -> 100 | M33: =IF(ISNUMBER(Regressions!O7), Regressions!O7,0.0000000001) -> 66.9 | N33: =IF(ISNUMBER(Regressions!P7), Regressions!P7,0.0000000001) -> 0 | O33: =IF(ISNUMBER(Regressions!Q7), Regressions!Q7,0.0000000001) -> 0 | P33: Insufficient Data | Q33: =IF(ISNUMBER(Regressions!U7), Regressions!U7,0.0000000001) -> 86.206816 | R33: =IF(ISNUMBER(Regressions!V7), Regressions!V7,0.0000000001) -> 100 | S33: =IF(ISNUMBER(Regressions!W7), Regressions!W7,0.0000000001) -> 100 | T33: =IF(ISNUMBER(Regressions!X7), Regressions!X7,0.0000000001) -> 100 | U33: =IF(ISNUMBER(Regressions!Y7), Regressions!Y7,0.0000000001) -> 99.464115 | V33: =IF(ISNUMBER(Regressions!Z7), Regressions!Z7,0.0000000001) -> 96.092554
B34: =HLOOKUP(Introduction!$G$4,nametranslations,34,FALSE) -> Source: WHO/UNICEF JMP (2026)
B36: =+Key!I46 -> Basic service | C36: =+HLOOKUP(Introduction!$G$4,Key!A:G,158,FALSE) -> Drinking water from an improved source and water is available at the school at the time of the survey | I36: =+Key!I46 -> Basic service | J36: =+HLOOKUP(Introduction!$G$4,Key!A:G,162,FALSE) -> Improved sanitation facilities at the school that are single-sex and usable (available, functional and private) at the time of the survey | P36: =+Key!I46 -> Basic service | Q36: =+HLOOKUP(Introduction!$G$4,Key!A:G,165,FALSE) -> Handwashing facilities with water and soap available at the school at the time of the survey
B37: =+Key!I47 -> Limited service | C37: =+HLOOKUP(Introduction!$G$4,Key!A:G,159,FALSE) -> Drinking water from an improved source but water is unavailable at the school at the time of the survey | I37: =+Key!I47 -> Limited service | J37: =+HLOOKUP(Introduction!$G$4,Key!A:G,163,FALSE) -> Improved sanitation facilities at the school that are either not single-sex or not usable at the time of the survey | P37: =+Key!I47 -> Limited service | Q37: =+HLOOKUP(Introduction!$G$4,Key!A:G,166,FALSE) -> Handwashing facilities with water but no soap available at the school at the time of the survey
B38: =+Key!I48 -> No service | C38: =+HLOOKUP(Introduction!$G$4,Key!A:G,160,FALSE) -> Drinking water from an unimproved source or no water source at the school | I38: =+Key!I48 -> No service | J38: =+HLOOKUP(Introduction!$G$4,Key!A:G,164,FALSE) -> Unimproved sanitation facilities or no sanitation facilities at the school | P38: =+Key!I48 -> No service | Q38: =+HLOOKUP(Introduction!$G$4,Key!A:G,167,FALSE) -> No handwashing facilities or no water available at the school
B39: =+Key!I49 -> Insufficient data | C39: =+HLOOKUP(Introduction!$G$4,Key!A:G,161,FALSE) -> Insufficient data available to generate estimates for a given reference year | I39: =+Key!I49 -> Insufficient data | J39: =+HLOOKUP(Introduction!$G$4,Key!A:G,161,FALSE) -> Insufficient data available to generate estimates for a given reference year | P39: =+Key!I49 -> Insufficient data | Q39: =+HLOOKUP(Introduction!$G$4,Key!A:G,161,FALSE) -> Insufficient data available to generate estimates for a given reference year

Sheet Charts
A2: =HLOOKUP(Introduction!$G$4,nametranslations,38,FALSE) -> Water, sanitation and hygiene services in schools
A23: =+HLOOKUP(Introduction!$G$4,nametranslations,34,FALSE) -> Source: WHO/UNICEF JMP (2026)
A44: =+HLOOKUP(Introduction!$G$4,nametranslations,34,FALSE) -> Source: WHO/UNICEF JMP (2026)
A65: =+HLOOKUP(Introduction!$G$4,nametranslations,34,FALSE) -> Source: WHO/UNICEF JMP (2026)

Sheet Chart Data
A1: =HLOOKUP(Introduction!$G$4,nametranslations,83,FALSE) -> Summary of data from national surveys and censuses
D2: =HLOOKUP(Introduction!$G$4,nametranslations,85,FALSE) -> Drinking Water | V2: =HLOOKUP(Introduction!$G$4,nametranslations,86,FALSE) -> Sanitation | AZ2: =HLOOKUP(Introduction!$G$4,nametranslations,87,FALSE) -> Hygiene
D3: =+Key!$A$24 -> Total | G3: =+Key!$A$26 -> Urban | J3: =+Key!$A$25 -> Rural | M3: =+Key!$A$27 -> Pre-primary | P3: =+Key!$A$28 -> Primary | S3: =+Key!$A$29 -> Secondary | V3: =+Key!$A$24 -> Total | Y3: =+Key!$A$26 -> Urban | AB3: =+Key!$A$25 -> Rural | AE3: =+Key!$A$27 -> Pre-primary | AH3: =+Key!$A$28 -> Primary | AK3: =+Key!$A$29 -> Secondary | AP3: Primary | AU3: Secondary | AZ3: =+Key!$A$24 -> Total | BC3: =+Key!$A$26 -> Urban | BF3: =+Key!$A$25 -> Rural | BI3: =+Key!$A$27 -> Pre-primary | BL3: =+Key!$A$28 -> Primary | BO3: =+Key!$A$29 -> Secondary
A4: Source | B4: =HLOOKUP(Introduction!$G$4,nametranslations,88,FALSE) -> Type | C4: Year | D4: Facility | E4: Improved | F4: Basic (Improved & available) | G4: Facility | H4: Improved | I4: Basic (Improved & available) | J4: Facility | K4: Improved | L4: Basic (Improved & available) | M4: Facility | N4: Improved | O4: Basic (Improved & available) | P4: Facility | Q4: Improved | R4: Basic (Improved & available) | S4: Facility | T4: Improved | U4: Basic (Improved & available) | V4: Facility | W4: Improved | X4: Improved & usable | Y4: Improved & single-sex | Z4: Basic (Improved, usable & single-sex) | AA4: Facility | AB4: Improved | AC4: Improved & usable | AD4: Improved & single-sex | AE4: Basic (Improved, usable & single-sex) | AF4: Facility | AG4: Improved | AH4: Improved & usable | AI4: Improved & single-sex | AJ4: Basic (Improved, usable & single-sex) | AK4: Facility | AL4: Improved | AM4: Improved & usable | AN4: Improved & single-sex | AO4: Basic (Improved, usable & single-sex) | AP4: Facility | AQ4: Improved | AR4: Improved & usable | AS4: Improved & single-sex | AT4: Basic (Improved, usable & single-sex) | AU4: Facility | AV4: Improved | AW4: Improved & usable | AX4: Improved & single-sex | AY4: Basic (Improved, usable & single-sex) | AZ4: Facility | BA4: Facility with water | BB4: Facility with water & soap | BC4: Facility | BD4: Facility with water | BE4: Facility with water & soap | BF4: Facility | BG4: Facility with water | BH4: Facility with water & soap | BI4: Facility | BJ4: Facility with water | BK4: Facility with water & soap | BL4: Facility | BM4: Facility with water | BN4: Facility with water & soap | BO4: Facility | BP4: Facility with water | BQ4: Facility with water & soap
A5: source | B5: type | C5: year | D5: w_fac_n | E5: w_imp_n | F5: w_bas_n | G5: w_fac_u | H5: w_imp_u | I5: w_bas_u | J5: w_fac_r | K5: w_imp_r | L5: w_bas_r | M5: w_fac_pp | N5: w_imp_pp | O5: w_bas_pp | P5: w_fac_p | Q5: w_imp_p | R5: w_bas_p | S5: w_fac_s | T5: w_imp_s | U5: w_bas_s | V5: s_fac_n | W5: s_imp_n | X5: s_ss_n | Y5: s_us_n | Z5: s_bas_n | AA5: s_fac_u | AB5: s_imp_u | AC5: s_ss_u | AD5: s_us_u | AE5: s_bas_u | AF5: s_fac_r | AG5: s_imp_r | AH5: s_ss_r | AI5: s_us_r | AJ5: s_bas_r | AK5: s_fac_pp | AL5: s_imp_pp | AM5: s_ss_pp | AN5: s_us_pp | AO5: s_bas_pp | AP5: s_fac_p | AQ5: s_imp_p | AR5: s_ss_p | AS5: s_us_p | AT5: s_bas_p | AU5: s_fac_s | AV5: s_imp_s | AW5: s_ss_s | AX5: s_us_s | AY5: s_bas_s | AZ5: h_fac_n | BA5: h_wat_n | BB5: h_bas_n | BC5: h_fac_u | BD5: h_wat_u | BE5: h_bas_u | BF5: h_fac_r | BG5: h_wat_r | BH5: h_bas_r | BI5: h_fac_pp | BJ5: h_wat_pp | BK5: h_bas_pp | BL5: h_fac_p | BM5: h_wat_p | BN5: h_bas_p | BO5: h_fac_s | BP5: h_wat_s | BQ5: h_bas_s
A6: =+RIGHT('Data Summary'!A6,LEN('Data Summary'!A6)-9) -> EMIS | B6: =+IF(ISTEXT('Data Summary'!B6),'Data Summary'!B6,"") -> EMIS | C6: =+VALUE('Data Summary'!C6) -> 2012 | D6: =+IF(AND(ISNUMBER('Water Data'!D4),'Data Summary'!BS6="Yes"),100-'Water Data'!D4,NA()) -> #N/A | E6: =+IF(AND(ISNUMBER('Water Data'!D6),'Data Summary'!BT6="Yes"),'Water Data'!D6,NA()) -> 57.222086 | F6: =+IF(AND(ISNUMBER('Water Data'!D9),'Data Summary'!BU6="Yes"),'Water Data'!D9,NA()) -> #N/A | G6: =+IF(AND(ISNUMBER('Water Data'!E4),'Data Summary'!BV6="Yes"),100-'Water Data'!E4,NA()) -> #N/A | H6: =+IF(AND(ISNUMBER('Water Data'!E6),'Data Summary'!BW6="Yes"),'Water Data'!E6,NA()) -> #N/A | I6: =+IF(AND(ISNUMBER('Water Data'!E9),'Data Summary'!BX6="Yes"),'Water Data'!E9,NA()) -> #N/A | J6: =+IF(AND(ISNUMBER('Water Data'!F4),'Data Summary'!BY6="Yes"),100-'Water Data'!F4,NA()) -> #N/A | K6: =+IF(AND(ISNUMBER('Water Data'!F6),'Data Summary'!BZ6="Yes"),'Water Data'!F6,NA()) -> #N/A | L6: =+IF(AND(ISNUMBER('Water Data'!F9),'Data Summary'!CA6="Yes"),'Water Data'!F9,NA()) -> #N/A | M6: =+IF(AND(ISNUMBER('Water Data'!G4),'Data Summary'!CB6="Yes"),100-'Water Data'!G4,NA()) -> #N/A | N6: =+IF(AND(ISNUMBER('Water Data'!G6),'Data Summary'!CC6="Yes"),'Water Data'!G6,NA()) -> #N/A | O6: =+IF(AND(ISNUMBER('Water Data'!G9),'Data Summary'!CD6="Yes"),'Water Data'!G9,NA()) -> #N/A | P6: =+IF(AND(ISNUMBER('Water Data'!H4),'Data Summary'!CE6="Yes"),100-'Water Data'!H4,NA()) -> #N/A | Q6: =+IF(AND(ISNUMBER('Water Data'!H6),'Data Summary'!CF6="Yes"),'Water Data'!H6,NA()) -> 56.7 | R6: =+IF(AND(ISNUMBER('Water Data'!H9),'Data Summary'!CG6="Yes"),'Water Data'!H9,NA()) -> #N/A | S6: =+IF(AND(ISNUMBER('Water Data'!I4),'Data Summary'!CH6="Yes"),100-'Water Data'!I4,NA()) -> #N/A | T6: =+IF(AND(ISNUMBER('Water Data'!I6),'Data Summary'!CI6="Yes"),'Water Data'!I6,NA()) -> 59.75 | U6: =+IF(AND(ISNUMBER('Water Data'!I9),'Data Summary'!CJ6="Yes"),'Water Data'!I9,NA()) -> #N/A | V6: =+IF(AND(ISNUMBER('Sanitation Data'!D4),'Data Summary'!CK6="Yes"),100-'Sanitation Data'!D4,NA()) -> #N/A | W6: =+IF(AND(ISNUMBER('Sanitation Data'!D6),'Data Summary'!CL6="Yes"),'Sanitation Data'!D6,NA()) -> #N/A | X6: =+IF(AND(ISNUMBER('Sanitation Data'!D10),'Data Summary'!CM6="Yes"),'Sanitation Data'!D10,NA()) -> #N/A | Y6: =+IF(AND(ISNUMBER('Sanitation Data'!D11),'Data Summary'!CN6="Yes"),'Sanitation Data'!D11,NA()) -> #N/A | Z6: =+IF(AND(ISNUMBER('Sanitation Data'!D12),'Data Summary'!CO6="Yes"),'Sanitation Data'!D12,NA()) -> #N/A | AA6: =+IF(AND(ISNUMBER('Sanitation Data'!E4),'Data Summary'!CP6="Yes"),100-'Sanitation Data'!E4,NA()) -> #N/A | AB6: =+IF(AND(ISNUMBER('Sanitation Data'!E6),'Data Summary'!CQ6="Yes"),'Sanitation Data'!E6,NA()) -> #N/A | AC6: =+IF(AND(ISNUMBER('Sanitation Data'!E10),'Data Summary'!CR6="Yes"),'Sanitation Data'!E10,NA()) -> #N/A | AD6: =+IF(AND(ISNUMBER('Sanitation Data'!E11),'Data Summary'!CS6="Yes"),'Sanitation Data'!E11,NA()) -> #N/A | AE6: =+IF(AND(ISNUMBER('Sanitation Data'!E12),'Data Summary'!CT6="Yes"),'Sanitation Data'!E12,NA()) -> #N/A | AF6: =+IF(AND(ISNUMBER('Sanitation Data'!F4),'Data Summary'!CU6="Yes"),100-'Sanitation Data'!F4,NA()) -> #N/A | AG6: =+IF(AND(ISNUMBER('Sanitation Data'!F6),'Data Summary'!CV6="Yes"),'Sanitation Data'!F6,NA()) -> #N/A | AH6: =+IF(AND(ISNUMBER('Sanitation Data'!F10),'Data Summary'!CW6="Yes"),'Sanitation Data'!F10,NA()) -> #N/A | AI6: =+IF(AND(ISNUMBER('Sanitation Data'!F11),'Data Summary'!CX6="Yes"),'Sanitation Data'!F11,NA()) -> #N/A | AJ6: =+IF(AND(ISNUMBER('Sanitation Data'!F12),'Data Summary'!CY6="Yes"),'Sanitation Data'!F12,NA()) -> #N/A | AK6: =+IF(AND(ISNUMBER('Sanitation Data'!G4),'Data Summary'!CZ6="Yes"),100-'Sanitation Data'!G4,NA()) -> #N/A | AL6: =+IF(AND(ISNUMBER('Sanitation Data'!G6),'Data Summary'!DA6="Yes"),'Sanitation Data'!G6,NA()) -> #N/A | AM6: =+IF(AND(ISNUMBER('Sanitation Data'!G10),'Data Summary'!DB6="Yes"),'Sanitation Data'!G10,NA()) -> #N/A | AN6: =+IF(AND(ISNUMBER('Sanitation Data'!G11),'Data Summary'!DC6="Yes"),'Sanitation Data'!G11,NA()) -> #N/A | AO6: =+IF(AND(ISNUMBER('Sanitation Data'!G12),'Data Summary'!DD6="Yes"),'Sanitation Data'!G12,NA()) -> #N/A | AP6: =+IF(AND(ISNUMBER('Sanitation Data'!H4),'Data Summary'!DE6="Yes"),100-'Sanitation Data'!H4,NA()) -> #N/A | AQ6: =+IF(AND(ISNUMBER('Sanitation Data'!H6),'Data Summary'!DF6="Yes"),'Sanitation Data'!H6,NA()) -> #N/A | AR6: =+IF(AND(ISNUMBER('Sanitation Data'!H10),'Data Summary'!DG6="Yes"),'Sanitation Data'!H10,NA()) -> #N/A | AS6: =+IF(AND(ISNUMBER('Sanitation Data'!H11),'Data Summary'!DH6="Yes"),'Sanitation Data'!H11,NA()) -> #N/A | AT6: =+IF(AND(ISNUMBER('Sanitation Data'!H12),'Data Summary'!DI6="Yes"),'Sanitation Data'!H12,NA()) -> #N/A | AU6: =+IF(AND(ISNUMBER('Sanitation Data'!I4),'Data Summary'!DJ6="Yes"),100-'Sanitation Data'!I4,NA()) -> #N/A | AV6: =+IF(AND(ISNUMBER('Sanitation Data'!I6),'Data Summary'!DK6="Yes"),'Sanitation Data'!I6,NA()) -> #N/A | AW6: =+IF(AND(ISNUMBER('Sanitation Data'!I10),'Data Summary'!DL6="Yes"),'Sanitation Data'!I10,NA()) -> #N/A | AX6: =+IF(AND(ISNUMBER('Sanitation Data'!I11),'Data Summary'!DM6="Yes"),'Sanitation Data'!I11,NA()) -> #N/A | AY6: =+IF(AND(ISNUMBER('Sanitation Data'!I12),'Data Summary'!DN6="Yes"),'Sanitation Data'!I12,NA()) -> #N/A | AZ6: =+IF(AND(ISNUMBER('Hygiene Data'!D5),'Data Summary'!DO6="Yes"),'Hygiene Data'!D5,NA()) -> #N/A | BA6: =+IF(AND(ISNUMBER('Hygiene Data'!D7),'Data Summary'!DP6="Yes"),'Hygiene Data'!D7,NA()) -> #N/A | BB6: =+IF(AND(ISNUMBER('Hygiene Data'!D9),'Data Summary'!DQ6="Yes"),'Hygiene Data'!D9,NA()) -> #N/A | BC6: =+IF(AND(ISNUMBER('Hygiene Data'!E5),'Data Summary'!DR6="Yes"),'Hygiene Data'!E5,NA()) -> #N/A | BD6: =+IF(AND(ISNUMBER('Hygiene Data'!E7),'Data Summary'!DS6="Yes"),'Hygiene Data'!E7,NA()) -> #N/A | BE6: =+IF(AND(ISNUMBER('Hygiene Data'!E9),'Data Summary'!DT6="Yes"),'Hygiene Data'!E9,NA()) -> #N/A | BF6: =+IF(AND(ISNUMBER('Hygiene Data'!F5),'Data Summary'!DU6="Yes"),'Hygiene Data'!F5,NA()) -> #N/A | BG6: =+IF(AND(ISNUMBER('Hygiene Data'!F7),'Data Summary'!DV6="Yes"),'Hygiene Data'!F7,NA()) -> #N/A | BH6: =+IF(AND(ISNUMBER('Hygiene Data'!F9),'Data Summary'!DW6="Yes"),'Hygiene Data'!F9,NA()) -> #N/A | BI6: =+IF(AND(ISNUMBER('Hygiene Data'!G5),'Data Summary'!DX6="Yes"),'Hygiene Data'!G5,NA()) -> #N/A | BJ6: =+IF(AND(ISNUMBER('Hygiene Data'!G7),'Data Summary'!DY6="Yes"),'Hygiene Data'!G7,NA()) -> #N/A | BK6: =+IF(AND(ISNUMBER('Hygiene Data'!G9),'Data Summary'!DZ6="Yes"),'Hygiene Data'!G9,NA()) -> #N/A | BL6: =+IF(AND(ISNUMBER('Hygiene Data'!H5),'Data Summary'!EA6="Yes"),'Hygiene Data'!H5,NA()) -> #N/A | BM6: =+IF(AND(ISNUMBER('Hygiene Data'!H7),'Data Summary'!EB6="Yes"),'Hygiene Data'!H7,NA()) -> #N/A | BN6: =+IF(AND(ISNUMBER('Hygiene Data'!H9),'Data Summary'!EC6="Yes"),'Hygiene Data'!H9,NA()) -> #N/A | BO6: =+IF(AND(ISNUMBER('Hygiene Data'!I5),'Data Summary'!ED6="Yes"),'Hygiene Data'!I5,NA()) -> #N/A | BP6: =+IF(AND(ISNUMBER('Hygiene Data'!I7),'Data Summary'!EE6="Yes"),'Hygiene Data'!I7,NA()) -> #N/A | BQ6: =+IF(AND(ISNUMBER('Hygiene Data'!I9),'Data Summary'!EF6="Yes"),'Hygiene Data'!I9,NA()) -> #N/A
